Workbook

Sheet Bemessung
A1: RICON® A2 Edelstahl Bemessungstool für Haupt-Nebenträger-Anschlüsse | I1: KNAPP®
A2: (Unverbindliche Musterbemessung) | I2: Version 2.0
I3: 43749 | K3: Eingabefelder
A4: Firma: | K4: Ergebnisse OK
A5: Bauvorhaben: | K5: Ergebnisse nicht OK
A6: Datum:
A7: Bearbeiter:
A8: Verkäufer:
A11: Anschlussdimensionierung RICON® A2 nach ETA-10/0189 (Ausgabe 11.10.2019)
A12: mit KNAPP® A2 Edelstahlschrauben nach ETA-10/0189
A14: Belastung:
A16: Eingabe der Anschlusskräfte als Bemessungswert (Design-Wert) Fd:
A18: Lastfall Kombination | B18: Mittige Zugkraft F1,d | C18: In Einschub- richtung F2,d | D18: Entgegen Einschubricht. F3,d | E18: Rechtwinklig zur Einschubrichtung F45,d | F18: KLED | G18: kmod
A19: LFK1: g | F19: =Berechnungstabellen!G4 -> ständig | G19: =VLOOKUP(F19,Berechnungstabellen!G4:J4,Bemessung!F24+1,FALSE) -> 0.6
A20: LFK2: g+s | F20: kurz | G20: =VLOOKUP(F20,Berechnungstabellen!G6:J7,Bemessung!F24+1,FALSE) -> 0.9
A21: LFK3: g+n | F21: mittel | G21: =VLOOKUP(F21,Berechnungstabellen!G5:J7,Bemessung!F24+1,FALSE) -> 0.8
A22: LFK4: g+s+wd | F22: k./ s. kurz | G22: =VLOOKUP(F22,Berechnungstabellen!G6:J87,Bemessung!F24+1,FALSE) -> 1
A23: LFK5: g+ws | F23: k./ s. kurz | G23: =VLOOKUP(F23,Berechnungstabellen!G7:J8,Bemessung!F24+1,FALSE) -> 1
E24: Nutzungsklasse: | F24: 1 | G24: =VLOOKUP(F24,Berechnungstabellen!H11:I13,2,FALSE) -> Innenräume | H24: =IF(AND(F24=3,B36=Berechnungstabellen!K17),"BauBuche ist nur für NKL 1+2 zugelassen!","")
A25: Lastfall Beschreibung: | B25: g : Eigengewicht Konstruktion s: Schnee n: Nutzlast (Verkehrslast in Gebäuden) wd: Winddruck ws: Windsog (Abhebende Dachlasten)
A27: Ausgewählter KNAPP® RICON® A2 Edelstahlverbinder:
G28: Draufsicht:
A29: Verbinderauswahl: | B29: RICON 100/30 EA A2 | C29: 1 | D29: Sperrbügel | E29: =IF(AND(D23<0,C29=0),"Bitte Sperrbügelanzahl angeben !","")
A30: Hauptträger: | B30: =B35*VLOOKUP(B29,Berechnungstabellen!A21:B32,2,FALSE) -> 2 | C30: =IF(B30=1,"A2 Senkschraube","A2 Senkschrauben") -> A2 Senkschrauben | D30: 8 | E30: 50 | I30: Nebenträger (NT)
B31: =B35*VLOOKUP(B29,Berechnungstabellen!A21:E32,5,FALSE) -> 4 | C31: A2 Senkschrauben | D31: 5 | E31: 50 | F31: Hauptträger (HT) | G31: a= 90 °
A32: Nebenträger: | B32: =B35*VLOOKUP(Bemessung!B29,Berechnungstabellen!A21:H32,8,FALSE) -> 2 | C32: =IF(B35=1,"A2 Senkschraube","A2 Senkschrauben") -> A2 Senkschraube | D32: 8 | E32: 80
B33: =B35*VLOOKUP(B29,Berechnungstabellen!A21:K32,11,FALSE) -> 4 | C33: A2 Senkschrauben | D33: 5 | E33: =E32 -> 80 | G33: Nebenträger
A34: Anschlusswinkel a = | B34: 90 | C34: =IF(B34<83,"Bitte bei Schräganschlüsse auf die Schraubenlänge im NT achten!","")
A35: Auswahl: | B35: 1 | C35: =IF(OR(B35=1,B35=2),"RICON® A2 Verbinder pro Haupt-Nebenträger-Anschluss","Bitte zwischen 1 + 2 auswählen!") -> RICON® A2 Verbinder pro Haupt-Nebenträger-Anschluss
A36: Holzqualiät: | B36: GL24h | C36: Geringere Holzqualität von Haupt-/Nebenträger
A37: Rohdichte rk = | B37: =VLOOKUP(B36,Berechnungstabellen!K2:L17,2,FALSE) -> 385 | C37: =IF(B37>590,"max. wird 590 kg/m³ gerechnet !","")
G38: a
B40: Bemessungswerte der Tragfähigkeit
A41: kmod | B41: F1,Rd | C41: F2,Rd | D41: F3,Rd | E41: F45,Rd
A42: =IF(OR($F$24=1,$F$24=2),0.6,0.5) -> 0.6 | B42: =SUM(Berechnungstabellen!B37:B48)*$B$35 -> 0.90722618 | C42: =SUM(Berechnungstabellen!B54:B65)*$B$35 -> 4.7683263 | E42: =SUM(Berechnungstabellen!B87:B98)*B35 -> 4.5
A43: =IF(OR($F$24=1,$F$24=2),0.7,0.55) -> 0.7 | B43: =SUM(Berechnungstabellen!C37:C48)*B35 -> 1.0584305 | C43: =SUM(Berechnungstabellen!C54:C65)*B35 -> 5.5630474 | E43: =SUM(Berechnungstabellen!C87:C98)*B35 -> 4.5
A44: =IF(OR($F$24=1,$F$24=2),0.8,0.65) -> 0.8 | B44: =SUM(Berechnungstabellen!D37:D48)*B35 -> 1.2096349 | C44: =SUM(Berechnungstabellen!D54:D65)*B35 -> 6.3577685 | E44: =SUM(Berechnungstabellen!D87:D98)*B35 -> 4.5
A45: =IF(OR($F$24=1,$F$24=2),0.9,0.7) -> 0.9 | B45: =SUM(Berechnungstabellen!E37:E48)*$B$35 -> 1.3608393 | C45: =SUM(Berechnungstabellen!E54:E65)*$B$35 -> 7.1524895 | D45: =$B$35*IF($C$29=0,0,IF($C$29=1,VLOOKUP($B$29,Berechnungstabellen!A71:C82,2,FALSE),IF($C$29=2,VLOOKUP($B$29,Berechnungstabellen!A71:D82,4,FALSE),""))) -> 1.52 | E45: =SUM(Berechnungstabellen!E87:E98)*B35 -> 4.5
A46: =IF(OR($F$24=1,$F$24=2),1,0.8) -> 1 | B46: =SUM(Berechnungstabellen!F37:F48)*$B$35 -> 1.5120436 | C46: =SUM(Berechnungstabellen!F54:F65)*$B$35 -> 7.9472106 | D46: =$B$35*IF($C$29=0,0,IF($C$29=1,VLOOKUP($B$29,Berechnungstabellen!A71:C82,3,FALSE),IF($C$29=2,VLOOKUP($B$29,Berechnungstabellen!A71:E82,5,FALSE),""))) -> 1.52 | E46: =SUM(Berechnungstabellen!F87:F98)*B35 -> 4.5
A48: Bemessung:
A50: Lastfall: | B50: (F1,d/F1,Rd)² | C50: F2,d/F2,Rd oder (F2,d/F2,Rd)² | D50: F3,d/F3,Rd oder (F3,d/F3,Rd)² | E50: (F45,d/F45,Rd)² | F50: S Nachweise
A51: LFK1: g | B51: =(B19/B42)^2 -> 0 | C51: =IF(OR(B51>0,E51>0),(C19/C42)^2,C19/C42) -> 0 | E51: =(E19/E42)^2 -> 0 | F51: =B51+C51+E51 -> 0 | G51: =IF(F51>1,">1,0","<=1,0") -> <=1,0
A52: LFK2: g+s | B52: =(B20/VLOOKUP(G20,A42:B45,2))^2 -> 0 | C52: =IF(B52>0,(C20/VLOOKUP(G20,A42:E45,3))^2,(C20/VLOOKUP(G20,A42:E45,3))) -> 0 | E52: =(E20/VLOOKUP(G20,A42:E45,5))^2 -> 0 | F52: =B52+C52+E52 -> 0 | G52: =IF(F52>1,">1,0","<=1,0") -> <=1,0
A53: LFK3: g+n | B53: =(B21/VLOOKUP(G21,A42:E45,2))^2 -> 0 | C53: =IF(OR(B53>0,E53>0),(C21/VLOOKUP(G21,A42:C45,3))^2,C21/VLOOKUP(G21,A42:C45,3)) -> 0 | E53: =(E21/VLOOKUP(G21,A42:E45,5))^2 -> 0 | F53: =B53+C53+E53 -> 0 | G53: =IF(F53>1,">1,0","<=1,0") -> <=1,0
A54: LFK4: g+s+wd | B54: =(B22/VLOOKUP(G22,$A$42:$B$46,2))^2 -> 0 | C54: =IF(B54>0,(C22/VLOOKUP(G22,A42:C46,3))^2,C22/VLOOKUP(G22,A42:C46,3)) -> 0 | E54: =(E22/VLOOKUP(G22,$A$42:$E$46,5))^2 -> 0 | F54: =B54+C54+E54 -> 0 | G54: =IF(F54>1,">1,0","<=1,0") -> <=1,0
A55: LFK5: g+ws | B55: =(B23/VLOOKUP(G23,$A$42:$B$46,2))^2 -> 0 | D55: =IF(C29=0,0,IF(OR(B55>0,E55>0),(-D23/VLOOKUP(G23,A45:D46,4,FALSE))^2,(-D23/VLOOKUP(G23,A45:D46,4,FALSE)))) -> 0 | E55: =(E23/VLOOKUP(G23,$A$42:$E$46,5))^2 -> 0 | F55: =B55+D55+E55 -> 0 | G55: =IF(F55>1,">1,0","<=1,0") -> <=1,0
F56: =IF(AND(F51<=1,F52<=1,F53<=1,F54<=1,F55<=1),"Nachweise erbracht !","Nachweise nicht erbracht !") -> Nachweise erbracht !
A57: Nachweisführungen:
A65: Überprüfung des Querzugverhalten im Nebenträger nach EN 1995
A67: Sofern a/HN >0,7 ist oder ein Aufspalten des Nebenträgers durch eine Querzugverstärkung mit selbstbohrende Vollgewindeschrauben nach allgemeiner Zulassung verhindert wird, darf ein genauerer Querzugnachweis im Nebenträger entfallen !
B70: =IF(B35=1,B35,"") -> 1 | C70: =IF(B35=1,B29,"Zeichnung nicht maßgebend!") -> RICON 100/30 EA A2 | E70: =IF(B35=2,B35,"") | F70: =IF(B35=2,B29,"Zeichnung nicht maßgebend !") -> Zeichnung nicht maßgebend !
B72: t1 = t +13 | C72: t= | E72: =IF($B$35=2,VLOOKUP($B$29,Berechnungstabellen!$A$21:$P$32,16,FALSE)+G72,"")
B73: =IF($B$35=1,VLOOKUP($B$29,Berechnungstabellen!$A$21:$P$32,16,FALSE)+D72,"") -> 10
A74: beanspruchter
A75: Rand | B75: =IF($B$35=1,D72+D75-VLOOKUP(B29,Berechnungstabellen!$A$21:$Q$32,17,FALSE),"") -> 80 | D75: =VLOOKUP(B29,Berechnungstabellen!A21:N32,14,FALSE) -> 100 | E75: =IF($B$35=2,G72+G75-VLOOKUP(B29,Berechnungstabellen!$A$21:$Q$32,17,FALSE),"") | G75: =VLOOKUP(B29,Berechnungstabellen!A21:N32,14,FALSE) -> 100
H76: 200
A79: unbean-
A80: spruchter Rand | D80: =IF(B35=1,D76-D75-D72-D79,"") -> -100 | G80: =IF(B35=2,H76-G75-G72-G79,"") | H80: =IF(B35=1,"",IF(G80<10,"t ≥ 10mm sein!",""))
D82: =IF(D80<10,"t ≥ 10mm sein!","") -> t ≥ 10mm sein! | F82: 10
B83: =IF(B35=1,(C84-C83)/2,"") -> 10 | C83: =VLOOKUP(B29,Berechnungstabellen!A21:O32,15,FALSE) -> 30 | D83: =IF(B35=1,(C84-C83)/2,"") -> 10 | E83: =IF(B35=2,(F85-2*40-F82)/2,"") | F83: =VLOOKUP(B29,Berechnungstabellen!A21:O32,15,FALSE) -> 30
C84: 50 | F84: =F83 -> 30 | G84: =IF(B35=2,E83,"")
F85: 100
A86: =IF(B35=1,IF(OR(D76<80,D76>320),"Mindestnebenträgerhöhe HN=80, max HN <= 320 mm !",""),"") -> Mindestnebenträgerhöhe HN=80, max HN <= 320 mm ! | E86: =IF(B35=2,IF(OR(H76<80,H76>320),"Mindestnebenträgerhöhe HN=80, max HN <= 320 mm !",""),"")
A87: =IF(B35=1,IF(AND($B$35=1,D76>VLOOKUP(C70,Berechnungstabellen!A103:E114,5,FALSE)),"Bitte den nächst größeren Verbinder auswählen!",""),"") | E87: =IF(B35=1,"",IF(B35=2,IF(AND($B$35=2,H76>VLOOKUP(F70,Berechnungstabellen!A119:E130,5,FALSE)),"Bitte den nächst größeren Verbinder auswählen!",""),""))
A88: =IF(B35=2,"",IF(AND($B$35=1,C84>VLOOKUP(C70,Berechnungstabellen!A103:E114,4,FALSE)),"Die Nebenträgerbreite sollte nicht breiter als die maximale Breite sein!","")) | E88: =IF(B35=1,"",IF(AND($B$35=2,F85>VLOOKUP(F70,Berechnungstabellen!A119:E130,4,FALSE)),"Die Nebenträgerbreite sollte nicht breiter als die maximale Breite sein!",""))
A89: =IF(B35=2,"",IF(C84=0,"",IF(AND($B$35=1,C84<VLOOKUP(C70,Berechnungstabellen!A103:E114,2,FALSE)),"Die Nebenträgerbreite BN ≥50 mm sein!",""))) | E89: =IF(B35=1,"",IF(F85=0,"",IF(AND($B$35=2,F85<VLOOKUP(F70,Berechnungstabellen!A119:E130,2,FALSE)),"Die Nebenträgerbreite BN >=100 mm sein!","")))
A91: Überprüfung des Querzugverhalten im Nebenträger:
A92: a/HN = | B92: =IF(B35=1,B75/D76,IF(B35=2,E75/H76,"")) -> #DIV/0! | C92: =IF(B92<0.7,"<0,7",IF(B92=0.7,"=0,7",">0,7")) -> #DIV/0! | D92: =IF(B92>0.7,"=> Querzugnachweis entfällt!","=> Querzugverstärkung erforderlich!") -> #DIV/0!
A95: Querzugverstärkung mit | D95: Vollgewindeschrauben | H95: =IF(C95=0,"",IF(OR(AND(G95<=B75,B35=1),AND(G95<=E75,B35=2)),"Bitte Schraubenlänge erhöhen!",""))
B96: Schraubentyp: | C96: Typ 1 | D96: =IF(C96="Typ 1",Berechnungstabellen!B132,IF(C96="Typ 2",Berechnungstabellen!B136,Berechnungstabellen!B140)) -> SWG [ ETA-12/0197] | H96: =IF(C95=0,"",IF(OR(AND(G95>=D76,B35=1),AND(B35=2,G95>=H76)),"Bitte kürzere Schraubenlänge wählen!",""))
A97: Nebenträgerabmessung: | C97: =IF(B35=1,C84,IF(B35=2,F85,"")) -> 50 | D97: =IF(B35=1,D76,IF(B35=2,H76,"")) -> 0 | E97: =B36 -> GL24h
B99: Verhältnis a/h = | C99: =IF(C95=0,"",B92)
B100: max F2,d = | C100: =IF(C95=0,"",MAX(C19:C23))
B101: Zugkraft Ft,90,d = | C101: =IF(C95=0,"",(1-3*(C99^2)+2*C99^3)*C100)
B103: lef = lScr - a = | C103: =IF(C95=0,"",IF(B35=1,G95-B75,G95-E75))
B104: ftens,Rk = | C104: =IF(C95=0,"",IF(C96="Typ 1",VLOOKUP(F95,Berechnungstabellen!A134:B135,2),IF(C96="Typ 2",VLOOKUP(F95,Berechnungstabellen!A138:B139,2),IF(C96="Typ 3",VLOOKUP(F95,Berechnungstabellen!A142:B143,2),""))))
B105: ftens,Rd = | C105: =IF(C95=0,"",C104/1.25)
B106: fax,k = | C106: =IF(C95=0,"",IF(C96="Typ 1",VLOOKUP(F95,Berechnungstabellen!A134:C135,3),IF(C96="Typ 2",VLOOKUP(F95,Berechnungstabellen!A138:C139,3),IF(C96="Typ 3",VLOOKUP(F95,Berechnungstabellen!A142:C143,3),"")))) | D106: N/mm²
B107: kax = | C107: =IF(C95=0,"",1) | D107: (a=90°)
B108: Fax,Rk = | C108: =IF(C95=0,"",C106*F95*C103*(B37/350)^0.8/1000)
B110: kmod = | C110: =IF(C95=0,"",VLOOKUP(C100,C19:G23,5))
B111: Fax,Rd = Rax,k x kmod/ 1,3 = | C111: =IF(C95=0,"",C108*C110/1.3)
B114: Nachweis: | C114: =IF(C95=0,"",C101/(C95*MIN(C111,C105))) | D114: =IF(C95>0,IF(C114>1,">1,0","<=1,0"),"")
A119: Brandschutz nach EN 1995-1-2:
A121: geg.: | B121: Holzart: | C121: =B36 -> GL24h
B122: Rohdichte rk = | C122: =B37 -> 385
B123: Abbrandrate βN = | C123: =VLOOKUP(C121,Berechnungstabellen!K2:M17,3,FALSE) -> 0.7
B124: Branddauer t = | C124: 0
B125: Zeitfaktor k0 = | C125: =IF(C124=0,0,1) -> 0 | D125: (t ≥ 20 min)
B126: Schichttiefe t0 = | C126: =IF(C124=0,0,7) -> 0 | D126: (Schichttiefe mit der Festigkeits- und Steifigkeitseigenschaft gleich Null)
B128: Brandüberdeckung def = | C128: =ROUND(IF(C124=0,0,C123*C124+C125*C126),0) -> 0
A130: Überprüfung der dreiseitigen Brandüberdeckung:
B132: Überdeckung dlinks = | C132: =IF($B$35=1,B83,E83) -> 10 | D132: =IF(C132<E132,"< def =",IF(C132=E132,"= def =",IF(C132>E132,"> def =",""))) -> > def = | E132: =$C$128 -> 0
B133: Überdeckung drechts = | C133: =IF($B$35=1,D83,G84) -> 10 | D133: =IF(C133<E133,"< def =",IF(C133=E133,"= def =",IF(C133>E133,"> def =",""))) -> > def = | E133: =$C$128 -> 0
B134: Überdeckung dunten= | C134: =IF($B$35=1,D80,G80) -> -100 | D134: =IF(C134<E134,"< def =",IF(C134=E134,"= def =",IF(C134>E134,"> def =",""))) -> < def = | E134: =$C$128 -> 0
E135: =IF(C124=0,"Kein Brandschutz ist gefordert !",IF(OR(C132<E132,C133<E133,C134<E134),"Bitte Querschnitt erhöhen oder zusätzlich abdecken!","Brandüberdeckung nach EN 1995-1-2 ist erfüllt !")) -> Kein Brandschutz ist gefordert !
A138: Die Berechnung hat im Einzelfall der Kunde auf eigene Verantwortung vorzunehmen. Die Vorgabe der KNAPP GmbH stellt lediglich eine Möglichkeit dar. Eine Haftung der KNAPP GmbH für die Berechnung und das Ergebnis ist ausgeschlossen.

Sheet Berechnungstabellen
A1: Eingabe | B1: Verknüpfte Eingabe | K1: Holzart | L1: rk [kg/m³] | M1: βn [mm/min]
H2: kmod - Werte | K2: C24 | L2: 350 | M2: 0.8
A3: Teilsicherheitsbeiwerte | G3: KLED | H3: 1 | I3: 2 | J3: 3 | K3: C30 | L3: 380 | M3: 0.8
A4: gg = | B4: 1.35 | C4: (ständige Lasten: Eigengewicht) | G4: ständig | H4: 0.6 | I4: 0.6 | J4: 0.5 | K4: C35 | L4: 390 | M4: 0.8
A5: gQ = | B5: 1.5 | C5: (veränderliche Lasten: Schnee, Wind, Nutzlast) | G5: lang | H5: 0.7 | I5: 0.7 | J5: 0.55 | K5: GL24c | L5: 365 | M5: 0.7
A6: Kombinationsbeiwerte | G6: mittel | H6: 0.8 | I6: 0.8 | J6: 0.65 | K6: GL24h | L6: 385 | M6: 0.7
A7: y0 = | B7: 0.6 | C7: (Windlasten) | G7: kurz | H7: 0.9 | I7: 0.9 | J7: 0.7 | K7: GL28c | L7: 390 | M7: 0.7
A8: y0 = | B8: 0.5 | C8: (Schneelasten Orte bis zu NN +1000) | G8: k./ s. kurz | H8: 1 | I8: 1 | J8: 0.8 | K8: GL28h | L8: 425 | M8: 0.7
A9: y0 = | B9: 0.7 | C9: (Schneelasten Orte über NN +1000) | K9: GL30c | L9: 390 | M9: 0.7
A10: y0 = | B10: 0.7 | C10: (Verkehrslasten / Nutzlasten) | H10: Nutzungsklasse | I10: Einbauort | K10: GL30h | L10: 430 | M10: 0.7
H11: 1 | I11: Innenräume | K11: GL32c | L11: 400 | M11: 0.7
H12: 2 | I12: Außen überdacht | K12: GL32h | L12: 440 | M12: 0.7
H13: 3 | I13: Außenbereich | K13: LH D30 | L13: 530 | M13: 0.55
K14: LH D35 | L14: 540 | M14: 0.55
K15: LH D40 | L15: 550 | M15: 0.55
K16: LH D50 | L16: 590 | M16: 0.55
K17: BauBuche | L17: 590 | M17: 0.7
A19: Knapp Verbinder | B19: Schrauben im Hauptträger (HT) | H19: Schrauben im Nebenträger (NT) | N19: Verbinder-höhe | O19: Verbinder-breite | P19: Abstand a1 | Q19: Abstand a2 | R19: Abstand ac
B20: Anzahl n8,HT | C20: d8,HT | D20: L8,HT | E20: Anzahl n5,HT | F20: d5,HT | G20: L5,HT | H20: Anzahl n8,NT | I20: d8,NT | J20: L8,NT | K20: Anzahl n5,NT | L20: d5,NT | M20: L5,NT | P20: mm | Q20: mm | R20: mm
A21: RICON 60/40 EA A2 | B21: 1 | C21: 8 | D21: 50 | E21: 2 | F21: 5 | G21: 50 | H21: =B21 -> 1 | I21: 8 | J21: =Bemessung!E32 -> 80 | K21: =E21 -> 2 | L21: 5 | M21: =Bemessung!$E$33 -> 80 | N21: 60 | O21: 40 | P21: =(N21-R21)/2 -> 13 | Q21: 24 | R21: 34
A22: RICON 80/40 EA A2 | B22: 2 | C22: 8 | D22: 50 | E22: 2 | F22: 5 | G22: 50 | H22: =B22 -> 2 | I22: 8 | J22: =$J$21 -> 80 | K22: =E22 -> 2 | L22: 5 | M22: =Bemessung!$E$33 -> 80 | N22: 80 | O22: 40 | P22: =(N22-R22)/2 -> 13 | Q22: 30 | R22: 54
A23: RICON 100/40 EA A2 | B23: 2 | C23: 8 | D23: 50 | E23: 4 | F23: 5 | G23: 50 | H23: =B23 -> 2 | I23: 8 | J23: =$J$21 -> 80 | K23: =E23 -> 4 | L23: 5 | M23: =Bemessung!$E$33 -> 80 | N23: 100 | O23: 40 | P23: =(N23-R23)/2 -> 13 | Q23: 30 | R23: 74
A24: RICON 120/40 EA A2 | B24: 2 | C24: 8 | D24: 50 | E24: 6 | F24: 5 | G24: 50 | H24: =B24 -> 2 | I24: 8 | J24: =$J$21 -> 80 | K24: =E24 -> 6 | L24: 5 | M24: =Bemessung!$E$33 -> 80 | N24: 120 | O24: 40 | P24: =(N24-R24)/2 -> 13 | Q24: 30 | R24: 94
A25: RICON 140/40 EA A2 | B25: 2 | C25: 8 | D25: 50 | E25: 8 | F25: 5 | G25: 50 | H25: =B25 -> 2 | I25: 8 | J25: =$J$21 -> 80 | K25: =E25 -> 8 | L25: 5 | M25: =Bemessung!$E$33 -> 80 | N25: 140 | O25: 40 | P25: =(N25-R25)/2 -> 13 | Q25: 30 | R25: 114
A26: RICON 160/40 EA A2 | B26: 2 | C26: 8 | D26: 50 | E26: 10 | F26: 5 | G26: 50 | H26: =B26 -> 2 | I26: 8 | J26: =$J$21 -> 80 | K26: =E26 -> 10 | L26: 5 | M26: =Bemessung!$E$33 -> 80 | N26: 160 | O26: 40 | P26: =(N26-R26)/2 -> 13 | Q26: 30 | R26: 134
A27: RICON 60/30 EA A2 | B27: 1 | C27: 8 | D27: 50 | E27: 2 | F27: 5 | G27: 50 | H27: =B27 -> 1 | I27: 8 | J27: =$J$21 -> 80 | K27: =E27 -> 2 | L27: 5 | M27: =Bemessung!$E$33 -> 80 | N27: 60 | O27: 30 | P27: =(N27-R27)/2 -> 10 | Q27: 20 | R27: 40
A28: RICON 80/30 EA A2 | B28: 2 | C28: 8 | D28: 50 | E28: 2 | F28: 5 | G28: 50 | H28: =B28 -> 2 | I28: 8 | J28: =$J$21 -> 80 | K28: =E28 -> 2 | L28: 5 | M28: =Bemessung!$E$33 -> 80 | N28: 80 | O28: 30 | P28: =(N28-R28)/2 -> 10 | Q28: 20 | R28: 60
A29: RICON 100/30 EA A2 | B29: 2 | C29: 8 | D29: 50 | E29: 4 | F29: 5 | G29: 50 | H29: =B29 -> 2 | I29: 8 | J29: =$J$21 -> 80 | K29: =E29 -> 4 | L29: 5 | M29: =Bemessung!$E$33 -> 80 | N29: 100 | O29: 30 | P29: =(N29-R29)/2 -> 10 | Q29: 20 | R29: 80
A30: RICON 120/30 EA A2 | B30: 2 | C30: 8 | D30: 50 | E30: 6 | F30: 5 | G30: 50 | H30: =B30 -> 2 | I30: 8 | J30: =$J$21 -> 80 | K30: =E30 -> 6 | L30: 5 | M30: =Bemessung!$E$33 -> 80 | N30: 120 | O30: 30 | P30: =(N30-R30)/2 -> 10 | Q30: 20 | R30: 100
A31: RICON 140/30 EA A2 | B31: 2 | C31: 8 | D31: 50 | E31: 8 | F31: 5 | G31: 50 | H31: =B31 -> 2 | I31: 8 | J31: =$J$21 -> 80 | K31: =E31 -> 8 | L31: 5 | M31: =Bemessung!$E$33 -> 80 | N31: 140 | O31: 30 | P31: =(N31-R31)/2 -> 10 | Q31: 20 | R31: 120
A32: RICON 160/30 EA A2 | B32: 2 | C32: 8 | D32: 50 | E32: 10 | F32: 5 | G32: 50 | H32: =B32 -> 2 | I32: 8 | J32: =$J$21 -> 80 | K32: =E32 -> 10 | L32: 5 | M32: =Bemessung!$E$33 -> 80 | N32: 160 | O32: 30 | P32: =(N32-R32)/2 -> 10 | Q32: 20 | R32: 140
A35: Knapp Verbinder | B35: Mittige/Ausmittige Zugkraft F1,Rd [kN] | G35: eff. Schr-Anzahl
B36: =Herleitung!O9 -> 0.6 | C36: =Herleitung!P9 -> 0.7 | D36: =Herleitung!Q9 -> 0.8 | E36: =Herleitung!R9 -> 0.9 | F36: =Herleitung!S9 -> 1 | G36: nef [Stk]
A37: RICON 60/40 EA A2 | B37: =Herleitung!O10 -> 0 | C37: =Herleitung!P10 -> 0 | D37: =Herleitung!Q10 -> 0 | E37: =Herleitung!R10 -> 0 | F37: =Herleitung!S10 -> 0 | G37: =Herleitung!Q28 -> 0
A38: RICON 80/40 EA A2 | B38: =Herleitung!O11 -> 0 | C38: =Herleitung!P11 -> 0 | D38: =Herleitung!Q11 -> 0 | E38: =Herleitung!R11 -> 0 | F38: =Herleitung!S11 -> 0 | G38: =Herleitung!Q29 -> 0
A39: RICON 100/40 EA A2 | B39: =Herleitung!O12 -> 0 | C39: =Herleitung!P12 -> 0 | D39: =Herleitung!Q12 -> 0 | E39: =Herleitung!R12 -> 0 | F39: =Herleitung!S12 -> 0 | G39: =Herleitung!Q30 -> 0
A40: RICON 120/40 EA A2 | B40: =Herleitung!O13 -> 0 | C40: =Herleitung!P13 -> 0 | D40: =Herleitung!Q13 -> 0 | E40: =Herleitung!R13 -> 0 | F40: =Herleitung!S13 -> 0 | G40: =Herleitung!Q31 -> 0
A41: RICON 140/40 EA A2 | B41: =Herleitung!O14 -> 0 | C41: =Herleitung!P14 -> 0 | D41: =Herleitung!Q14 -> 0 | E41: =Herleitung!R14 -> 0 | F41: =Herleitung!S14 -> 0 | G41: =Herleitung!Q32 -> 0
A42: RICON 160/40 EA A2 | B42: =Herleitung!O15 -> 0 | C42: =Herleitung!P15 -> 0 | D42: =Herleitung!Q15 -> 0 | E42: =Herleitung!R15 -> 0 | F42: =Herleitung!S15 -> 0 | G42: =Herleitung!Q33 -> 0
A43: RICON 60/30 EA A2 | B43: =Herleitung!O16 -> 0 | C43: =Herleitung!P16 -> 0 | D43: =Herleitung!Q16 -> 0 | E43: =Herleitung!R16 -> 0 | F43: =Herleitung!S16 -> 0 | G43: =Herleitung!Q34 -> 0
A44: RICON 80/30 EA A2 | B44: =Herleitung!O17 -> 0 | C44: =Herleitung!P17 -> 0 | D44: =Herleitung!Q17 -> 0 | E44: =Herleitung!R17 -> 0 | F44: =Herleitung!S17 -> 0 | G44: =Herleitung!Q35 -> 0
A45: RICON 100/30 EA A2 | B45: =Herleitung!O18 -> 0.90722618 | C45: =Herleitung!P18 -> 1.0584305 | D45: =Herleitung!Q18 -> 1.2096349 | E45: =Herleitung!R18 -> 1.3608393 | F45: =Herleitung!S18 -> 1.5120436 | G45: =Herleitung!Q36 -> 0.88888889
A46: RICON 120/30 EA A2 | B46: =Herleitung!O19 -> 0 | C46: =Herleitung!P19 -> 0 | D46: =Herleitung!Q19 -> 0 | E46: =Herleitung!R19 -> 0 | F46: =Herleitung!S19 -> 0 | G46: =Herleitung!Q37 -> 0
A47: RICON 140/30 EA A2 | B47: =Herleitung!O20 -> 0 | C47: =Herleitung!P20 -> 0 | D47: =Herleitung!Q20 -> 0 | E47: =Herleitung!R20 -> 0 | F47: =Herleitung!S20 -> 0 | G47: =Herleitung!Q38 -> 0
A48: RICON 160/30 EA A2 | B48: =Herleitung!O21 -> 0 | C48: =Herleitung!P21 -> 0 | D48: =Herleitung!Q21 -> 0 | E48: =Herleitung!R21 -> 0 | F48: =Herleitung!S21 -> 0 | G48: =Herleitung!Q39 -> 0
A52: Knapp Verbinder | B52: In Einschubrichtung F2,Rd [kN]
B53: =Herleitung!O72 -> 0.6 | C53: =Herleitung!P72 -> 0.7 | D53: =Herleitung!Q72 -> 0.8 | E53: =Herleitung!R72 -> 0.9 | F53: =Herleitung!S72 -> 1
A54: RICON 60/40 EA A2 | B54: =Herleitung!O73 -> 0 | C54: =Herleitung!P73 -> 0 | D54: =Herleitung!Q73 -> 0 | E54: =Herleitung!R73 -> 0 | F54: =Herleitung!S73 -> 0
A55: RICON 80/40 EA A2 | B55: =Herleitung!O74 -> 0 | C55: =Herleitung!P74 -> 0 | D55: =Herleitung!Q74 -> 0 | E55: =Herleitung!R74 -> 0 | F55: =Herleitung!S74 -> 0
A56: RICON 100/40 EA A2 | B56: =Herleitung!O75 -> 0 | C56: =Herleitung!P75 -> 0 | D56: =Herleitung!Q75 -> 0 | E56: =Herleitung!R75 -> 0 | F56: =Herleitung!S75 -> 0
A57: RICON 120/40 EA A2 | B57: =Herleitung!O76 -> 0 | C57: =Herleitung!P76 -> 0 | D57: =Herleitung!Q76 -> 0 | E57: =Herleitung!R76 -> 0 | F57: =Herleitung!S76 -> 0
A58: RICON 140/40 EA A2 | B58: =Herleitung!O77 -> 0 | C58: =Herleitung!P77 -> 0 | D58: =Herleitung!Q77 -> 0 | E58: =Herleitung!R77 -> 0 | F58: =Herleitung!S77 -> 0
A59: RICON 160/40 EA A2 | B59: =Herleitung!O78 -> 0 | C59: =Herleitung!P78 -> 0 | D59: =Herleitung!Q78 -> 0 | E59: =Herleitung!R78 -> 0 | F59: =Herleitung!S78 -> 0
A60: RICON 60/30 EA A2 | B60: =Herleitung!O79 -> 0 | C60: =Herleitung!P79 -> 0 | D60: =Herleitung!Q79 -> 0 | E60: =Herleitung!R79 -> 0 | F60: =Herleitung!S79 -> 0
A61: RICON 80/30 EA A2 | B61: =Herleitung!O80 -> 0 | C61: =Herleitung!P80 -> 0 | D61: =Herleitung!Q80 -> 0 | E61: =Herleitung!R80 -> 0 | F61: =Herleitung!S80 -> 0
A62: RICON 100/30 EA A2 | B62: =Herleitung!O81 -> 4.7683263 | C62: =Herleitung!P81 -> 5.5630474 | D62: =Herleitung!Q81 -> 6.3577685 | E62: =Herleitung!R81 -> 7.1524895 | F62: =Herleitung!S81 -> 7.9472106
A63: RICON 120/30 EA A2 | B63: =Herleitung!O82 -> 0 | C63: =Herleitung!P82 -> 0 | D63: =Herleitung!Q82 -> 0 | E63: =Herleitung!R82 -> 0 | F63: =Herleitung!S82 -> 0
A64: RICON 140/30 EA A2 | B64: =Herleitung!O83 -> 0 | C64: =Herleitung!P83 -> 0 | D64: =Herleitung!Q83 -> 0 | E64: =Herleitung!R83 -> 0 | F64: =Herleitung!S83 -> 0
A65: RICON 160/30 EA A2 | B65: =Herleitung!O84 -> 0 | C65: =Herleitung!P84 -> 0 | D65: =Herleitung!Q84 -> 0 | E65: =Herleitung!R84 -> 0 | F65: =Herleitung!S84 -> 0
A68: Knapp Verbinder | B68: Entgegen der Einschubrichtung F3,Rd
B69: 1 Sperrbügel | D69: 2 Sperrbügel
B70: kurz | C70: k./ s. kurz | D70: kurz | E70: k./ s. kurz
A71: RICON 60/40 EA A2 | B71: =MIN(2.7/1.25,E54) -> 0 | C71: =MIN(2.7/1.25,F54) -> 0 | D71: =MIN(E54,2*2.7/1.25) -> 0 | E71: =MIN(F54,2*2.7/1.25) -> 0
A72: RICON 80/40 EA A2 | B72: =MIN(2.7/1.25,E55) -> 0 | C72: =MIN(2.7/1.25,F55) -> 0 | D72: =MIN(E55,2*2.7/1.25) -> 0 | E72: =MIN(F55,2*2.7/1.25) -> 0
A73: RICON 100/40 EA A2 | B73: =MIN(2.7/1.25,E56) -> 0 | C73: =MIN(2.7/1.25,F56) -> 0 | D73: =MIN(E56,2*2.7/1.25) -> 0 | E73: =MIN(F56,2*2.7/1.25) -> 0
A74: RICON 120/40 EA A2 | B74: =MIN(2.7/1.25,E57) -> 0 | C74: =MIN(2.7/1.25,F57) -> 0 | D74: =MIN(E57,2*2.7/1.25) -> 0 | E74: =MIN(F57,2*2.7/1.25) -> 0
A75: RICON 140/40 EA A2 | B75: =MIN(2.7/1.25,E58) -> 0 | C75: =MIN(2.7/1.25,F58) -> 0 | D75: =MIN(E58,2*2.7/1.25) -> 0 | E75: =MIN(F58,2*2.7/1.25) -> 0
A76: RICON 160/40 EA A2 | B76: =MIN(2.7/1.25,E59) -> 0 | C76: =MIN(2.7/1.25,F59) -> 0 | D76: =MIN(E59,2*2.7/1.25) -> 0 | E76: =MIN(F59,2*2.7/1.25) -> 0
A77: RICON 60/30 EA A2 | B77: =MIN(1.9/1.25,E60) -> 0 | C77: =MIN(1.9/1.25,F60) -> 0 | D77: =MIN(E60,2*1.9/1.25) -> 0 | E77: =MIN(F60,2*1.9/1.25) -> 0
A78: RICON 80/30 EA A2 | B78: =MIN(1.9/1.25,E61) -> 0 | C78: =MIN(1.9/1.25,F61) -> 0 | D78: =MIN(E61,2*1.9/1.25) -> 0 | E78: =MIN(F61,2*1.9/1.25) -> 0
A79: RICON 100/30 EA A2 | B79: =MIN(1.9/1.25,E62) -> 1.52 | C79: =MIN(1.9/1.25,F62) -> 1.52 | D79: =MIN(E62,2*1.9/1.25) -> 3.04 | E79: =MIN(F62,2*1.9/1.25) -> 3.04
A80: RICON 120/30 EA A2 | B80: =MIN(1.9/1.25,E63) -> 0 | C80: =MIN(1.9/1.25,F63) -> 0 | D80: =MIN(E63,2*1.9/1.25) -> 0 | E80: =MIN(F63,2*1.9/1.25) -> 0
A81: RICON 140/30 EA A2 | B81: =MIN(1.9/1.25,E64) -> 0 | C81: =MIN(1.9/1.25,F64) -> 0 | D81: =MIN(E64,2*1.9/1.25) -> 0 | E81: =MIN(F64,2*1.9/1.25) -> 0
A82: RICON 160/30 EA A2 | B82: =MIN(1.9/1.25,E65) -> 0 | C82: =MIN(1.9/1.25,F65) -> 0 | D82: =MIN(E65,2*1.9/1.25) -> 0 | E82: =MIN(F65,2*1.9/1.25) -> 0
A85: Knapp Verbinder | B85: Rechtwinklig zur Einschubrichtung F45,Rd [kN]
B86: =Herleitung!O160 -> 0.6 | C86: =Herleitung!P160 -> 0.7 | D86: =Herleitung!Q160 -> 0.8 | E86: =Herleitung!R160 -> 0.9 | F86: =Herleitung!S160 -> 1
A87: RICON 60/40 EA A2 | B87: =Herleitung!O161 -> 0 | C87: =Herleitung!P161 -> 0 | D87: =Herleitung!Q161 -> 0 | E87: =Herleitung!R161 -> 0 | F87: =Herleitung!S161 -> 0
A88: RICON 80/40 EA A2 | B88: =Herleitung!O162 -> 0 | C88: =Herleitung!P162 -> 0 | D88: =Herleitung!Q162 -> 0 | E88: =Herleitung!R162 -> 0 | F88: =Herleitung!S162 -> 0
A89: RICON 100/40 EA A2 | B89: =Herleitung!O163 -> 0 | C89: =Herleitung!P163 -> 0 | D89: =Herleitung!Q163 -> 0 | E89: =Herleitung!R163 -> 0 | F89: =Herleitung!S163 -> 0
A90: RICON 120/40 EA A2 | B90: =Herleitung!O164 -> 0 | C90: =Herleitung!P164 -> 0 | D90: =Herleitung!Q164 -> 0 | E90: =Herleitung!R164 -> 0 | F90: =Herleitung!S164 -> 0
A91: RICON 140/40 EA A2 | B91: =Herleitung!O165 -> 0 | C91: =Herleitung!P165 -> 0 | D91: =Herleitung!Q165 -> 0 | E91: =Herleitung!R165 -> 0 | F91: =Herleitung!S165 -> 0
A92: RICON 160/40 EA A2 | B92: =Herleitung!O166 -> 0 | C92: =Herleitung!P166 -> 0 | D92: =Herleitung!Q166 -> 0 | E92: =Herleitung!R166 -> 0 | F92: =Herleitung!S166 -> 0
A93: RICON 60/30 EA A2 | B93: =Herleitung!O167 -> 0 | C93: =Herleitung!P167 -> 0 | D93: =Herleitung!Q167 -> 0 | E93: =Herleitung!R167 -> 0 | F93: =Herleitung!S167 -> 0
A94: RICON 80/30 EA A2 | B94: =Herleitung!O168 -> 0 | C94: =Herleitung!P168 -> 0 | D94: =Herleitung!Q168 -> 0 | E94: =Herleitung!R168 -> 0 | F94: =Herleitung!S168 -> 0
A95: RICON 100/30 EA A2 | B95: =Herleitung!O169 -> 4.5 | C95: =Herleitung!P169 -> 4.5 | D95: =Herleitung!Q169 -> 4.5 | E95: =Herleitung!R169 -> 4.5 | F95: =Herleitung!S169 -> 4.5
A96: RICON 120/30 EA A2 | B96: =Herleitung!O170 -> 0 | C96: =Herleitung!P170 -> 0 | D96: =Herleitung!Q170 -> 0 | E96: =Herleitung!R170 -> 0 | F96: =Herleitung!S170 -> 0
A97: RICON 140/30 EA A2 | B97: =Herleitung!O171 -> 0 | C97: =Herleitung!P171 -> 0 | D97: =Herleitung!Q171 -> 0 | E97: =Herleitung!R171 -> 0 | F97: =Herleitung!S171 -> 0
A98: RICON 160/30 EA A2 | B98: =Herleitung!O172 -> 0 | C98: =Herleitung!P172 -> 0 | D98: =Herleitung!Q172 -> 0 | E98: =Herleitung!R172 -> 0 | F98: =Herleitung!S172 -> 0
A101: Knapp Verbinder | B101: Mindestholzquerschnitt | D101: Max. Holzquerschnitte
B102: Breite B [mm] | C102: Höhe H [mm] | D102: Breite B [mm] | E102: Höhe H [mm]
A103: RICON 60/40 EA A2 | B103: 50 | C103: 80 | D103: 80 | E103: 140
A104: RICON 80/40 EA A2 | B104: 50 | C104: 100 | D104: 80 | E104: 160
A105: RICON 100/40 EA A2 | B105: 50 | C105: 120 | D105: 140 | E105: 200
A106: RICON 120/40 EA A2 | B106: 50 | C106: 140 | D106: 140 | E106: 220
A107: RICON 140/40 EA A2 | B107: 50 | C107: 160 | D107: 140 | E107: 240
A108: RICON 160/40 EA A2 | B108: 50 | C108: 180 | D108: 140 | E108: 320
A109: RICON 60/30 EA A2 | B109: 50 | C109: 80 | D109: 80 | E109: 140
A110: RICON 80/30 EA A2 | B110: 50 | C110: 100 | D110: 80 | E110: 160
A111: RICON 100/30 EA A2 | B111: 50 | C111: 120 | D111: 140 | E111: 200
A112: RICON 120/30 EA A2 | B112: 50 | C112: 140 | D112: 140 | E112: 220
...

Sheet Herleitung
A1: Eingabe
A2: Verknüpfte Eingabe
A4: Load direction F1 perpendicular to the connector plate
A6: RICON A2 Connector
K7: =Bemessung!B35 -> 1
A8: Knapp Connector | B8: F1,KCC,RK | C8: ac | D8: e1 | E8: nef | F8: lef (H) | G8: lef (J) | H8: d | I8: Fax,Rk (H) | J8: Fax,Rk (J) | K8: ftens,k | L8: F1,Rk | N8: Knapp Connector | O8: Tensile Force F1,Rd [kN]
B9: [kN] | C9: [mm] | D9: [mm] | E9: [pcs] | F9: [mm] | G9: [mm] | H9: [mm] | I9: [kN] | J9: [kN] | K9: [kN] | L9: [kN] | O9: =IF(AND(Bemessung!$B$36=Berechnungstabellen!$K$17,Bemessung!$F$24=3),0,IF(OR(Bemessung!$F$24=1,Bemessung!$F$24=2),0.6,0.5)) -> 0.6 | P9: =IF(AND(Bemessung!$B$36=Berechnungstabellen!$K$17,Bemessung!$F$24=3),0,IF(OR(Bemessung!$F$24=1,Bemessung!$F$24=2),0.7,0.55)) -> 0.7 | Q9: =IF(AND(Bemessung!$B$36=Berechnungstabellen!$K$17,Bemessung!$F$24=3),0,IF(OR(Bemessung!$F$24=1,Bemessung!$F$24=2),0.8,0.65)) -> 0.8 | R9: =IF(AND(Bemessung!$B$36=Berechnungstabellen!$K$17,Bemessung!$F$24=3),0,IF(OR(Bemessung!$F$24=1,Bemessung!$F$24=2),0.9,0.7)) -> 0.9 | S9: =IF(AND(Bemessung!$B$36=Berechnungstabellen!$K$17,Bemessung!$F$24=3),0,IF(OR(Bemessung!$F$24=1,Bemessung!$F$24=2),1,0.8)) -> 1
A10: RICON 60/40 EA A2 | B10: 5.9 | C10: 34 | D10: =P28 -> -10 | E10: =Q28 -> 0 | F10: 35 | G10: =Berechnungstabellen!J21-15 -> 65 | H10: 8 | I10: =(0.52*SQRT(H10)*(F10)^0.9*$B$23^0.8)/1000 -> 4.2225827 | J10: =($J$23*0.52*SQRT(H10)*G10^0.9*$B$23^0.8)/1000 -> 2.2113638 | K10: 15 | L10: =E10*MIN(I10:J10) -> 0 | N10: RICON 60/40 EA A2 | O10: =$E10*MIN($B10/$B$22,$I10*O$9/$J$22,$J10*O$9/1.3,$K10/$K$22) -> 0 | P10: =$E10*MIN($B10/$B$22,$I10*P$9/$J$22,$J10*P$9/1.3,$K10/$K$22) -> 0 | Q10: =$E10*MIN($B10/$B$22,$I10*Q$9/$J$22,$J10*Q$9/1.3,$K10/$K$22) -> 0 | R10: =$E10*MIN($B10/$B$22,$I10*R$9/$J$22,$J10*R$9/1.3,$K10/$K$22) -> 0 | S10: =$E10*MIN($B10/$B$22,$I10*S$9/$J$22,$J10*S$9/1.3,$K10/$K$22) -> 0
A11: RICON 80/40 EA A2 | B11: 5.9 | C11: 54 | D11: =P29 -> -10 | E11: =Q29 -> 0 | F11: 35 | G11: =Berechnungstabellen!J22-15 -> 65 | H11: 8 | I11: =(0.52*SQRT(H11)*(F11)^0.9*$B$23^0.8)/1000 -> 4.2225827 | J11: =($J$23*0.52*SQRT(H11)*G11^0.9*$B$23^0.8)/1000 -> 2.2113638 | K11: 15 | L11: =E11*MIN(I11:J11) -> 0 | N11: RICON 80/40 EA A2 | O11: =$E11*MIN($B11/$B$22,$I11*O$9/$J$22,$J11*O$9/1.3,$K11/$K$22) -> 0 | P11: =$E11*MIN($B11/$B$22,$I11*P$9/$J$22,$J11*P$9/1.3,$K11/$K$22) -> 0 | Q11: =$E11*MIN($B11/$B$22,$I11*Q$9/$J$22,$J11*Q$9/1.3,$K11/$K$22) -> 0 | R11: =$E11*MIN($B11/$B$22,$I11*R$9/$J$22,$J11*R$9/1.3,$K11/$K$22) -> 0 | S11: =$E11*MIN($B11/$B$22,$I11*S$9/$J$22,$J11*S$9/1.3,$K11/$K$22) -> 0
A12: RICON 100/40 EA A2 | B12: 5.9 | C12: 74 | D12: =P30 -> -10 | E12: =Q30 -> 0 | F12: 35 | G12: =Berechnungstabellen!J23-15 -> 65 | H12: 8 | I12: =(0.52*SQRT(H12)*(F12)^0.9*$B$23^0.8)/1000 -> 4.2225827 | J12: =($J$23*0.52*SQRT(H12)*G12^0.9*$B$23^0.8)/1000 -> 2.2113638 | K12: 15 | L12: =E12*MIN(I12:J12) -> 0 | N12: RICON 100/40 EA A2 | O12: =$E12*MIN($B12/$B$22,$I12*O$9/$J$22,$J12*O$9/1.3,$K12/$K$22) -> 0 | P12: =$E12*MIN($B12/$B$22,$I12*P$9/$J$22,$J12*P$9/1.3,$K12/$K$22) -> 0 | Q12: =$E12*MIN($B12/$B$22,$I12*Q$9/$J$22,$J12*Q$9/1.3,$K12/$K$22) -> 0 | R12: =$E12*MIN($B12/$B$22,$I12*R$9/$J$22,$J12*R$9/1.3,$K12/$K$22) -> 0 | S12: =$E12*MIN($B12/$B$22,$I12*S$9/$J$22,$J12*S$9/1.3,$K12/$K$22) -> 0
A13: RICON 120/40 EA A2 | B13: 5.9 | C13: 94 | D13: =P31 -> -10 | E13: =Q31 -> 0 | F13: 35 | G13: =Berechnungstabellen!J24-15 -> 65 | H13: 8 | I13: =(0.52*SQRT(H13)*(F13)^0.9*$B$23^0.8)/1000 -> 4.2225827 | J13: =($J$23*0.52*SQRT(H13)*G13^0.9*$B$23^0.8)/1000 -> 2.2113638 | K13: 15 | L13: =E13*MIN(I13:J13) -> 0 | N13: RICON 120/40 EA A2 | O13: =$E13*MIN($B13/$B$22,$I13*O$9/$J$22,$J13*O$9/1.3,$K13/$K$22) -> 0 | P13: =$E13*MIN($B13/$B$22,$I13*P$9/$J$22,$J13*P$9/1.3,$K13/$K$22) -> 0 | Q13: =$E13*MIN($B13/$B$22,$I13*Q$9/$J$22,$J13*Q$9/1.3,$K13/$K$22) -> 0 | R13: =$E13*MIN($B13/$B$22,$I13*R$9/$J$22,$J13*R$9/1.3,$K13/$K$22) -> 0 | S13: =$E13*MIN($B13/$B$22,$I13*S$9/$J$22,$J13*S$9/1.3,$K13/$K$22) -> 0
A14: RICON 140/40 EA A2 | B14: 5.9 | C14: 114 | D14: =P32 -> -10 | E14: =Q32 -> 0 | F14: 35 | G14: =Berechnungstabellen!J25-15 -> 65 | H14: 8 | I14: =(0.52*SQRT(H14)*(F14)^0.9*$B$23^0.8)/1000 -> 4.2225827 | J14: =($J$23*0.52*SQRT(H14)*G14^0.9*$B$23^0.8)/1000 -> 2.2113638 | K14: 15 | L14: =E14*MIN(I14:J14) -> 0 | N14: RICON 140/40 EA A2 | O14: =$E14*MIN($B14/$B$22,$I14*O$9/$J$22,$J14*O$9/1.3,$K14/$K$22) -> 0 | P14: =$E14*MIN($B14/$B$22,$I14*P$9/$J$22,$J14*P$9/1.3,$K14/$K$22) -> 0 | Q14: =$E14*MIN($B14/$B$22,$I14*Q$9/$J$22,$J14*Q$9/1.3,$K14/$K$22) -> 0 | R14: =$E14*MIN($B14/$B$22,$I14*R$9/$J$22,$J14*R$9/1.3,$K14/$K$22) -> 0 | S14: =$E14*MIN($B14/$B$22,$I14*S$9/$J$22,$J14*S$9/1.3,$K14/$K$22) -> 0
A15: RICON 160/40 EA A2 | B15: 5.9 | C15: 134 | D15: =P33 -> -10 | E15: =Q33 -> 0 | F15: 35 | G15: =Berechnungstabellen!J26-15 -> 65 | H15: 8 | I15: =(0.52*SQRT(H15)*(F15)^0.9*$B$23^0.8)/1000 -> 4.2225827 | J15: =($J$23*0.52*SQRT(H15)*G15^0.9*$B$23^0.8)/1000 -> 2.2113638 | K15: 15 | L15: =E15*MIN(I15:J15) -> 0 | N15: RICON 160/40 EA A2 | O15: =$E15*MIN($B15/$B$22,$I15*O$9/$J$22,$J15*O$9/1.3,$K15/$K$22) -> 0 | P15: =$E15*MIN($B15/$B$22,$I15*P$9/$J$22,$J15*P$9/1.3,$K15/$K$22) -> 0 | Q15: =$E15*MIN($B15/$B$22,$I15*Q$9/$J$22,$J15*Q$9/1.3,$K15/$K$22) -> 0 | R15: =$E15*MIN($B15/$B$22,$I15*R$9/$J$22,$J15*R$9/1.3,$K15/$K$22) -> 0 | S15: =$E15*MIN($B15/$B$22,$I15*S$9/$J$22,$J15*S$9/1.3,$K15/$K$22) -> 0
A16: RICON 60/30 EA A2 | B16: 4.1 | C16: 40 | D16: =P34 -> -10 | E16: =Q34 -> 0 | F16: 35 | G16: =Berechnungstabellen!J27-15 -> 65 | H16: 8 | I16: =(0.52*SQRT(H16)*(F16)^0.9*$B$23^0.8)/1000 -> 4.2225827 | J16: =($J$23*0.52*SQRT(H16)*G16^0.9*$B$23^0.8)/1000 -> 2.2113638 | K16: 15 | L16: =E16*MIN(I16:J16) -> 0 | N16: RICON 60/30 EA A2 | O16: =$E16*MIN($B16/$B$22,$I16*O$9/$J$22,$J16*O$9/1.3,$K16/$K$22) -> 0 | P16: =$E16*MIN($B16/$B$22,$I16*P$9/$J$22,$J16*P$9/1.3,$K16/$K$22) -> 0 | Q16: =$E16*MIN($B16/$B$22,$I16*Q$9/$J$22,$J16*Q$9/1.3,$K16/$K$22) -> 0 | R16: =$E16*MIN($B16/$B$22,$I16*R$9/$J$22,$J16*R$9/1.3,$K16/$K$22) -> 0 | S16: =$E16*MIN($B16/$B$22,$I16*S$9/$J$22,$J16*S$9/1.3,$K16/$K$22) -> 0
A17: RICON 80/30 EA A2 | B17: 4.1 | C17: 60 | D17: =P35 -> -10 | E17: =Q35 -> 0 | F17: 35 | G17: =Berechnungstabellen!J28-15 -> 65 | H17: 8 | I17: =(0.52*SQRT(H17)*(F17)^0.9*$B$23^0.8)/1000 -> 4.2225827 | J17: =($J$23*0.52*SQRT(H17)*G17^0.9*$B$23^0.8)/1000 -> 2.2113638 | K17: 15 | L17: =E17*MIN(I17:J17) -> 0 | N17: RICON 80/30 EA A2 | O17: =$E17*MIN($B17/$B$22,$I17*O$9/$J$22,$J17*O$9/1.3,$K17/$K$22) -> 0 | P17: =$E17*MIN($B17/$B$22,$I17*P$9/$J$22,$J17*P$9/1.3,$K17/$K$22) -> 0 | Q17: =$E17*MIN($B17/$B$22,$I17*Q$9/$J$22,$J17*Q$9/1.3,$K17/$K$22) -> 0 | R17: =$E17*MIN($B17/$B$22,$I17*R$9/$J$22,$J17*R$9/1.3,$K17/$K$22) -> 0 | S17: =$E17*MIN($B17/$B$22,$I17*S$9/$J$22,$J17*S$9/1.3,$K17/$K$22) -> 0
A18: RICON 100/30 EA A2 | B18: 4.1 | C18: 80 | D18: =P36 -> -10 | E18: =Q36 -> 0.88888889 | F18: 35 | G18: =Berechnungstabellen!J29-15 -> 65 | H18: 8 | I18: =(0.52*SQRT(H18)*(F18)^0.9*$B$23^0.8)/1000 -> 4.2225827 | J18: =($J$23*0.52*SQRT(H18)*G18^0.9*$B$23^0.8)/1000 -> 2.2113638 | K18: 15 | L18: =E18*MIN(I18:J18) -> 1.9656567 | N18: RICON 100/30 EA A2 | O18: =$E18*MIN($B18/$B$22,$I18*O$9/$J$22,$J18*O$9/1.3,$K18/$K$22) -> 0.90722618 | P18: =$E18*MIN($B18/$B$22,$I18*P$9/$J$22,$J18*P$9/1.3,$K18/$K$22) -> 1.0584305 | Q18: =$E18*MIN($B18/$B$22,$I18*Q$9/$J$22,$J18*Q$9/1.3,$K18/$K$22) -> 1.2096349 | R18: =$E18*MIN($B18/$B$22,$I18*R$9/$J$22,$J18*R$9/1.3,$K18/$K$22) -> 1.3608393 | S18: =$E18*MIN($B18/$B$22,$I18*S$9/$J$22,$J18*S$9/1.3,$K18/$K$22) -> 1.5120436
A19: RICON 120/30 EA A2 | B19: 4.1 | C19: 100 | D19: =P37 -> -10 | E19: =Q37 -> 0 | F19: 35 | G19: =Berechnungstabellen!J30-15 -> 65 | H19: 8 | I19: =(0.52*SQRT(H19)*(F19)^0.9*$B$23^0.8)/1000 -> 4.2225827 | J19: =($J$23*0.52*SQRT(H19)*G19^0.9*$B$23^0.8)/1000 -> 2.2113638 | K19: 15 | L19: =E19*MIN(I19:J19) -> 0 | N19: RICON 120/30 EA A2 | O19: =$E19*MIN($B19/$B$22,$I19*O$9/$J$22,$J19*O$9/1.3,$K19/$K$22) -> 0 | P19: =$E19*MIN($B19/$B$22,$I19*P$9/$J$22,$J19*P$9/1.3,$K19/$K$22) -> 0 | Q19: =$E19*MIN($B19/$B$22,$I19*Q$9/$J$22,$J19*Q$9/1.3,$K19/$K$22) -> 0 | R19: =$E19*MIN($B19/$B$22,$I19*R$9/$J$22,$J19*R$9/1.3,$K19/$K$22) -> 0 | S19: =$E19*MIN($B19/$B$22,$I19*S$9/$J$22,$J19*S$9/1.3,$K19/$K$22) -> 0
A20: RICON 140/30 EA A2 | B20: 4.1 | C20: 120 | D20: =P38 -> -10 | E20: =Q38 -> 0 | F20: 35 | G20: =Berechnungstabellen!J31-15 -> 65 | H20: 8 | I20: =(0.52*SQRT(H20)*(F20)^0.9*$B$23^0.8)/1000 -> 4.2225827 | J20: =($J$23*0.52*SQRT(H20)*G20^0.9*$B$23^0.8)/1000 -> 2.2113638 | K20: 15 | L20: =E20*MIN(I20:J20) -> 0 | N20: RICON 140/30 EA A2 | O20: =$E20*MIN($B20/$B$22,$I20*O$9/$J$22,$J20*O$9/1.3,$K20/$K$22) -> 0 | P20: =$E20*MIN($B20/$B$22,$I20*P$9/$J$22,$J20*P$9/1.3,$K20/$K$22) -> 0 | Q20: =$E20*MIN($B20/$B$22,$I20*Q$9/$J$22,$J20*Q$9/1.3,$K20/$K$22) -> 0 | R20: =$E20*MIN($B20/$B$22,$I20*R$9/$J$22,$J20*R$9/1.3,$K20/$K$22) -> 0 | S20: =$E20*MIN($B20/$B$22,$I20*S$9/$J$22,$J20*S$9/1.3,$K20/$K$22) -> 0
A21: RICON 160/30 EA A2 | B21: 4.1 | C21: 140 | D21: =P39 -> -10 | E21: =Q39 -> 0 | F21: 35 | G21: =Berechnungstabellen!J32-15 -> 65 | H21: 8 | I21: =(0.52*SQRT(H21)*(F21)^0.9*$B$23^0.8)/1000 -> 4.2225827 | J21: =($J$23*0.52*SQRT(H21)*G21^0.9*$B$23^0.8)/1000 -> 2.2113638 | K21: 15 | L21: =E21*MIN(I21:J21) -> 0 | N21: RICON 160/30 EA A2 | O21: =$E21*MIN($B21/$B$22,$I21*O$9/$J$22,$J21*O$9/1.3,$K21/$K$22) -> 0 | P21: =$E21*MIN($B21/$B$22,$I21*P$9/$J$22,$J21*P$9/1.3,$K21/$K$22) -> 0 | Q21: =$E21*MIN($B21/$B$22,$I21*Q$9/$J$22,$J21*Q$9/1.3,$K21/$K$22) -> 0 | R21: =$E21*MIN($B21/$B$22,$I21*R$9/$J$22,$J21*R$9/1.3,$K21/$K$22) -> 0 | S21: =$E21*MIN($B21/$B$22,$I21*S$9/$J$22,$J21*S$9/1.3,$K21/$K$22) -> 0
A22: gM = | B22: 1 | I22: gM = | J22: 1.3 | K22: 1.25
A23: characteristic density rk = | B23: =Bemessung!B37 -> 385 | C23: kg/m³ | D23: =Bemessung!B36 -> GL24h | I23: kax = | J23: =IF(Herleitung!J24>45,1,0.3+(J24*0.7/45)) -> 0.3 | N23: Height joist HN = | O23: =IF(Bemessung!B35=1,Bemessung!D76,Bemessung!H76) -> 0
I24: a= | J24: =90-Bemessung!B34 -> 0 | N24: Distance t = | O24: =Bemessung!D72 -> 0
N25: Distance t1 = | O25: =IF(Bemessung!B35=1,Bemessung!B73,Bemessung!E72) -> 10 | P25: Distance t2 = | Q25: =O25 -> 10
A27: Load direction F2 in the direction of insertion | N27: Knapp Connector | O27: Abstand ac | P27: Abstand e1 | Q27: nef
N28: RICON 60/40 EA A2 | O28: 34 | P28: =MIN($O$23/2-$Q$25,$O$23/2-$O$25,O28-$O$23/2+$Q$25,O28-$O$23/2+$O$25) -> -10 | Q28: =IF(Bemessung!$B$29="RICON 60/40 EA A2",O28/(O28-P28),0) -> 0
A29: RICON A2 Connector | N29: RICON 80/40 EA A2 | O29: 54 | P29: =MIN($O$23/2-$Q$25,$O$23/2-$O$25,O29-$O$23/2+$Q$25,O29-$O$23/2+$O$25) -> -10 | Q29: =IF(Bemessung!$B$29="RICON 80/40 EA A2",O29/(O29-P29),0) -> 0
N30: RICON 100/40 EA A2 | O30: 74 | P30: =MIN($O$23/2-$Q$25,$O$23/2-$O$25,O30-$O$23/2+$Q$25,O30-$O$23/2+$O$25) -> -10 | Q30: =IF(Bemessung!$B$29="RICON 100/40 EA A2",O30/(O30-P30),0) -> 0
A31: characteristic density rk = | B31: =B23 -> 385 | C31: kg/m³ | D31: =Bemessung!B36 -> GL24h | N31: RICON 120/40 EA A2 | O31: 94 | P31: =MIN($O$23/2-$Q$25,$O$23/2-$O$25,O31-$O$23/2+$Q$25,O31-$O$23/2+$O$25) -> -10 | Q31: =IF(Bemessung!$B$29="RICON 120/40 EA A2",O31/(O31-P31),0) -> 0
A32: char. yield moment My,Rk = | B32: 15000 | C32: 4400 | D32: Nmm | E32: =Bemessung!A12 -> mit KNAPP® A2 Edelstahlschrauben nach ETA-10/0189 | N32: RICON 140/40 EA A2 | O32: 114 | P32: =MIN($O$23/2-$Q$25,$O$23/2-$O$25,O32-$O$23/2+$Q$25,O32-$O$23/2+$O$25) -> -10 | Q32: =IF(Bemessung!$B$29="RICON 140/40 EA A2",O32/(O32-P32),0) -> 0
A33: outer thread diameter d = | B33: 8 | C33: 5 | D33: mm | N33: RICON 160/40 EA A2 | O33: 134 | P33: =MIN($O$23/2-$Q$25,$O$23/2-$O$25,O33-$O$23/2+$Q$25,O33-$O$23/2+$O$25) -> -10 | Q33: =IF(Bemessung!$B$29="RICON 160/40 EA A2",O33/(O33-P33),0) -> 0
A34: Embedding strength fh,J,k = | B34: =0.082*B33^-0.3*B31/(2.5*COS(RADIANS(J24))^2+SIN(RADIANS(J24))^2) -> 6.7671776 | C34: =0.082*C33^-0.3*B31/(2.5*COS(RADIANS(J24))^2+SIN(RADIANS(J24))^2) -> 7.7919036 | D34: N/mm² | N34: RICON 60/30 EA A2 | O34: 40 | P34: =MIN($O$23/2-$Q$25,$O$23/2-$O$25,O34-$O$23/2+$Q$25,O34-$O$23/2+$O$25) -> -10 | Q34: =IF(Bemessung!$B$29="RICON 60/30 EA A2",O34/(O34-P34),0) -> 0
A35: Embedding strength fh,H,k = | B35: =0.082*B33^-0.3*$B$31 -> 16.917944 | C35: =0.082*C33^-0.3*$B$31 -> 19.479759 | D35: N/mm² | N35: RICON 80/30 EA A2 | O35: 60 | P35: =MIN($O$23/2-$Q$25,$O$23/2-$O$25,O35-$O$23/2+$Q$25,O35-$O$23/2+$O$25) -> -10 | Q35: =IF(Bemessung!$B$29="RICON 80/30 EA A2",O35/(O35-P35),0) -> 0
N36: RICON 100/30 EA A2 | O36: 80 | P36: =MIN($O$23/2-$Q$25,$O$23/2-$O$25,O36-$O$23/2+$Q$25,O36-$O$23/2+$O$25) -> -10 | Q36: =IF(Bemessung!$B$29="RICON 100/30 EA A2",O36/(O36-P36),0) -> 0.88888889
N37: RICON 120/30 EA A2 | O37: 100 | P37: =MIN($O$23/2-$Q$25,$O$23/2-$O$25,O37-$O$23/2+$Q$25,O37-$O$23/2+$O$25) -> -10 | Q37: =IF(Bemessung!$B$29="RICON 120/30 EA a2",O37/(O37-P37),0) -> 0
A38: Knapp Connector | B38: n | C38: d | D38: lef | E38: Fax,J,RK | F38: Fv,J,Rk | G38: n | H38: d | I38: lef | J38: Fax,J,RK | K38: Fv,J,Rk | L38: S Fv,J,Rk | N38: RICON 140/30 EA A2 | O38: 120 | P38: =MIN($O$23/2-$Q$25,$O$23/2-$O$25,O38-$O$23/2+$Q$25,O38-$O$23/2+$O$25) -> -10 | Q38: =IF(Bemessung!$B$29="RICON 140/30 EA A2",O38/(O38-P38),0) -> 0
B39: [pcs] | C39: [mm] | D39: [mm] | E39: [kN] | F39: [kN] | G39: [pcs] | H39: [mm] | I39: [mm] | J39: [kN] | K39: [kN] | L39: [kN] | N39: RICON 160/30 EA A2 | O39: 140 | P39: =MIN($O$23/2-$Q$25,$O$23/2-$O$25,O39-$O$23/2+$Q$25,O39-$O$23/2+$O$25) -> -10 | Q39: =IF(Bemessung!$B$29="RICON 160/30 EA A2",O39/(O39-P39),0) -> 0
A40: RICON 60/40 EA A2 | B40: 1 | C40: 8 | D40: =Berechnungstabellen!J21-15 -> 65 | E40: =(0.3*0.52*SQRT($C40)*(D40)^0.9*$B$31^0.8)/1000 -> 2.2113638 | F40: =MIN($D40*$B$33*$B$34/1000,(2.3*SQRT($B$32*$B$33*$B$34))/1000+(E40/4),$B$34*$D40*$B$33*(SQRT(2+4*$B$32/($B$34*$D40^2*$B$33))-1)/1000+E40/4) -> 2.3267354 | G40: 2 | H40: 5 | I40: =Berechnungstabellen!M21-10 -> 70 | J40: =($J$52*0.52*SQRT($H40)*(I40)^0.9*$B$31^0.8)/1000 -> 1.8688155 | K40: =MIN($C$34*$I40*$C$33/1000,(2.3*SQRT($C$32*$C$33*$C$34))/1000+(J40/4),$C$34*$I40*$C$33*(SQRT(2+4*$C$32/($C$34*$I40^2*$C$33)-1)/1000+J40/4)) -> 1.4194758 | L40: =B40*F40+G40*K40 -> 5.1656869
A41: RICON 80/40 EA A2 | B41: 2 | C41: 8 | D41: =Berechnungstabellen!J22-15 -> 65 | E41: =(0.3*0.52*SQRT($C41)*(D41)^0.9*$B$31^0.8)/1000 -> 2.2113638 | F41: =MIN($D41*$B$33*$B$34/1000,(2.3*SQRT($B$32*$B$33*$B$34))/1000+(E41/4),$B$34*$D41*$B$33*(SQRT(2+4*$B$32/($B$34*$D41^2*$B$33))-1)/1000+E41/4) -> 2.3267354 | G41: 2 | H41: 5 | I41: =Berechnungstabellen!M22-10 -> 70 | J41: =($J$52*0.52*SQRT($H41)*(I41)^0.9*$B$31^0.8)/1000 -> 1.8688155 | K41: =MIN($C$34*$I41*$C$33/1000,(2.3*SQRT($C$32*$C$33*$C$34))/1000+(J41/4),$C$34*$I41*$C$33*(SQRT(2+4*$C$32/($C$34*$I41^2*$C$33)-1)/1000+J41/4)) -> 1.4194758 | L41: =B41*F41+G41*K41 -> 7.4924222
A42: RICON 100/40 EA A2 | B42: 2 | C42: 8 | D42: =Berechnungstabellen!J23-15 -> 65 | E42: =(0.3*0.52*SQRT($C42)*(D42)^0.9*$B$31^0.8)/1000 -> 2.2113638 | F42: =MIN($D42*$B$33*$B$34/1000,(2.3*SQRT($B$32*$B$33*$B$34))/1000+(E42/4),$B$34*$D42*$B$33*(SQRT(2+4*$B$32/($B$34*$D42^2*$B$33))-1)/1000+E42/4) -> 2.3267354 | G42: 4 | H42: 5 | I42: =Berechnungstabellen!M23-10 -> 70 | J42: =($J$52*0.52*SQRT($H42)*(I42)^0.9*$B$31^0.8)/1000 -> 1.8688155 | K42: =MIN($C$34*$I42*$C$33/1000,(2.3*SQRT($C$32*$C$33*$C$34))/1000+(J42/4),$C$34*$I42*$C$33*(SQRT(2+4*$C$32/($C$34*$I42^2*$C$33)-1)/1000+J42/4)) -> 1.4194758 | L42: =B42*F42+G42*K42 -> 10.331374
A43: RICON 120/40 EA A2 | B43: 2 | C43: 8 | D43: =Berechnungstabellen!J24-15 -> 65 | E43: =(0.3*0.52*SQRT($C43)*(D43)^0.9*$B$31^0.8)/1000 -> 2.2113638 | F43: =MIN($D43*$B$33*$B$34/1000,(2.3*SQRT($B$32*$B$33*$B$34))/1000+(E43/4),$B$34*$D43*$B$33*(SQRT(2+4*$B$32/($B$34*$D43^2*$B$33))-1)/1000+E43/4) -> 2.3267354 | G43: 6 | H43: 5 | I43: =Berechnungstabellen!M24-10 -> 70 | J43: =($J$52*0.52*SQRT($H43)*(I43)^0.9*$B$31^0.8)/1000 -> 1.8688155 | K43: =MIN($C$34*$I43*$C$33/1000,(2.3*SQRT($C$32*$C$33*$C$34))/1000+(J43/4),$C$34*$I43*$C$33*(SQRT(2+4*$C$32/($C$34*$I43^2*$C$33)-1)/1000+J43/4)) -> 1.4194758 | L43: =B43*F43+G43*K43 -> 13.170325
A44: RICON 140/40 EA A2 | B44: 2 | C44: 8 | D44: =Berechnungstabellen!J25-15 -> 65 | E44: =(0.3*0.52*SQRT($C44)*(D44)^0.9*$B$31^0.8)/1000 -> 2.2113638 | F44: =MIN($D44*$B$33*$B$34/1000,(2.3*SQRT($B$32*$B$33*$B$34))/1000+(E44/4),$B$34*$D44*$B$33*(SQRT(2+4*$B$32/($B$34*$D44^2*$B$33))-1)/1000+E44/4) -> 2.3267354 | G44: 8 | H44: 5 | I44: =Berechnungstabellen!M25-10 -> 70 | J44: =($J$52*0.52*SQRT($H44)*(I44)^0.9*$B$31^0.8)/1000 -> 1.8688155 | K44: =MIN($C$34*$I44*$C$33/1000,(2.3*SQRT($C$32*$C$33*$C$34))/1000+(J44/4),$C$34*$I44*$C$33*(SQRT(2+4*$C$32/($C$34*$I44^2*$C$33)-1)/1000+J44/4)) -> 1.4194758 | L44: =B44*F44+G44*K44 -> 16.009277
A45: RICON 160/40 EA A2 | B45: 2 | C45: 8 | D45: =Berechnungstabellen!J26-15 -> 65 | E45: =(0.3*0.52*SQRT($C45)*(D45)^0.9*$B$31^0.8)/1000 -> 2.2113638 | F45: =MIN($D45*$B$33*$B$34/1000,(2.3*SQRT($B$32*$B$33*$B$34))/1000+(E45/4),$B$34*$D45*$B$33*(SQRT(2+4*$B$32/($B$34*$D45^2*$B$33))-1)/1000+E45/4) -> 2.3267354 | G45: 10 | H45: 5 | I45: =Berechnungstabellen!M26-10 -> 70 | J45: =($J$52*0.52*SQRT($H45)*(I45)^0.9*$B$31^0.8)/1000 -> 1.8688155 | K45: =MIN($C$34*$I45*$C$33/1000,(2.3*SQRT($C$32*$C$33*$C$34))/1000+(J45/4),$C$34*$I45*$C$33*(SQRT(2+4*$C$32/($C$34*$I45^2*$C$33)-1)/1000+J45/4)) -> 1.4194758 | L45: =B45*F45+G45*K45 -> 18.848228
A46: RICON 60/30 EA A2 | B46: 1 | C46: 8 | D46: =Berechnungstabellen!J27-15 -> 65 | E46: =(0.3*0.52*SQRT($C46)*(D46)^0.9*$B$31^0.8)/1000 -> 2.2113638 | F46: =MIN($D46*$B$33*$B$34/1000,(2.3*SQRT($B$32*$B$33*$B$34))/1000+(E46/4),$B$34*$D46*$B$33*(SQRT(2+4*$B$32/($B$34*$D46^2*$B$33))-1)/1000+E46/4) -> 2.3267354 | G46: 2 | H46: 5 | I46: =Berechnungstabellen!M27-10 -> 70 | J46: =($J$52*0.52*SQRT($H46)*(I46)^0.9*$B$31^0.8)/1000 -> 1.8688155 | K46: =MIN($C$34*$I46*$C$33/1000,(2.3*SQRT($C$32*$C$33*$C$34))/1000+(J46/4),$C$34*$I46*$C$33*(SQRT(2+4*$C$32/($C$34*$I46^2*$C$33)-1)/1000+J46/4)) -> 1.4194758 | L46: =B46*F46+G46*K46 -> 5.1656869
A47: RICON 80/30 EA A2 | B47: 2 | C47: 8 | D47: =Berechnungstabellen!J28-15 -> 65 | E47: =(0.3*0.52*SQRT($C47)*(D47)^0.9*$B$31^0.8)/1000 -> 2.2113638 | F47: =MIN($D47*$B$33*$B$34/1000,(2.3*SQRT($B$32*$B$33*$B$34))/1000+(E47/4),$B$34*$D47*$B$33*(SQRT(2+4*$B$32/($B$34*$D47^2*$B$33))-1)/1000+E47/4) -> 2.3267354 | G47: 2 | H47: 5 | I47: =Berechnungstabellen!M28-10 -> 70 | J47: =($J$52*0.52*SQRT($H47)*(I47)^0.9*$B$31^0.8)/1000 -> 1.8688155 | K47: =MIN($C$34*$I47*$C$33/1000,(2.3*SQRT($C$32*$C$33*$C$34))/1000+(J47/4),$C$34*$I47*$C$33*(SQRT(2+4*$C$32/($C$34*$I47^2*$C$33)-1)/1000+J47/4)) -> 1.4194758 | L47: =B47*F47+G47*K47 -> 7.4924222
A48: RICON 100/30 EA A2 | B48: 2 | C48: 8 | D48: =Berechnungstabellen!J29-15 -> 65 | E48: =(0.3*0.52*SQRT($C48)*(D48)^0.9*$B$31^0.8)/1000 -> 2.2113638 | F48: =MIN($D48*$B$33*$B$34/1000,(2.3*SQRT($B$32*$B$33*$B$34))/1000+(E48/4),$B$34*$D48*$B$33*(SQRT(2+4*$B$32/($B$34*$D48^2*$B$33))-1)/1000+E48/4) -> 2.3267354 | G48: 4 | H48: 5 | I48: =Berechnungstabellen!M29-10 -> 70 | J48: =($J$52*0.52*SQRT($H48)*(I48)^0.9*$B$31^0.8)/1000 -> 1.8688155 | K48: =MIN($C$34*$I48*$C$33/1000,(2.3*SQRT($C$32*$C$33*$C$34))/1000+(J48/4),$C$34*$I48*$C$33*(SQRT(2+4*$C$32/($C$34*$I48^2*$C$33)-1)/1000+J48/4)) -> 1.4194758 | L48: =B48*F48+G48*K48 -> 10.331374
A49: RICON 120/30 EA A2 | B49: 2 | C49: 8 | D49: =Berechnungstabellen!J30-15 -> 65 | E49: =(0.3*0.52*SQRT($C49)*(D49)^0.9*$B$31^0.8)/1000 -> 2.2113638 | F49: =MIN($D49*$B$33*$B$34/1000,(2.3*SQRT($B$32*$B$33*$B$34))/1000+(E49/4),$B$34*$D49*$B$33*(SQRT(2+4*$B$32/($B$34*$D49^2*$B$33))-1)/1000+E49/4) -> 2.3267354 | G49: 6 | H49: 5 | I49: =Berechnungstabellen!M30-10 -> 70 | J49: =($J$52*0.52*SQRT($H49)*(I49)^0.9*$B$31^0.8)/1000 -> 1.8688155 | K49: =MIN($C$34*$I49*$C$33/1000,(2.3*SQRT($C$32*$C$33*$C$34))/1000+(J49/4),$C$34*$I49*$C$33*(SQRT(2+4*$C$32/($C$34*$I49^2*$C$33)-1)/1000+J49/4)) -> 1.4194758 | L49: =B49*F49+G49*K49 -> 13.170325
A50: RICON 140/30 EA A2 | B50: 2 | C50: 8 | D50: =Berechnungstabellen!J31-15 -> 65 | E50: =(0.3*0.52*SQRT($C50)*(D50)^0.9*$B$31^0.8)/1000 -> 2.2113638 | F50: =MIN($D50*$B$33*$B$34/1000,(2.3*SQRT($B$32*$B$33*$B$34))/1000+(E50/4),$B$34*$D50*$B$33*(SQRT(2+4*$B$32/($B$34*$D50^2*$B$33))-1)/1000+E50/4) -> 2.3267354 | G50: 8 | H50: 5 | I50: =Berechnungstabellen!M31-10 -> 70 | J50: =($J$52*0.52*SQRT($H50)*(I50)^0.9*$B$31^0.8)/1000 -> 1.8688155 | K50: =MIN($C$34*$I50*$C$33/1000,(2.3*SQRT($C$32*$C$33*$C$34))/1000+(J50/4),$C$34*$I50*$C$33*(SQRT(2+4*$C$32/($C$34*$I50^2*$C$33)-1)/1000+J50/4)) -> 1.4194758 | L50: =B50*F50+G50*K50 -> 16.009277
A51: RICON 160/30 EA A2 | B51: 2 | C51: 8 | D51: =Berechnungstabellen!J32-15 -> 65 | E51: =(0.3*0.52*SQRT($C51)*(D51)^0.9*$B$31^0.8)/1000 -> 2.2113638 | F51: =MIN($D51*$B$33*$B$34/1000,(2.3*SQRT($B$32*$B$33*$B$34))/1000+(E51/4),$B$34*$D51*$B$33*(SQRT(2+4*$B$32/($B$34*$D51^2*$B$33))-1)/1000+E51/4) -> 2.3267354 | G51: 10 | H51: 5 | I51: =Berechnungstabellen!M32-10 -> 70 | J51: =($J$52*0.52*SQRT($H51)*(I51)^0.9*$B$31^0.8)/1000 -> 1.8688155 | K51: =MIN($C$34*$I51*$C$33/1000,(2.3*SQRT($C$32*$C$33*$C$34))/1000+(J51/4),$C$34*$I51*$C$33*(SQRT(2+4*$C$32/($C$34*$I51^2*$C$33)-1)/1000+J51/4)) -> 1.4194758 | L51: =B51*F51+G51*K51 -> 18.848228
I52: kax = | J52: =J23 -> 0.3
A54: Knapp Connector | B54: n | C54: d | D54: lef | E54: Fax,H,RK | F54: Fv,H,Rk | G54: n | H54: d | I54: lef | J54: Fax,H,RK | K54: Fv,H,Rk | L54: S Fv,H,Rk
B55: [pcs] | C55: [mm] | D55: [mm] | E55: [kN] | F55: [kN] | G55: [pcs] | H55: [mm] | I55: [mm] | J55: [kN] | K55: [kN] | L55: [kN]
A56: RICON 60/40 EA A2 | B56: 1 | C56: 8 | D56: 35 | E56: =(0.52*SQRT($B$33)*(D56)^0.9*$B$31^0.8)/1000 -> 4.2225827 | F56: =MIN($B$32*$B$33*$B$35/1000,(2.3*SQRT($B$32*$B$33*$B$35))/1000+(E56/4),$B$35*$D56*$B$33*(SQRT(2+4*$B$32/($B$35*$D56^2*$B$33))-1)/1000+E56/4) -> 3.5986909 | G56: 2 | H56: 5 | I56: 40 | J56: =(0.52*SQRT($H56)*(I56)^0.9*$B$31^0.8)/1000 -> 3.7645314 | K56: =MIN($C$35*$I56*$C$33/1000,(2.3*SQRT($C$32*$C$33*$C$35))/1000+(J56/4),$C$35*$I56*$C$33*(SQRT(2+4*$C$32/($C$35*$I56^2*$C$33)-1)/1000+J56/4)) -> 2.4468069 | L56: =B56*F56+G56*K56 -> 8.4923047
A57: RICON 80/40 EA A2 | B57: 2 | C57: 8 | D57: 35 | E57: =(0.52*SQRT($B$33)*(D57)^0.9*$B$31^0.8)/1000 -> 4.2225827 | F57: =MIN($B$32*$B$33*$B$35/1000,(2.3*SQRT($B$32*$B$33*$B$35))/1000+(E57/4),$B$35*$D57*$B$33*(SQRT(2+4*$B$32/($B$35*$D57^2*$B$33))-1)/1000+E57/4) -> 3.5986909 | G57: 2 | H57: 5 | I57: 40 | J57: =(0.52*SQRT($H57)*(I57)^0.9*$B$31^0.8)/1000 -> 3.7645314 | K57: =MIN($C$35*$I57*$C$33/1000,(2.3*SQRT($C$32*$C$33*$C$35))/1000+(J57/4),$C$35*$I57*$C$33*(SQRT(2+4*$C$32/($C$35*$I57^2*$C$33)-1)/1000+J57/4)) -> 2.4468069 | L57: =B57*F57+G57*K57 -> 12.090996
A58: RICON 100/40 EA A2 | B58: 2 | C58: 8 | D58: 35 | E58: =(0.52*SQRT($B$33)*(D58)^0.9*$B$31^0.8)/1000 -> 4.2225827 | F58: =MIN($B$32*$B$33*$B$35/1000,(2.3*SQRT($B$32*$B$33*$B$35))/1000+(E58/4),$B$35*$D58*$B$33*(SQRT(2+4*$B$32/($B$35*$D58^2*$B$33))-1)/1000+E58/4) -> 3.5986909 | G58: 4 | H58: 5 | I58: 40 | J58: =(0.52*SQRT($H58)*(I58)^0.9*$B$31^0.8)/1000 -> 3.7645314 | K58: =MIN($C$35*$I58*$C$33/1000,(2.3*SQRT($C$32*$C$33*$C$35))/1000+(J58/4),$C$35*$I58*$C$33*(SQRT(2+4*$C$32/($C$35*$I58^2*$C$33)-1)/1000+J58/4)) -> 2.4468069 | L58: =B58*F58+G58*K58 -> 16.984609
A59: RICON 120/40 EA A2 | B59: 2 | C59: 8 | D59: 35 | E59: =(0.52*SQRT($B$33)*(D59)^0.9*$B$31^0.8)/1000 -> 4.2225827 | F59: =MIN($B$32*$B$33*$B$35/1000,(2.3*SQRT($B$32*$B$33*$B$35))/1000+(E59/4),$B$35*$D59*$B$33*(SQRT(2+4*$B$32/($B$35*$D59^2*$B$33))-1)/1000+E59/4) -> 3.5986909 | G59: 6 | H59: 5 | I59: 40 | J59: =(0.52*SQRT($H59)*(I59)^0.9*$B$31^0.8)/1000 -> 3.7645314 | K59: =MIN($C$35*$I59*$C$33/1000,(2.3*SQRT($C$32*$C$33*$C$35))/1000+(J59/4),$C$35*$I59*$C$33*(SQRT(2+4*$C$32/($C$35*$I59^2*$C$33)-1)/1000+J59/4)) -> 2.4468069 | L59: =B59*F59+G59*K59 -> 21.878223
A60: RICON 140/40 EA A2 | B60: 2 | C60: 8 | D60: 35 | E60: =(0.52*SQRT($B$33)*(D60)^0.9*$B$31^0.8)/1000 -> 4.2225827 | F60: =MIN($B$32*$B$33*$B$35/1000,(2.3*SQRT($B$32*$B$33*$B$35))/1000+(E60/4),$B$35*$D60*$B$33*(SQRT(2+4*$B$32/($B$35*$D60^2*$B$33))-1)/1000+E60/4) -> 3.5986909 | G60: 8 | H60: 5 | I60: 40 | J60: =(0.52*SQRT($H60)*(I60)^0.9*$B$31^0.8)/1000 -> 3.7645314 | K60: =MIN($C$35*$I60*$C$33/1000,(2.3*SQRT($C$32*$C$33*$C$35))/1000+(J60/4),$C$35*$I60*$C$33*(SQRT(2+4*$C$32/($C$35*$I60^2*$C$33)-1)/1000+J60/4)) -> 2.4468069 | L60: =B60*F60+G60*K60 -> 26.771837
A61: RICON 160/40 EA A2 | B61: 2 | C61: 8 | D61: 35 | E61: =(0.52*SQRT($B$33)*(D61)^0.9*$B$31^0.8)/1000 -> 4.2225827 | F61: =MIN($B$32*$B$33*$B$35/1000,(2.3*SQRT($B$32*$B$33*$B$35))/1000+(E61/4),$B$35*$D61*$B$33*(SQRT(2+4*$B$32/($B$35*$D61^2*$B$33))-1)/1000+E61/4) -> 3.5986909 | G61: 10 | H61: 5 | I61: 40 | J61: =(0.52*SQRT($H61)*(I61)^0.9*$B$31^0.8)/1000 -> 3.7645314 | K61: =MIN($C$35*$I61*$C$33/1000,(2.3*SQRT($C$32*$C$33*$C$35))/1000+(J61/4),$C$35*$I61*$C$33*(SQRT(2+4*$C$32/($C$35*$I61^2*$C$33)-1)/1000+J61/4)) -> 2.4468069 | L61: =B61*F61+G61*K61 -> 31.665451
A62: RICON 60/30 EA A2 | B62: 1 | C62: 8 | D62: 35 | E62: =(0.52*SQRT($B$33)*(D62)^0.9*$B$31^0.8)/1000 -> 4.2225827 | F62: =MIN($B$32*$B$33*$B$35/1000,(2.3*SQRT($B$32*$B$33*$B$35))/1000+(E62/4),$B$35*$D62*$B$33*(SQRT(2+4*$B$32/($B$35*$D62^2*$B$33))-1)/1000+E62/4) -> 3.5986909 | G62: 2 | H62: 5 | I62: 40 | J62: =(0.52*SQRT($H62)*(I62)^0.9*$B$31^0.8)/1000 -> 3.7645314 | K62: =MIN($C$35*$I62*$C$33/1000,(2.3*SQRT($C$32*$C$33*$C$35))/1000+(J62/4),$C$35*$I62*$C$33*(SQRT(2+4*$C$32/($C$35*$I62^2*$C$33)-1)/1000+J62/4)) -> 2.4468069 | L62: =B62*F62+G62*K62 -> 8.4923047
A63: RICON 80/30 EA A2 | B63: 2 | C63: 8 | D63: 35 | E63: =(0.52*SQRT($B$33)*(D63)^0.9*$B$31^0.8)/1000 -> 4.2225827 | F63: =MIN($B$32*$B$33*$B$35/1000,(2.3*SQRT($B$32*$B$33*$B$35))/1000+(E63/4),$B$35*$D63*$B$33*(SQRT(2+4*$B$32/($B$35*$D63^2*$B$33))-1)/1000+E63/4) -> 3.5986909 | G63: 2 | H63: 5 | I63: 40 | J63: =(0.52*SQRT($H63)*(I63)^0.9*$B$31^0.8)/1000 -> 3.7645314 | K63: =MIN($C$35*$I63*$C$33/1000,(2.3*SQRT($C$32*$C$33*$C$35))/1000+(J63/4),$C$35*$I63*$C$33*(SQRT(2+4*$C$32/($C$35*$I63^2*$C$33)-1)/1000+J63/4)) -> 2.4468069 | L63: =B63*F63+G63*K63 -> 12.090996
A64: RICON 100/30 EA A2 | B64: 2 | C64: 8 | D64: 35 | E64: =(0.52*SQRT($B$33)*(D64)^0.9*$B$31^0.8)/1000 -> 4.2225827 | F64: =MIN($B$32*$B$33*$B$35/1000,(2.3*SQRT($B$32*$B$33*$B$35))/1000+(E64/4),$B$35*$D64*$B$33*(SQRT(2+4*$B$32/($B$35*$D64^2*$B$33))-1)/1000+E64/4) -> 3.5986909 | G64: 4 | H64: 5 | I64: 40 | J64: =(0.52*SQRT($H64)*(I64)^0.9*$B$31^0.8)/1000 -> 3.7645314 | K64: =MIN($C$35*$I64*$C$33/1000,(2.3*SQRT($C$32*$C$33*$C$35))/1000+(J64/4),$C$35*$I64*$C$33*(SQRT(2+4*$C$32/($C$35*$I64^2*$C$33)-1)/1000+J64/4)) -> 2.4468069 | L64: =B64*F64+G64*K64 -> 16.984609
A65: RICON 120/30 EA A2 | B65: 2 | C65: 8 | D65: 35 | E65: =(0.52*SQRT($B$33)*(D65)^0.9*$B$31^0.8)/1000 -> 4.2225827 | F65: =MIN($B$32*$B$33*$B$35/1000,(2.3*SQRT($B$32*$B$33*$B$35))/1000+(E65/4),$B$35*$D65*$B$33*(SQRT(2+4*$B$32/($B$35*$D65^2*$B$33))-1)/1000+E65/4) -> 3.5986909 | G65: 6 | H65: 5 | I65: 40 | J65: =(0.52*SQRT($H65)*(I65)^0.9*$B$31^0.8)/1000 -> 3.7645314 | K65: =MIN($C$35*$I65*$C$33/1000,(2.3*SQRT($C$32*$C$33*$C$35))/1000+(J65/4),$C$35*$I65*$C$33*(SQRT(2+4*$C$32/($C$35*$I65^2*$C$33)-1)/1000+J65/4)) -> 2.4468069 | L65: =B65*F65+G65*K65 -> 21.878223
A66: RICON 140/30 EA A2 | B66: 2 | C66: 8 | D66: 35 | E66: =(0.52*SQRT($B$33)*(D66)^0.9*$B$31^0.8)/1000 -> 4.2225827 | F66: =MIN($B$32*$B$33*$B$35/1000,(2.3*SQRT($B$32*$B$33*$B$35))/1000+(E66/4),$B$35*$D66*$B$33*(SQRT(2+4*$B$32/($B$35*$D66^2*$B$33))-1)/1000+E66/4) -> 3.5986909 | G66: 8 | H66: 5 | I66: 40 | J66: =(0.52*SQRT($H66)*(I66)^0.9*$B$31^0.8)/1000 -> 3.7645314 | K66: =MIN($C$35*$I66*$C$33/1000,(2.3*SQRT($C$32*$C$33*$C$35))/1000+(J66/4),$C$35*$I66*$C$33*(SQRT(2+4*$C$32/($C$35*$I66^2*$C$33)-1)/1000+J66/4)) -> 2.4468069 | L66: =B66*F66+G66*K66 -> 26.771837
A67: RICON 160/30 EA A2 | B67: 2 | C67: 8 | D67: 35 | E67: =(0.52*SQRT($B$33)*(D67)^0.9*$B$31^0.8)/1000 -> 4.2225827 | F67: =MIN($B$32*$B$33*$B$35/1000,(2.3*SQRT($B$32*$B$33*$B$35))/1000+(E67/4),$B$35*$D67*$B$33*(SQRT(2+4*$B$32/($B$35*$D67^2*$B$33))-1)/1000+E67/4) -> 3.5986909 | G67: 10 | H67: 5 | I67: 40 | J67: =(0.52*SQRT($H67)*(I67)^0.9*$B$31^0.8)/1000 -> 3.7645314 | K67: =MIN($C$35*$I67*$C$33/1000,(2.3*SQRT($C$32*$C$33*$C$35))/1000+(J67/4),$C$35*$I67*$C$33*(SQRT(2+4*$C$32/($C$35*$I67^2*$C$33)-1)/1000+J67/4)) -> 2.4468069 | L67: =B67*F67+G67*K67 -> 31.665451
F70: EC 5
A71: Knapp Connector | B71: S Fv,J,Rk | C71: F2,KCC,RK | D71: kH,2 | E71: F2,H,Rk | F71: F2,R,k | N71: Knapp Connector | O71: F2,Rd [kN]
B72: [kN] | C72: [kN] | D72: [-] | E72: [kN] | F72: [kN] | O72: =IF(AND(Bemessung!$B$36=Berechnungstabellen!$K$17,Bemessung!$F$24=3),0,IF(OR(Bemessung!$F$24=1,Bemessung!$F$24=2),0.6,0.5)) -> 0.6 | P72: =IF(AND(Bemessung!$B$36=Berechnungstabellen!$K$17,Bemessung!$F$24=3),0,IF(OR(Bemessung!$F$24=1,Bemessung!$F$24=2),0.7,0.55)) -> 0.7 | Q72: =IF(AND(Bemessung!$B$36=Berechnungstabellen!$K$17,Bemessung!$F$24=3),0,IF(OR(Bemessung!$F$24=1,Bemessung!$F$24=2),0.8,0.65)) -> 0.8 | R72: =IF(AND(Bemessung!$B$36=Berechnungstabellen!$K$17,Bemessung!$F$24=3),0,IF(OR(Bemessung!$F$24=1,Bemessung!$F$24=2),0.9,0.7)) -> 0.9 | S72: =IF(AND(Bemessung!$B$36=Berechnungstabellen!$K$17,Bemessung!$F$24=3),0,IF(OR(Bemessung!$F$24=1,Bemessung!$F$24=2),1,0.8)) -> 1
A73: RICON 60/40 EA A2 | B73: =L40 -> 5.1656869 | C73: 4.5 | D73: 2.4 | E73: =1/(SQRT((1/L56)^2+(1/(D73*E56)^2))) -> 6.5090544 | F73: =MIN(B73,E73) -> 5.1656869 | N73: RICON 60/40 EA A2 | O73: =IF(Bemessung!$B$29="RICON 60/40 EA A2",MIN(O$72*$B73/$B$85,$C73/$C$85,O$72*$E73/$E$85),0) -> 0 | P73: =IF(Bemessung!$B$29="RICON 60/40 EA A2",MIN(P$72*$B73/$B$85,$C73/$C$85,P$72*$E73/$E$85),0) -> 0 | Q73: =IF(Bemessung!$B$29="RICON 60/40 EA A2",MIN(Q$72*$B73/$B$85,$C73/$C$85,Q$72*$E73/$E$85),0) -> 0 | R73: =IF(Bemessung!$B$29="RICON 60/40 EA A2",MIN(R$72*$B73/$B$85,$C73/$C$85,R$72*$E73/$E$85),0) -> 0 | S73: =IF(Bemessung!$B$29="RICON 60/40 EA A2",MIN(S$72*$B73/$B$85,$C73/$C$85,S$72*$E73/$E$85),0) -> 0
A74: RICON 80/40 EA A2 | B74: =L41 -> 7.4924222 | C74: 8.2 | D74: 6.02 | E74: =1/(SQRT((1/L57)^2+(1/(D74*E57)^2))) -> 10.918773 | F74: =MIN(B74,E74) -> 7.4924222 | N74: RICON 80/40 EA A2 | O74: =IF(Bemessung!$B$29="RICON 80/40 EA A2",MIN(O$72*$B74/$B$85,$C74/$C$85,O$72*$E74/$E$85),0) -> 0 | P74: =IF(Bemessung!$B$29="RICON 80/40 EA A2",MIN(P$72*$B74/$B$85,$C74/$C$85,P$72*$E74/$E$85),0) -> 0 | Q74: =IF(Bemessung!$B$29="RICON 80/40 EA A2",MIN(Q$72*$B74/$B$85,$C74/$C$85,Q$72*$E74/$E$85),0) -> 0 | R74: =IF(Bemessung!$B$29="RICON 80/40 EA A2",MIN(R$72*$B74/$B$85,$C74/$C$85,R$72*$E74/$E$85),0) -> 0 | S74: =IF(Bemessung!$B$29="RICON 80/40 EA A2",MIN(S$72*$B74/$B$85,$C74/$C$85,S$72*$E74/$E$85),0) -> 0
A75: RICON 100/40 EA A2 | B75: =L42 -> 10.331374 | C75: 10.4 | D75: 12 | E75: =1/(SQRT((1/L58)^2+(1/(D75*E58)^2))) -> 16.104004 | F75: =MIN(B75,E75) -> 10.331374 | N75: RICON 100/40 EA A2 | O75: =IF(Bemessung!$B$29="RICON 100/40 EA A2",MIN(O$72*$B75/$B$85,$C75/$C$85,O$72*$E75/$E$85),0) -> 0 | P75: =IF(Bemessung!$B$29="RICON 100/40 EA A2",MIN(P$72*$B75/$B$85,$C75/$C$85,P$72*$E75/$E$85),0) -> 0 | Q75: =IF(Bemessung!$B$29="RICON 100/40 EA A2",MIN(Q$72*$B75/$B$85,$C75/$C$85,Q$72*$E75/$E$85),0) -> 0 | R75: =IF(Bemessung!$B$29="RICON 100/40 EA A2",MIN(R$72*$B75/$B$85,$C75/$C$85,R$72*$E75/$E$85),0) -> 0 | S75: =IF(Bemessung!$B$29="RICON 100/40 EA A2",MIN(S$72*$B75/$B$85,$C75/$C$85,S$72*$E75/$E$85),0) -> 0
A76: RICON 120/40 EA A2 | B76: =L43 -> 13.170325 | C76: 13.4 | D76: 20.3 | E76: =1/(SQRT((1/L59)^2+(1/(D76*E59)^2))) -> 21.198632 | F76: =MIN(B76,E76) -> 13.170325 | N76: RICON 120/40 EA A2 | O76: =IF(Bemessung!$B$29="RICON 120/40 EA A2",MIN(O$72*$B76/$B$85,$C76/$C$85,O$72*$E76/$E$85),0) -> 0 | P76: =IF(Bemessung!$B$29="RICON 120/40 EA A2",MIN(P$72*$B76/$B$85,$C76/$C$85,P$72*$E76/$E$85),0) -> 0 | Q76: =IF(Bemessung!$B$29="RICON 120/40 EA A2",MIN(Q$72*$B76/$B$85,$C76/$C$85,Q$72*$E76/$E$85),0) -> 0 | R76: =IF(Bemessung!$B$29="RICON 120/40 EA A2",MIN(R$72*$B76/$B$85,$C76/$C$85,R$72*$E76/$E$85),0) -> 0 | S76: =IF(Bemessung!$B$29="RICON 120/40 EA A2",MIN(S$72*$B76/$B$85,$C76/$C$85,S$72*$E76/$E$85),0) -> 0
A77: RICON 140/40 EA A2 | B77: =L44 -> 16.009277 | C77: 13.4 | D77: 31 | E77: =1/(SQRT((1/L60)^2+(1/(D77*E60)^2))) -> 26.228893 | F77: =MIN(B77,E77) -> 16.009277 | N77: RICON 140/40 EA A2 | O77: =IF(Bemessung!$B$29="RICON 140/40 EA A2",MIN(O$72*$B77/$B$85,$C77/$C$85,O$72*$E77/$E$85),0) -> 0 | P77: =IF(Bemessung!$B$29="RICON 140/40 EA A2",MIN(P$72*$B77/$B$85,$C77/$C$85,P$72*$E77/$E$85),0) -> 0 | Q77: =IF(Bemessung!$B$29="RICON 140/40 EA A2",MIN(Q$72*$B77/$B$85,$C77/$C$85,Q$72*$E77/$E$85),0) -> 0 | R77: =IF(Bemessung!$B$29="RICON 140/40 EA A2",MIN(R$72*$B77/$B$85,$C77/$C$85,R$72*$E77/$E$85),0) -> 0 | S77: =IF(Bemessung!$B$29="RICON 140/40 EA A2",MIN(S$72*$B77/$B$85,$C77/$C$85,S$72*$E77/$E$85),0) -> 0
A78: RICON 160/40 EA A2 | B78: =L45 -> 18.848228 | C78: 13.4 | D78: 44 | E78: =1/(SQRT((1/L61)^2+(1/(D78*E61)^2))) -> 31.215331 | F78: =MIN(B78,E78) -> 18.848228 | N78: RICON 160/40 EA A2 | O78: =IF(Bemessung!$B$29="RICON 160/40 EA A2",MIN(O$72*$B78/$B$85,$C78/$C$85,O$72*$E78/$E$85),0) -> 0 | P78: =IF(Bemessung!$B$29="RICON 160/40 EA A2",MIN(P$72*$B78/$B$85,$C78/$C$85,P$72*$E78/$E$85),0) -> 0 | Q78: =IF(Bemessung!$B$29="RICON 160/40 EA A2",MIN(Q$72*$B78/$B$85,$C78/$C$85,Q$72*$E78/$E$85),0) -> 0 | R78: =IF(Bemessung!$B$29="RICON 160/40 EA A2",MIN(R$72*$B78/$B$85,$C78/$C$85,R$72*$E78/$E$85),0) -> 0 | S78: =IF(Bemessung!$B$29="RICON 160/40 EA A2",MIN(S$72*$B78/$B$85,$C78/$C$85,S$72*$E78/$E$85),0) -> 0
A79: RICON 60/30 EA A2 | B79: =L46 -> 5.1656869 | C79: 4.5 | D79: 2.3 | E79: =1/(SQRT((1/L62)^2+(1/(D79*E62)^2))) -> 6.392951 | F79: =MIN(B79,E79) -> 5.1656869 | N79: RICON 60/30 EA A2 | O79: =IF(Bemessung!$B$29="RICON 60/30 EA A2",MIN(O$72*$B79/$B$85,$C79/$C$85,O$72*$E79/$E$85),0) -> 0 | P79: =IF(Bemessung!$B$29="RICON 60/30 EA A2",MIN(P$72*$B79/$B$85,$C79/$C$85,P$72*$E79/$E$85),0) -> 0 | Q79: =IF(Bemessung!$B$29="RICON 60/30 EA A2",MIN(Q$72*$B79/$B$85,$C79/$C$85,Q$72*$E79/$E$85),0) -> 0 | R79: =IF(Bemessung!$B$29="RICON 60/30 EA A2",MIN(R$72*$B79/$B$85,$C79/$C$85,R$72*$E79/$E$85),0) -> 0 | S79: =IF(Bemessung!$B$29="RICON 60/30 EA A2",MIN(S$72*$B79/$B$85,$C79/$C$85,S$72*$E79/$E$85),0) -> 0
A80: RICON 80/30 EA A2 | B80: =L47 -> 7.4924222 | C80: 8.2 | D80: 4.68 | E80: =1/(SQRT((1/L63)^2+(1/(D80*E63)^2))) -> 10.313679 | F80: =MIN(B80,E80) -> 7.4924222 | N80: RICON 80/30 EA A2 | O80: =IF(Bemessung!$B$29="RICON 80/30 EA A2",MIN(O$72*$B80/$B$85,$C80/$C$85,O$72*$E80/$E$85),0) -> 0 | P80: =IF(Bemessung!$B$29="RICON 80/30 EA A2",MIN(P$72*$B80/$B$85,$C80/$C$85,P$72*$E80/$E$85),0) -> 0 | Q80: =IF(Bemessung!$B$29="RICON 80/30 EA A2",MIN(Q$72*$B80/$B$85,$C80/$C$85,Q$72*$E80/$E$85),0) -> 0 | R80: =IF(Bemessung!$B$29="RICON 80/30 EA A2",MIN(R$72*$B80/$B$85,$C80/$C$85,R$72*$E80/$E$85),0) -> 0 | S80: =IF(Bemessung!$B$29="RICON 80/30 EA A2",MIN(S$72*$B80/$B$85,$C80/$C$85,S$72*$E80/$E$85),0) -> 0
A81: RICON 100/30 EA A2 | B81: =L48 -> 10.331374 | C81: 10.4 | D81: 9.34 | E81: =1/(SQRT((1/L64)^2+(1/(D81*E64)^2))) -> 15.599521 | F81: =MIN(B81,E81) -> 10.331374 | N81: RICON 100/30 EA A2 | O81: =IF(Bemessung!$B$29="RICON 100/30 EA A2",MIN(O$72*$B81/$B$85,$C81/$C$85,O$72*$E81/$E$85),0) -> 4.7683263 | P81: =IF(Bemessung!$B$29="RICON 100/30 EA A2",MIN(P$72*$B81/$B$85,$C81/$C$85,P$72*$E81/$E$85),0) -> 5.5630474 | Q81: =IF(Bemessung!$B$29="RICON 100/30 EA A2",MIN(Q$72*$B81/$B$85,$C81/$C$85,Q$72*$E81/$E$85),0) -> 6.3577685 | R81: =IF(Bemessung!$B$29="RICON 100/30 EA A2",MIN(R$72*$B81/$B$85,$C81/$C$85,R$72*$E81/$E$85),0) -> 7.1524895 | S81: =IF(Bemessung!$B$29="RICON 100/30 EA A2",MIN(S$72*$B81/$B$85,$C81/$C$85,S$72*$E81/$E$85),0) -> 7.9472106
A82: RICON 120/30 EA A2 | B82: =L49 -> 13.170325 | C82: 13.4 | D82: 15.7 | E82: =1/(SQRT((1/L65)^2+(1/(D82*E65)^2))) -> 20.776092 | F82: =MIN(B82,E82) -> 13.170325 | N82: RICON 120/30 EA A2 | O82: =IF(Bemessung!$B$29="RICON 120/30 EA A2",MIN(O$72*$B82/$B$85,$C82/$C$85,O$72*$E82/$E$85),0) -> 0 | P82: =IF(Bemessung!$B$29="RICON 120/30 EA A2",MIN(P$72*$B82/$B$85,$C82/$C$85,P$72*$E82/$E$85),0) -> 0 | Q82: =IF(Bemessung!$B$29="RICON 120/30 EA A2",MIN(Q$72*$B82/$B$85,$C82/$C$85,Q$72*$E82/$E$85),0) -> 0 | R82: =IF(Bemessung!$B$29="RICON 120/30 EA A2",MIN(R$72*$B82/$B$85,$C82/$C$85,R$72*$E82/$E$85),0) -> 0 | S82: =IF(Bemessung!$B$29="RICON 120/30 EA A2",MIN(S$72*$B82/$B$85,$C82/$C$85,S$72*$E82/$E$85),0) -> 0
A83: RICON 140/30 EA A2 | B83: =L50 -> 16.009277 | C83: 13.4 | D83: 23.7 | E83: =1/(SQRT((1/L66)^2+(1/(D83*E66)^2))) -> 25.8624 | F83: =MIN(B83,E83) -> 16.009277 | N83: RICON 140/30 EA A2 | O83: =IF(Bemessung!$B$29="RICON 140/30 EA A2",MIN(O$72*$B83/$B$85,$C83/$C$85,O$72*$E83/$E$85),0) -> 0 | P83: =IF(Bemessung!$B$29="RICON 140/30 EA A2",MIN(P$72*$B83/$B$85,$C83/$C$85,P$72*$E83/$E$85),0) -> 0 | Q83: =IF(Bemessung!$B$29="RICON 140/30 EA A2",MIN(Q$72*$B83/$B$85,$C83/$C$85,Q$72*$E83/$E$85),0) -> 0 | R83: =IF(Bemessung!$B$29="RICON 140/30 EA A2",MIN(R$72*$B83/$B$85,$C83/$C$85,R$72*$E83/$E$85),0) -> 0 | S83: =IF(Bemessung!$B$29="RICON 140/30 EA A2",MIN(S$72*$B83/$B$85,$C83/$C$85,S$72*$E83/$E$85),0) -> 0
A84: RICON 160/30 EA A2 | B84: =L51 -> 18.848228 | C84: 13.4 | D84: 33.3 | E84: =1/(SQRT((1/L67)^2+(1/(D84*E67)^2))) -> 30.891816 | F84: =MIN(B84,E84) -> 18.848228 | N84: RICON 160/30 EA A2 | O84: =IF(Bemessung!$B$29="RICON 160/30 EA A2",MIN(O$72*$B84/$B$85,$C84/$C$85,O$72*$E84/$E$85),0) -> 0 | P84: =IF(Bemessung!$B$29="RICON 160/30 EA A2",MIN(P$72*$B84/$B$85,$C84/$C$85,P$72*$E84/$E$85),0) -> 0 | Q84: =IF(Bemessung!$B$29="RICON 160/30 EA A2",MIN(Q$72*$B84/$B$85,$C84/$C$85,Q$72*$E84/$E$85),0) -> 0 | R84: =IF(Bemessung!$B$29="RICON 160/30 EA A2",MIN(R$72*$B84/$B$85,$C84/$C$85,R$72*$E84/$E$85),0) -> 0 | S84: =IF(Bemessung!$B$29="RICON 160/30 EA A2",MIN(S$72*$B84/$B$85,$C84/$C$85,S$72*$E84/$E$85),0) -> 0
A85: gM = | B85: 1.3 | C85: 1 | D85: gM = | E85: 1.3
A88: Centric and eccentric load F45 - perpendicular to the direction of insertion
A90: RICON A2 Connector
A94: Knapp Connector | B94: n | C94: d | D94: lef | E94: Fax,J,RK | F94: Fv,J,Rk | G94: n | H94: d | I94: lef | J94: Fax,J,RK | K94: Fv,J,Rk | L94: Fv,mittel,J,Rk
B95: [pcs] | C95: [mm] | D95: [mm] | E95: [kN] | F95: [kN] | G95: [pcs] | H95: [mm] | I95: [mm] | J95: [kN] | K95: [kN] | L95: [kN]
A96: RICON 60/40 EA A2 | B96: 1 | C96: 8 | D96: =Berechnungstabellen!J21-15 -> 65 | E96: =($E$108*0.52*SQRT($C96)*(D96)^0.9*$B$31^0.8)/1000 -> 2.2113638 | F96: =MIN($B$33*$B$34*$D96/1000,(2.3*SQRT($B$32*$B$33*$B$34))/1000+(E96/4),$B$34*$D96*$B$33*(SQRT(2+4*$B$32/($B$34*$D96^2*$B$33))-1)/1000+E96/4) -> 2.3267354 | G96: 2 | H96: 5 | I96: =Berechnungstabellen!M21-10 -> 70 | J96: Werte sind nicht erforderlich
A97: RICON 80/40 EA A2 | B97: 2 | C97: 8 | D97: =Berechnungstabellen!J22-15 -> 65 | E97: =($E$108*0.52*SQRT($C97)*(D97)^0.9*$B$31^0.8)/1000 -> 2.2113638 | F97: =MIN($B$33*$B$34*$D97/1000,(2.3*SQRT($B$32*$B$33*$B$34))/1000+(E97/4),$B$34*$D97*$B$33*(SQRT(2+4*$B$32/($B$34*$D97^2*$B$33))-1)/1000+E97/4) -> 2.3267354 | G97: 2 | H97: 5 | I97: =Berechnungstabellen!M22-10 -> 70
A98: RICON 100/40 EA A2 | B98: 2 | C98: 8 | D98: =Berechnungstabellen!J23-15 -> 65 | E98: =($E$108*0.52*SQRT($C98)*(D98)^0.9*$B$31^0.8)/1000 -> 2.2113638 | F98: =MIN($B$33*$B$34*$D98/1000,(2.3*SQRT($B$32*$B$33*$B$34))/1000+(E98/4),$B$34*$D98*$B$33*(SQRT(2+4*$B$32/($B$34*$D98^2*$B$33))-1)/1000+E98/4) -> 2.3267354 | G98: 4 | H98: 5 | I98: =Berechnungstabellen!M23-10 -> 70
A99: RICON 120/40 EA A2 | B99: 2 | C99: 8 | D99: =Berechnungstabellen!J24-15 -> 65 | E99: =($E$108*0.52*SQRT($C99)*(D99)^0.9*$B$31^0.8)/1000 -> 2.2113638 | F99: =MIN($B$33*$B$34*$D99/1000,(2.3*SQRT($B$32*$B$33*$B$34))/1000+(E99/4),$B$34*$D99*$B$33*(SQRT(2+4*$B$32/($B$34*$D99^2*$B$33))-1)/1000+E99/4) -> 2.3267354 | G99: 6 | H99: 5 | I99: =Berechnungstabellen!M24-10 -> 70
A100: RICON 140/40 EA A2 | B100: 2 | C100: 8 | D100: =Berechnungstabellen!J25-15 -> 65 | E100: =($E$108*0.52*SQRT($C100)*(D100)^0.9*$B$31^0.8)/1000 -> 2.2113638 | F100: =MIN($B$33*$B$34*$D100/1000,(2.3*SQRT($B$32*$B$33*$B$34))/1000+(E100/4),$B$34*$D100*$B$33*(SQRT(2+4*$B$32/($B$34*$D100^2*$B$33))-1)/1000+E100/4) -> 2.3267354 | G100: 8 | H100: 5 | I100: =Berechnungstabellen!M25-10 -> 70
A101: RICON 160/40 EA A2 | B101: 2 | C101: 8 | D101: =Berechnungstabellen!J26-15 -> 65 | E101: =($E$108*0.52*SQRT($C101)*(D101)^0.9*$B$31^0.8)/1000 -> 2.2113638 | F101: =MIN($B$33*$B$34*$D101/1000,(2.3*SQRT($B$32*$B$33*$B$34))/1000+(E101/4),$B$34*$D101*$B$33*(SQRT(2+4*$B$32/($B$34*$D101^2*$B$33))-1)/1000+E101/4) -> 2.3267354 | G101: 10 | H101: 5 | I101: =Berechnungstabellen!M26-10 -> 70
A102: RICON 60/30 EA A2 | B102: 2.3333333 | C102: 8 | D102: =Berechnungstabellen!J27-15 -> 65 | E102: =($E$108*0.52*SQRT($C102)*(D102)^0.9*$B$31^0.8)/1000 -> 2.2113638 | F102: =MIN($B$33*$B$34*$D102/1000,(2.3*SQRT($B$32*$B$33*$B$34))/1000+(E102/4),$B$34*$D102*$B$33*(SQRT(2+4*$B$32/($B$34*$D102^2*$B$33))-1)/1000+E102/4) -> 2.3267354 | G102: 11.333333 | H102: 5 | I102: =Berechnungstabellen!M27-10 -> 70 | J102: Werte sind nicht erforderlich
A103: RICON 80/30 EA A2 | B103: 2.4761905 | C103: 8 | D103: =Berechnungstabellen!J28-15 -> 65 | E103: =($E$108*0.52*SQRT($C103)*(D103)^0.9*$B$31^0.8)/1000 -> 2.2113638 | F103: =MIN($B$33*$B$34*$D103/1000,(2.3*SQRT($B$32*$B$33*$B$34))/1000+(E103/4),$B$34*$D103*$B$33*(SQRT(2+4*$B$32/($B$34*$D103^2*$B$33))-1)/1000+E103/4) -> 2.3267354 | G103: 13.047619 | H103: 5 | I103: =Berechnungstabellen!M28-10 -> 70
A104: RICON 100/30 EA A2 | B104: 2.6190476 | C104: 8 | D104: =Berechnungstabellen!J29-15 -> 65 | E104: =($E$108*0.52*SQRT($C104)*(D104)^0.9*$B$31^0.8)/1000 -> 2.2113638 | F104: =MIN($B$33*$B$34*$D104/1000,(2.3*SQRT($B$32*$B$33*$B$34))/1000+(E104/4),$B$34*$D104*$B$33*(SQRT(2+4*$B$32/($B$34*$D104^2*$B$33))-1)/1000+E104/4) -> 2.3267354 | G104: 14.761905 | H104: 5 | I104: =Berechnungstabellen!M29-10 -> 70
A105: RICON 120/30 EA A2 | B105: 2.7619048 | C105: 8 | D105: =Berechnungstabellen!J30-15 -> 65 | E105: =($E$108*0.52*SQRT($C105)*(D105)^0.9*$B$31^0.8)/1000 -> 2.2113638 | F105: =MIN($B$33*$B$34*$D105/1000,(2.3*SQRT($B$32*$B$33*$B$34))/1000+(E105/4),$B$34*$D105*$B$33*(SQRT(2+4*$B$32/($B$34*$D105^2*$B$33))-1)/1000+E105/4) -> 2.3267354 | G105: 16.47619 | H105: 5 | I105: =Berechnungstabellen!M30-10 -> 70
A106: RICON 140/30 EA A2 | B106: 2.9047619 | C106: 8 | D106: =Berechnungstabellen!J31-15 -> 65 | E106: =($E$108*0.52*SQRT($C106)*(D106)^0.9*$B$31^0.8)/1000 -> 2.2113638 | F106: =MIN($B$33*$B$34*$D106/1000,(2.3*SQRT($B$32*$B$33*$B$34))/1000+(E106/4),$B$34*$D106*$B$33*(SQRT(2+4*$B$32/($B$34*$D106^2*$B$33))-1)/1000+E106/4) -> 2.3267354 | G106: 18.190476 | H106: 5 | I106: =Berechnungstabellen!M31-10 -> 70
A107: RICON 160/30 EA A2 | B107: 3.047619 | C107: 8 | D107: =Berechnungstabellen!J32-15 -> 65 | E107: =($E$108*0.52*SQRT($C107)*(D107)^0.9*$B$31^0.8)/1000 -> 2.2113638 | F107: =MIN($B$33*$B$34*$D107/1000,(2.3*SQRT($B$32*$B$33*$B$34))/1000+(E107/4),$B$34*$D107*$B$33*(SQRT(2+4*$B$32/($B$34*$D107^2*$B$33))-1)/1000+E107/4) -> 2.3267354 | G107: 19.904762 | H107: 5 | I107: =Berechnungstabellen!M32-10 -> 70
D108: kax = | E108: =J23 -> 0.3
A111: Knapp Connector | B111: Fv,J,mittel,Rk | C111: n45 | D111: a1 | E111: a2 | F111: eJ,45 | G111: F45,J,Rk
B112: [kN] | C112: [pcs] | D112: [-] | E112: [-] | F112: [mm] | G112: [kN]
A113: RICON 60/40 EA A2 | B113: Werte sind nicht erforderlich | C113: 2.8 | D113: 29 | E113: 43 | F113: 0 | G113: =$F96/SQRT((1/$C113+F113/$D113)^2+(F113/$E113)^2) -> 6.514859
A114: RICON 80/40 EA A2 | C114: 3.8 | D114: 42 | E114: 81 | F114: 0 | G114: =$F97/SQRT((1/$C114+F114/$D114)^2+(F114/$E114)^2) -> 8.8415944
...

Sheet Schraubenlängen
A1: Schraubenlängen für Querzugverstärkung der Nebenträger mit
A2: 8 | B2: Schrauben | F2: =Bemessung!F95 -> 0
A3: Typ1 | B3: Typ 2 | C3: Typ 3 | D3: Auswahl | F3: Endauswahl: | G3: =Bemessung!C96 -> Typ 1 | H3: =Bemessung!D96 -> SWG [ ETA-12/0197]
A4: Längen L [mm] | B4: Längen L [mm] | C4: Längen L [mm] | D4: Längen L [mm] | F4: Längen L [mm]
A5: 120 | B5: 120 | C5: 120 | D5: =IF(AND(Bemessung!$C$96="Typ 1",Bemessung!$F$95=8),Schraubenlängen!A5,IF(AND(Bemessung!$C$96="Typ 2",Bemessung!$F$95=8),Schraubenlängen!B5,IF(AND(Bemessung!$C$96="Typ 3",Bemessung!$F$95=8),Schraubenlängen!C5,""))) | F5: =IF($F$2=8,D5,D33)
A6: 160 | B6: 160 | C6: 160 | D6: =IF(AND(Bemessung!$C$96="Typ 1",Bemessung!$F$95=8),Schraubenlängen!A6,IF(AND(Bemessung!$C$96="Typ 2",Bemessung!$F$95=8),Schraubenlängen!B6,IF(AND(Bemessung!$C$96="Typ 3",Bemessung!$F$95=8),Schraubenlängen!C6,""))) | F6: =IF($F$2=8,D6,D34)
A7: 180 | B7: 180 | C7: 180 | D7: =IF(AND(Bemessung!$C$96="Typ 1",Bemessung!$F$95=8),Schraubenlängen!A7,IF(AND(Bemessung!$C$96="Typ 2",Bemessung!$F$95=8),Schraubenlängen!B7,IF(AND(Bemessung!$C$96="Typ 3",Bemessung!$F$95=8),Schraubenlängen!C7,""))) | F7: =IF($F$2=8,D7,D35)
A8: 200 | B8: 200 | C8: 200 | D8: =IF(AND(Bemessung!$C$96="Typ 1",Bemessung!$F$95=8),Schraubenlängen!A8,IF(AND(Bemessung!$C$96="Typ 2",Bemessung!$F$95=8),Schraubenlängen!B8,IF(AND(Bemessung!$C$96="Typ 3",Bemessung!$F$95=8),Schraubenlängen!C8,""))) | F8: =IF($F$2=8,D8,D36)
A9: 220 | B9: 220 | C9: 220 | D9: =IF(AND(Bemessung!$C$96="Typ 1",Bemessung!$F$95=8),Schraubenlängen!A9,IF(AND(Bemessung!$C$96="Typ 2",Bemessung!$F$95=8),Schraubenlängen!B9,IF(AND(Bemessung!$C$96="Typ 3",Bemessung!$F$95=8),Schraubenlängen!C9,""))) | F9: =IF($F$2=8,D9,D37)
A10: 240 | B10: 240 | C10: 240 | D10: =IF(AND(Bemessung!$C$96="Typ 1",Bemessung!$F$95=8),Schraubenlängen!A10,IF(AND(Bemessung!$C$96="Typ 2",Bemessung!$F$95=8),Schraubenlängen!B10,IF(AND(Bemessung!$C$96="Typ 3",Bemessung!$F$95=8),Schraubenlängen!C10,""))) | F10: =IF($F$2=8,D10,D38)
A11: 260 | B11: 260 | C11: 260 | D11: =IF(AND(Bemessung!$C$96="Typ 1",Bemessung!$F$95=8),Schraubenlängen!A11,IF(AND(Bemessung!$C$96="Typ 2",Bemessung!$F$95=8),Schraubenlängen!B11,IF(AND(Bemessung!$C$96="Typ 3",Bemessung!$F$95=8),Schraubenlängen!C11,""))) | F11: =IF($F$2=8,D11,D39)
A12: 280 | B12: 280 | C12: 280 | D12: =IF(AND(Bemessung!$C$96="Typ 1",Bemessung!$F$95=8),Schraubenlängen!A12,IF(AND(Bemessung!$C$96="Typ 2",Bemessung!$F$95=8),Schraubenlängen!B12,IF(AND(Bemessung!$C$96="Typ 3",Bemessung!$F$95=8),Schraubenlängen!C12,""))) | F12: =IF($F$2=8,D12,D40)
A13: 300 | B13: 300 | C13: 300 | D13: =IF(AND(Bemessung!$C$96="Typ 1",Bemessung!$F$95=8),Schraubenlängen!A13,IF(AND(Bemessung!$C$96="Typ 2",Bemessung!$F$95=8),Schraubenlängen!B13,IF(AND(Bemessung!$C$96="Typ 3",Bemessung!$F$95=8),Schraubenlängen!C13,""))) | F13: =IF($F$2=8,D13,D41)
A14: 330 | B14: 350 | C14: 350 | D14: =IF(AND(Bemessung!$C$96="Typ 1",Bemessung!$F$95=8),Schraubenlängen!A14,IF(AND(Bemessung!$C$96="Typ 2",Bemessung!$F$95=8),Schraubenlängen!B14,IF(AND(Bemessung!$C$96="Typ 3",Bemessung!$F$95=8),Schraubenlängen!C14,""))) | F14: =IF($F$2=8,D14,D42)
A15: 360 | B15: 400 | C15: 400 | D15: =IF(AND(Bemessung!$C$96="Typ 1",Bemessung!$F$95=8),Schraubenlängen!A15,IF(AND(Bemessung!$C$96="Typ 2",Bemessung!$F$95=8),Schraubenlängen!B15,IF(AND(Bemessung!$C$96="Typ 3",Bemessung!$F$95=8),Schraubenlängen!C15,""))) | F15: =IF($F$2=8,D15,D43)
A16: 380 | B16: 450 | C16: 450 | D16: =IF(AND(Bemessung!$C$96="Typ 1",Bemessung!$F$95=8),Schraubenlängen!A16,IF(AND(Bemessung!$C$96="Typ 2",Bemessung!$F$95=8),Schraubenlängen!B16,IF(AND(Bemessung!$C$96="Typ 3",Bemessung!$F$95=8),Schraubenlängen!C16,""))) | F16: =IF($F$2=8,D16,D44)
... A18: 450 | B18: 600 | C18: 600 | D18: =IF(AND(Bemessung!$C$96="Typ 1",Bemessung!$F$95=8),Schraubenlängen!A18,IF(AND(Bemessung!$C$96="Typ 2",Bemessung!$F$95=8),Schraubenlängen!B18,IF(AND(Bemessung!$C$96="Typ 3",Bemessung!$F$95=8),Schraubenlängen!C18,""))) | F18: =IF($F$2=8,D18,D46)
A19: 460 | D19: =IF(AND(Bemessung!$C$96="Typ 1",Bemessung!$F$95=8),Schraubenlängen!A19,IF(AND(Bemessung!$C$96="Typ 2",Bemessung!$F$95=8),Schraubenlängen!B19,IF(AND(Bemessung!$C$96="Typ 3",Bemessung!$F$95=8),Schraubenlängen!C19,""))) | F19: =IF($F$2=8,D19,D47)
A20: 480 | D20: =IF(AND(Bemessung!$C$96="Typ 1",Bemessung!$F$95=8),Schraubenlängen!A20,IF(AND(Bemessung!$C$96="Typ 2",Bemessung!$F$95=8),Schraubenlängen!B20,IF(AND(Bemessung!$C$96="Typ 3",Bemessung!$F$95=8),Schraubenlängen!C20,""))) | F20: =IF($F$2=8,D20,D48)
A21: 530 | D21: =IF(AND(Bemessung!$C$96="Typ 1",Bemessung!$F$95=8),Schraubenlängen!A21,IF(AND(Bemessung!$C$96="Typ 2",Bemessung!$F$95=8),Schraubenlängen!B21,IF(AND(Bemessung!$C$96="Typ 3",Bemessung!$F$95=8),Schraubenlängen!C21,""))) | F21: =IF($F$2=8,D21,D49)
A22: 580 | D22: =IF(AND(Bemessung!$C$96="Typ 1",Bemessung!$F$95=8),Schraubenlängen!A22,IF(AND(Bemessung!$C$96="Typ 2",Bemessung!$F$95=8),Schraubenlängen!B22,IF(AND(Bemessung!$C$96="Typ 3",Bemessung!$F$95=8),Schraubenlängen!C22,""))) | F22: =IF($F$2=8,D22,D50)
F23: =IF($F$2=8,D23,D51)
F24: =IF($F$2=8,D24,D52)
F25: =IF($F$2=8,D25,D53)
F26: =IF($F$2=8,D26,D54) -> 0
A29: Schraubenlängen für Querzugverstärkung der Nebenträger mit
A30: 10 | B30: Schrauben
A31: Typ1 | B31: Typ 2 | C31: Typ 3 | D31: Auswahl
A32: Längen L [mm] | B32: Längen L [mm] | C32: Längen L [mm] | D32: Längen L [mm]
A33: 160 | B33: 160 | C33: 200 | D33: =IF(AND(Bemessung!$C$96="Typ 1",Bemessung!$F$95=10),Schraubenlängen!A33,IF(AND(Bemessung!$C$96="Typ 2",Bemessung!$F$95=10),Schraubenlängen!B33,IF(AND(Bemessung!$C$96="Typ 3",Bemessung!$F$95=10),Schraubenlängen!C33,"")))
A34: 180 | B34: 180 | C34: 220 | D34: =IF(AND(Bemessung!$C$96="Typ 1",Bemessung!$F$95=10),Schraubenlängen!A34,IF(AND(Bemessung!$C$96="Typ 2",Bemessung!$F$95=10),Schraubenlängen!B34,IF(AND(Bemessung!$C$96="Typ 3",Bemessung!$F$95=10),Schraubenlängen!C34,"")))
A35: 200 | B35: 200 | C35: 240 | D35: =IF(AND(Bemessung!$C$96="Typ 1",Bemessung!$F$95=10),Schraubenlängen!A35,IF(AND(Bemessung!$C$96="Typ 2",Bemessung!$F$95=10),Schraubenlängen!B35,IF(AND(Bemessung!$C$96="Typ 3",Bemessung!$F$95=10),Schraubenlängen!C35,"")))
A36: 220 | B36: 220 | C36: 260 | D36: =IF(AND(Bemessung!$C$96="Typ 1",Bemessung!$F$95=10),Schraubenlängen!A36,IF(AND(Bemessung!$C$96="Typ 2",Bemessung!$F$95=10),Schraubenlängen!B36,IF(AND(Bemessung!$C$96="Typ 3",Bemessung!$F$95=10),Schraubenlängen!C36,"")))
A37: 240 | B37: 240 | C37: 280 | D37: =IF(AND(Bemessung!$C$96="Typ 1",Bemessung!$F$95=10),Schraubenlängen!A37,IF(AND(Bemessung!$C$96="Typ 2",Bemessung!$F$95=10),Schraubenlängen!B37,IF(AND(Bemessung!$C$96="Typ 3",Bemessung!$F$95=10),Schraubenlängen!C37,"")))
A38: 260 | B38: 260 | C38: 300 | D38: =IF(AND(Bemessung!$C$96="Typ 1",Bemessung!$F$95=10),Schraubenlängen!A38,IF(AND(Bemessung!$C$96="Typ 2",Bemessung!$F$95=10),Schraubenlängen!B38,IF(AND(Bemessung!$C$96="Typ 3",Bemessung!$F$95=10),Schraubenlängen!C38,"")))
A39: 280 | B39: 280 | C39: 350 | D39: =IF(AND(Bemessung!$C$96="Typ 1",Bemessung!$F$95=10),Schraubenlängen!A39,IF(AND(Bemessung!$C$96="Typ 2",Bemessung!$F$95=10),Schraubenlängen!B39,IF(AND(Bemessung!$C$96="Typ 3",Bemessung!$F$95=10),Schraubenlängen!C39,"")))
A40: 300 | B40: 300 | C40: 400 | D40: =IF(AND(Bemessung!$C$96="Typ 1",Bemessung!$F$95=10),Schraubenlängen!A40,IF(AND(Bemessung!$C$96="Typ 2",Bemessung!$F$95=10),Schraubenlängen!B40,IF(AND(Bemessung!$C$96="Typ 3",Bemessung!$F$95=10),Schraubenlängen!C40,"")))
A41: 320 | B41: 350 | C41: 450 | D41: =IF(AND(Bemessung!$C$96="Typ 1",Bemessung!$F$95=10),Schraubenlängen!A41,IF(AND(Bemessung!$C$96="Typ 2",Bemessung!$F$95=10),Schraubenlängen!B41,IF(AND(Bemessung!$C$96="Typ 3",Bemessung!$F$95=10),Schraubenlängen!C41,"")))
A42: 340 | B42: 400 | C42: 500 | D42: =IF(AND(Bemessung!$C$96="Typ 1",Bemessung!$F$95=10),Schraubenlängen!A42,IF(AND(Bemessung!$C$96="Typ 2",Bemessung!$F$95=10),Schraubenlängen!B42,IF(AND(Bemessung!$C$96="Typ 3",Bemessung!$F$95=10),Schraubenlängen!C42,"")))
A43: 360 | B43: 450 | C43: 550 | D43: =IF(AND(Bemessung!$C$96="Typ 1",Bemessung!$F$95=10),Schraubenlängen!A43,IF(AND(Bemessung!$C$96="Typ 2",Bemessung!$F$95=10),Schraubenlängen!B43,IF(AND(Bemessung!$C$96="Typ 3",Bemessung!$F$95=10),Schraubenlängen!C43,"")))
A44: 380 | B44: 500 | C44: 600 | D44: =IF(AND(Bemessung!$C$96="Typ 1",Bemessung!$F$95=10),Schraubenlängen!A44,IF(AND(Bemessung!$C$96="Typ 2",Bemessung!$F$95=10),Schraubenlängen!B44,IF(AND(Bemessung!$C$96="Typ 3",Bemessung!$F$95=10),Schraubenlängen!C44,"")))
A45: 400 | B45: 600 | C45: 800 | D45: =IF(AND(Bemessung!$C$96="Typ 1",Bemessung!$F$95=10),Schraubenlängen!A45,IF(AND(Bemessung!$C$96="Typ 2",Bemessung!$F$95=10),Schraubenlängen!B45,IF(AND(Bemessung!$C$96="Typ 3",Bemessung!$F$95=10),Schraubenlängen!C45,"")))
A46: 430 | B46: 800 | D46: =IF(AND(Bemessung!$C$96="Typ 1",Bemessung!$F$95=10),Schraubenlängen!A46,IF(AND(Bemessung!$C$96="Typ 2",Bemessung!$F$95=10),Schraubenlängen!B46,IF(AND(Bemessung!$C$96="Typ 3",Bemessung!$F$95=10),Schraubenlängen!C46,"")))
A47: 480 | B47: 1000 | D47: =IF(AND(Bemessung!$C$96="Typ 1",Bemessung!$F$95=10),Schraubenlängen!A47,IF(AND(Bemessung!$C$96="Typ 2",Bemessung!$F$95=10),Schraubenlängen!B47,IF(AND(Bemessung!$C$96="Typ 3",Bemessung!$F$95=10),Schraubenlängen!C47,"")))
A48: 530 | D48: =IF(AND(Bemessung!$C$96="Typ 1",Bemessung!$F$95=10),Schraubenlängen!A48,IF(AND(Bemessung!$C$96="Typ 2",Bemessung!$F$95=10),Schraubenlängen!B48,IF(AND(Bemessung!$C$96="Typ 3",Bemessung!$F$95=10),Schraubenlängen!C48,"")))
A49: 580 | D49: =IF(AND(Bemessung!$C$96="Typ 1",Bemessung!$F$95=10),Schraubenlängen!A49,IF(AND(Bemessung!$C$96="Typ 2",Bemessung!$F$95=10),Schraubenlängen!B49,IF(AND(Bemessung!$C$96="Typ 3",Bemessung!$F$95=10),Schraubenlängen!C49,"")))
A50: 650 | D50: =IF(AND(Bemessung!$C$96="Typ 1",Bemessung!$F$95=10),Schraubenlängen!A50,IF(AND(Bemessung!$C$96="Typ 2",Bemessung!$F$95=10),Schraubenlängen!B50,IF(AND(Bemessung!$C$96="Typ 3",Bemessung!$F$95=10),Schraubenlängen!C50,"")))
A51: 700 | D51: =IF(AND(Bemessung!$C$96="Typ 1",Bemessung!$F$95=10),Schraubenlängen!A51,IF(AND(Bemessung!$C$96="Typ 2",Bemessung!$F$95=10),Schraubenlängen!B51,IF(AND(Bemessung!$C$96="Typ 3",Bemessung!$F$95=10),Schraubenlängen!C51,"")))
A52: 750 | D52: =IF(AND(Bemessung!$C$96="Typ 1",Bemessung!$F$95=10),Schraubenlängen!A52,IF(AND(Bemessung!$C$96="Typ 2",Bemessung!$F$95=10),Schraubenlängen!B52,IF(AND(Bemessung!$C$96="Typ 3",Bemessung!$F$95=10),Schraubenlängen!C52,"")))
A53: 800 | D53: =IF(AND(Bemessung!$C$96="Typ 1",Bemessung!$F$95=10),Schraubenlängen!A53,IF(AND(Bemessung!$C$96="Typ 2",Bemessung!$F$95=10),Schraubenlängen!B53,IF(AND(Bemessung!$C$96="Typ 3",Bemessung!$F$95=10),Schraubenlängen!C53,"")))
