Workbook

Sheet Bemessung
A1: RICON® A2 Edelstahl Bemessungstool für Haupt-Nebenträger-Anschlüsse | I1: KNAPP®
A2: (Unverbindliche Musterbemessung) | I2: Version 2.0
I3: 43749 | K3: Eingabefelder
A4: Firma: | K4: Ergebnisse OK
A5: Bauvorhaben: | K5: Ergebnisse nicht OK
A6: Datum:
A7: Bearbeiter:
A8: Verkäufer:
A11: Anschlussdimensionierung RICON® A2 nach ETA-10/0189 (Ausgabe 11.10.2019)
A12: mit KNAPP® A2 Edelstahlschrauben nach ETA-10/0189
A14: Belastung:
A16: Eingabe der Anschlusskräfte als Bemessungswert (Design-Wert) Fd:
A18: Lastfall Kombination | B18: Mittige Zugkraft F1,d | C18: In Einschub- richtung F2,d | D18: Entgegen Einschubricht. F3,d | E18: Rechtwinklig zur Einschubrichtung F45,d | F18: KLED | G18: kmod
A19: LFK1: g | F19: =Berechnungstabellen!G4 -> ständig | G19: =VLOOKUP(F19,Berechnungstabellen!G4:J4,Bemessung!F24+1,FALSE) -> 0.6
A20: LFK2: g+s | F20: kurz | G20: =VLOOKUP(F20,Berechnungstabellen!G6:J7,Bemessung!F24+1,FALSE) -> 0.9
A21: LFK3: g+n | F21: mittel | G21: =VLOOKUP(F21,Berechnungstabellen!G5:J7,Bemessung!F24+1,FALSE) -> 0.8
A22: LFK4: g+s+wd | F22: k./ s. kurz | G22: =VLOOKUP(F22,Berechnungstabellen!G6:J87,Bemessung!F24+1,FALSE) -> 1
A23: LFK5: g+ws | F23: k./ s. kurz | G23: =VLOOKUP(F23,Berechnungstabellen!G7:J8,Bemessung!F24+1,FALSE) -> 1
E24: Nutzungsklasse: | F24: 1 | G24: =VLOOKUP(F24,Berechnungstabellen!H11:I13,2,FALSE) -> Innenräume | H24: =IF(AND(F24=3,B36=Berechnungstabellen!K17),"BauBuche ist nur für NKL 1+2 zugelassen!","")
A25: Lastfall Beschreibung: | B25: g : Eigengewicht Konstruktion s: Schnee n: Nutzlast (Verkehrslast in Gebäuden) wd: Winddruck ws: Windsog (Abhebende Dachlasten)
A27: Ausgewählter KNAPP® RICON® A2 Edelstahlverbinder:
G28: Draufsicht:
A29: Verbinderauswahl: | B29: RICON 100/30 EA A2 | C29: 1 | D29: Sperrbügel | E29: =IF(AND(D23<0,C29=0),"Bitte Sperrbügelanzahl angeben !","")
A30: Hauptträger: | B30: =B35*VLOOKUP(B29,Berechnungstabellen!A21:B32,2,FALSE) -> 2 | C30: =IF(B30=1,"A2 Senkschraube","A2 Senkschrauben") -> A2 Senkschrauben | D30: 8 | E30: 50 | I30: Nebenträger (NT)
B31: =B35*VLOOKUP(B29,Berechnungstabellen!A21:E32,5,FALSE) -> 4 | C31: A2 Senkschrauben | D31: 5 | E31: 50 | F31: Hauptträger (HT) | G31: a= 90 °
A32: Nebenträger: | B32: =B35*VLOOKUP(Bemessung!B29,Berechnungstabellen!A21:H32,8,FALSE) -> 2 | C32: =IF(B35=1,"A2 Senkschraube","A2 Senkschrauben") -> A2 Senkschraube | D32: 8 | E32: 80
B33: =B35*VLOOKUP(B29,Berechnungstabellen!A21:K32,11,FALSE) -> 4 | C33: A2 Senkschrauben | D33: 5 | E33: =E32 -> 80 | G33: Nebenträger
A34: Anschlusswinkel a = | B34: 90 | C34: =IF(B34<83,"Bitte bei Schräganschlüsse auf die Schraubenlänge im NT achten!","")
A35: Auswahl: | B35: 1 | C35: =IF(OR(B35=1,B35=2),"RICON® A2 Verbinder pro Haupt-Nebenträger-Anschluss","Bitte zwischen 1 + 2 auswählen!") -> RICON® A2 Verbinder pro Haupt-Nebenträger-Anschluss
A36: Holzqualiät: | B36: GL24h | C36: Geringere Holzqualität von Haupt-/Nebenträger
A37: Rohdichte rk = | B37: =VLOOKUP(B36,Berechnungstabellen!K2:L17,2,FALSE) -> 385 | C37: =IF(B37>590,"max. wird 590 kg/m³ gerechnet !","")
G38: a
B40: Bemessungswerte der Tragfähigkeit
A41: kmod | B41: F1,Rd | C41: F2,Rd | D41: F3,Rd | E41: F45,Rd
A42: =IF(OR($F$24=1,$F$24=2),0.6,0.5) -> 0.6 | B42: =SUM(Berechnungstabellen!B37:B48)*$B$35 -> 0.90722618 | C42: =SUM(Berechnungstabellen!B54:B65)*$B$35 -> 4.7683263 | E42: =SUM(Berechnungstabellen!B87:B98)*B35 -> 4.5
A43: =IF(OR($F$24=1,$F$24=2),0.7,0.55) -> 0.7 | B43: =SUM(Berechnungstabellen!C37:C48)*B35 -> 1.0584305 | C43: =SUM(Berechnungstabellen!C54:C65)*B35 -> 5.5630474 | E43: =SUM(Berechnungstabellen!C87:C98)*B35 -> 4.5
A44: =IF(OR($F$24=1,$F$24=2),0.8,0.65) -> 0.8 | B44: =SUM(Berechnungstabellen!D37:D48)*B35 -> 1.2096349 | C44: =SUM(Berechnungstabellen!D54:D65)*B35 -> 6.3577685 | E44: =SUM(Berechnungstabellen!D87:D98)*B35 -> 4.5
A45: =IF(OR($F$24=1,$F$24=2),0.9,0.7) -> 0.9 | B45: =SUM(Berechnungstabellen!E37:E48)*$B$35 -> 1.3608393 | C45: =SUM(Berechnungstabellen!E54:E65)*$B$35 -> 7.1524895 | D45: =$B$35*IF($C$29=0,0,IF($C$29=1,VLOOKUP($B$29,Berechnungstabellen!A71:C82,2,FALSE),IF($C$29=2,VLOOKUP($B$29,Berechnungstabellen!A71:D82,4,FALSE),""))) -> 1.52 | E45: =SUM(Berechnungstabellen!E87:E98)*B35 -> 4.5
A46: =IF(OR($F$24=1,$F$24=2),1,0.8) -> 1 | B46: =SUM(Berechnungstabellen!F37:F48)*$B$35 -> 1.5120436 | C46: =SUM(Berechnungstabellen!F54:F65)*$B$35 -> 7.9472106 | D46: =$B$35*IF($C$29=0,0,IF($C$29=1,VLOOKUP($B$29,Berechnungstabellen!A71:C82,3,FALSE),IF($C$29=2,VLOOKUP($B$29,Berechnungstabellen!A71:E82,5,FALSE),""))) -> 1.52 | E46: =SUM(Berechnungstabellen!F87:F98)*B35 -> 4.5
A48: Bemessung:
...

Sheet Berechnungstabellen
A1: Eingabe | B1: Verknüpfte Eingabe | K1: Holzart | L1: rk [kg/m³] | M1: βn [mm/min]
H2: kmod - Werte | K2: C24 | L2: 350 | M2: 0.8
A3: Teilsicherheitsbeiwerte | G3: KLED | H3: 1 | I3: 2 | J3: 3 | K3: C30 | L3: 380 | M3: 0.8
A4: gg = | B4: 1.35 | C4: (ständige Lasten: Eigengewicht) | G4: ständig | H4: 0.6 | I4: 0.6 | J4: 0.5 | K4: C35 | L4: 390 | M4: 0.8
A5: gQ = | B5: 1.5 | C5: (veränderliche Lasten: Schnee, Wind, Nutzlast) | G5: lang | H5: 0.7 | I5: 0.7 | J5: 0.55 | K5: GL24c | L5: 365 | M5: 0.7
A6: Kombinationsbeiwerte | G6: mittel | H6: 0.8 | I6: 0.8 | J6: 0.65 | K6: GL24h | L6: 385 | M6: 0.7
A7: y0 = | B7: 0.6 | C7: (Windlasten) | G7: kurz | H7: 0.9 | I7: 0.9 | J7: 0.7 | K7: GL28c | L7: 390 | M7: 0.7
A8: y0 = | B8: 0.5 | C8: (Schneelasten Orte bis zu NN +1000) | G8: k./ s. kurz | H8: 1 | I8: 1 | J8: 0.8 | K8: GL28h | L8: 425 | M8: 0.7
A9: y0 = | B9: 0.7 | C9: (Schneelasten Orte über NN +1000) | K9: GL30c | L9: 390 | M9: 0.7
A10: y0 = | B10: 0.7 | C10: (Verkehrslasten / Nutzlasten) | H10: Nutzungsklasse | I10: Einbauort | K10: GL30h | L10: 430 | M10: 0.7
H11: 1 | I11: Innenräume | K11: GL32c | L11: 400 | M11: 0.7
H12: 2 | I12: Außen überdacht | K12: GL32h | L12: 440 | M12: 0.7
H13: 3 | I13: Außenbereich | K13: LH D30 | L13: 530 | M13: 0.55
K14: LH D35 | L14: 540 | M14: 0.55
K15: LH D40 | L15: 550 | M15: 0.55
K16: LH D50 | L16: 590 | M16: 0.55
K17: BauBuche | L17: 590 | M17: 0.7
A19: Knapp Verbinder | B19: Schrauben im Hauptträger (HT) | H19: Schrauben im Nebenträger (NT) | N19: Verbinder-höhe | O19: Verbinder-breite | P19: Abstand a1 | Q19: Abstand a2 | R19: Abstand ac
B20: Anzahl n8,HT | C20: d8,HT | D20: L8,HT | E20: Anzahl n5,HT | F20: d5,HT | G20: L5,HT | H20: Anzahl n8,NT | I20: d8,NT | J20: L8,NT | K20: Anzahl n5,NT | L20: d5,NT | M20: L5,NT | P20: mm | Q20: mm | R20: mm
A21: RICON 60/40 EA A2 | B21: 1 | C21: 8 | D21: 50 | E21: 2 | F21: 5 | G21: 50 | H21: =B21 -> 1 | I21: 8 | J21: =Bemessung!E32 -> 80 | K21: =E21 -> 2 | L21: 5 | M21: =Bemessung!$E$33 -> 80 | N21: 60 | O21: 40 | P21: =(N21-R21)/2 -> 13 | Q21: 24 | R21: 34
A22: RICON 80/40 EA A2 | B22: 2 | C22: 8 | D22: 50 | E22: 2 | F22: 5 | G22: 50 | H22: =B22 -> 2 | I22: 8 | J22: =$J$21 -> 80 | K22: =E22 -> 2 | L22: 5 | M22: =Bemessung!$E$33 -> 80 | N22: 80 | O22: 40 | P22: =(N22-R22)/2 -> 13 | Q22: 30 | R22: 54
A23: RICON 100/40 EA A2 | B23: 2 | C23: 8 | D23: 50 | E23: 4 | F23: 5 | G23: 50 | H23: =B23 -> 2 | I23: 8 | J23: =$J$21 -> 80 | K23: =E23 -> 4 | L23: 5 | M23: =Bemessung!$E$33 -> 80 | N23: 100 | O23: 40 | P23: =(N23-R23)/2 -> 13 | Q23: 30 | R23: 74
A24: RICON 120/40 EA A2 | B24: 2 | C24: 8 | D24: 50 | E24: 6 | F24: 5 | G24: 50 | H24: =B24 -> 2 | I24: 8 | J24: =$J$21 -> 80 | K24: =E24 -> 6 | L24: 5 | M24: =Bemessung!$E$33 -> 80 | N24: 120 | O24: 40 | P24: =(N24-R24)/2 -> 13 | Q24: 30 | R24: 94
A25: RICON 140/40 EA A2 | B25: 2 | C25: 8 | D25: 50 | E25: 8 | F25: 5 | G25: 50 | H25: =B25 -> 2 | I25: 8 | J25: =$J$21 -> 80 | K25: =E25 -> 8 | L25: 5 | M25: =Bemessung!$E$33 -> 80 | N25: 140 | O25: 40 | P25: =(N25-R25)/2 -> 13 | Q25: 30 | R25: 114
A26: RICON 160/40 EA A2 | B26: 2 | C26: 8 | D26: 50 | E26: 10 | F26: 5 | G26: 50 | H26: =B26 -> 2 | I26: 8 | J26: =$J$21 -> 80 | K26: =E26 -> 10 | L26: 5 | M26: =Bemessung!$E$33 -> 80 | N26: 160 | O26: 40 | P26: =(N26-R26)/2 -> 13 | Q26: 30 | R26: 134
A27: RICON 60/30 EA A2 | B27: 1 | C27: 8 | D27: 50 | E27: 2 | F27: 5 | G27: 50 | H27: =B27 -> 1 | I27: 8 | J27: =$J$21 -> 80 | K27: =E27 -> 2 | L27: 5 | M27: =Bemessung!$E$33 -> 80 | N27: 60 | O27: 30 | P27: =(N27-R27)/2 -> 10 | Q27: 20 | R27: 40
A28: RICON 80/30 EA A2 | B28: 2 | C28: 8 | D28: 50 | E28: 2 | F28: 5 | G28: 50 | H28: =B28 -> 2 | I28: 8 | J28: =$J$21 -> 80 | K28: =E28 -> 2 | L28: 5 | M28: =Bemessung!$E$33 -> 80 | N28: 80 | O28: 30 | P28: =(N28-R28)/2 -> 10 | Q28: 20 | R28: 60
A29: RICON 100/30 EA A2 | B29: 2 | C29: 8 | D29: 50 | E29: 4 | F29: 5 | G29: 50 | H29: =B29 -> 2 | I29: 8 | J29: =$J$21 -> 80 | K29: =E29 -> 4 | L29: 5 | M29: =Bemessung!$E$33 -> 80 | N29: 100 | O29: 30 | P29: =(N29-R29)/2 -> 10 | Q29: 20 | R29: 80
A30: RICON 120/30 EA A2 | B30: 2 | C30: 8 | D30: 50 | E30: 6 | F30: 5 | G30: 50 | H30: =B30 -> 2 | I30: 8 | J30: =$J$21 -> 80 | K30: =E30 -> 6 | L30: 5 | M30: =Bemessung!$E$33 -> 80 | N30: 120 | O30: 30 | P30: =(N30-R30)/2 -> 10 | Q30: 20 | R30: 100
A31: RICON 140/30 EA A2 | B31: 2 | C31: 8 | D31: 50 | E31: 8 | F31: 5 | G31: 50 | H31: =B31 -> 2 | I31: 8 | J31: =$J$21 -> 80 | K31: =E31 -> 8 | L31: 5 | M31: =Bemessung!$E$33 -> 80 | N31: 140 | O31: 30 | P31: =(N31-R31)/2 -> 10 | Q31: 20 | R31: 120
A32: RICON 160/30 EA A2 | B32: 2 | C32: 8 | D32: 50 | E32: 10 | F32: 5 | G32: 50 | H32: =B32 -> 2 | I32: 8 | J32: =$J$21 -> 80 | K32: =E32 -> 10 | L32: 5 | M32: =Bemessung!$E$33 -> 80 | N32: 160 | O32: 30 | P32: =(N32-R32)/2 -> 10 | Q32: 20 | R32: 140
A35: Knapp Verbinder | B35: Mittige/Ausmittige Zugkraft F1,Rd [kN] | G35: eff. Schr-Anzahl
B36: =Herleitung!O9 -> 0.6 | C36: =Herleitung!P9 -> 0.7 | D36: =Herleitung!Q9 -> 0.8 | E36: =Herleitung!R9 -> 0.9 | F36: =Herleitung!S9 -> 1 | G36: nef [Stk]
A37: RICON 60/40 EA A2 | B37: =Herleitung!O10 -> 0 | C37: =Herleitung!P10 -> 0 | D37: =Herleitung!Q10 -> 0 | E37: =Herleitung!R10 -> 0 | F37: =Herleitung!S10 -> 0 | G37: =Herleitung!Q28 -> 0
A38: RICON 80/40 EA A2 | B38: =Herleitung!O11 -> 0 | C38: =Herleitung!P11 -> 0 | D38: =Herleitung!Q11 -> 0 | E38: =Herleitung!R11 -> 0 | F38: =Herleitung!S11 -> 0 | G38: =Herleitung!Q29 -> 0
A39: RICON 100/40 EA A2 | B39: =Herleitung!O12 -> 0 | C39: =Herleitung!P12 -> 0 | D39: =Herleitung!Q12 -> 0 | E39: =Herleitung!R12 -> 0 | F39: =Herleitung!S12 -> 0 | G39: =Herleitung!Q30 -> 0
A40: RICON 120/40 EA A2 | B40: =Herleitung!O13 -> 0 | C40: =Herleitung!P13 -> 0 | D40: =Herleitung!Q13 -> 0 | E40: =Herleitung!R13 -> 0 | F40: =Herleitung!S13 -> 0 | G40: =Herleitung!Q31 -> 0
A41: RICON 140/40 EA A2 | B41: =Herleitung!O14 -> 0 | C41: =Herleitung!P14 -> 0 | D41: =Herleitung!Q14 -> 0 | E41: =Herleitung!R14 -> 0 | F41: =Herleitung!S14 -> 0 | G41: =Herleitung!Q32 -> 0
A42: RICON 160/40 EA A2 | B42: =Herleitung!O15 -> 0 | C42: =Herleitung!P15 -> 0 | D42: =Herleitung!Q15 -> 0 | E42: =Herleitung!R15 -> 0 | F42: =Herleitung!S15 -> 0 | G42: =Herleitung!Q33 -> 0
A43: RICON 60/30 EA A2 | B43: =Herleitung!O16 -> 0 | C43: =Herleitung!P16 -> 0 | D43: =Herleitung!Q16 -> 0 | E43: =Herleitung!R16 -> 0 | F43: =Herleitung!S16 -> 0 | G43: =Herleitung!Q34 -> 0
...

Sheet Herleitung
A1: Eingabe
A2: Verknüpfte Eingabe
A4: Load direction F1 perpendicular to the connector plate
A6: RICON A2 Connector
K7: =Bemessung!B35 -> 1
A8: Knapp Connector | B8: F1,KCC,RK | C8: ac | D8: e1 | E8: nef | F8: lef (H) | G8: lef (J) | H8: d | I8: Fax,Rk (H) | J8: Fax,Rk (J) | K8: ftens,k | L8: F1,Rk | N8: Knapp Connector | O8: Tensile Force F1,Rd [kN]
B9: [kN] | C9: [mm] | D9: [mm] | E9: [pcs] | F9: [mm] | G9: [mm] | H9: [mm] | I9: [kN] | J9: [kN] | K9: [kN] | L9: [kN] | O9: =IF(AND(Bemessung!$B$36=Berechnungstabellen!$K$17,Bemessung!$F$24=3),0,IF(OR(Bemessung!$F$24=1,Bemessung!$F$24=2),0.6,0.5)) -> 0.6 | P9: =IF(AND(Bemessung!$B$36=Berechnungstabellen!$K$17,Bemessung!$F$24=3),0,IF(OR(Bemessung!$F$24=1,Bemessung!$F$24=2),0.7,0.55)) -> 0.7 | Q9: =IF(AND(Bemessung!$B$36=Berechnungstabellen!$K$17,Bemessung!$F$24=3),0,IF(OR(Bemessung!$F$24=1,Bemessung!$F$24=2),0.8,0.65)) -> 0.8 | R9: =IF(AND(Bemessung!$B$36=Berechnungstabellen!$K$17,Bemessung!$F$24=3),0,IF(OR(Bemessung!$F$24=1,Bemessung!$F$24=2),0.9,0.7)) -> 0.9 | S9: =IF(AND(Bemessung!$B$36=Berechnungstabellen!$K$17,Bemessung!$F$24=3),0,IF(OR(Bemessung!$F$24=1,Bemessung!$F$24=2),1,0.8)) -> 1
A10: RICON 60/40 EA A2 | B10: 5.9 | C10: 34 | D10: =P28 -> -10 | E10: =Q28 -> 0 | F10: 35 | G10: =Berechnungstabellen!J21-15 -> 65 | H10: 8 | I10: =(0.52*SQRT(H10)*(F10)^0.9*$B$23^0.8)/1000 -> 4.2225827 | J10: =($J$23*0.52*SQRT(H10)*G10^0.9*$B$23^0.8)/1000 -> 2.2113638 | K10: 15 | L10: =E10*MIN(I10:J10) -> 0 | N10: RICON 60/40 EA A2 | O10: =$E10*MIN($B10/$B$22,$I10*O$9/$J$22,$J10*O$9/1.3,$K10/$K$22) -> 0 | P10: =$E10*MIN($B10/$B$22,$I10*P$9/$J$22,$J10*P$9/1.3,$K10/$K$22) -> 0 | Q10: =$E10*MIN($B10/$B$22,$I10*Q$9/$J$22,$J10*Q$9/1.3,$K10/$K$22) -> 0 | R10: =$E10*MIN($B10/$B$22,$I10*R$9/$J$22,$J10*R$9/1.3,$K10/$K$22) -> 0 | S10: =$E10*MIN($B10/$B$22,$I10*S$9/$J$22,$J10*S$9/1.3,$K10/$K$22) -> 0
A11: RICON 80/40 EA A2 | B11: 5.9 | C11: 54 | D11: =P29 -> -10 | E11: =Q29 -> 0 | F11: 35 | G11: =Berechnungstabellen!J22-15 -> 65 | H11: 8 | I11: =(0.52*SQRT(H11)*(F11)^0.9*$B$23^0.8)/1000 -> 4.2225827 | J11: =($J$23*0.52*SQRT(H11)*G11^0.9*$B$23^0.8)/1000 -> 2.2113638 | K11: 15 | L11: =E11*MIN(I11:J11) -> 0 | N11: RICON 80/40 EA A2 | O11: =$E11*MIN($B11/$B$22,$I11*O$9/$J$22,$J11*O$9/1.3,$K11/$K$22) -> 0 | P11: =$E11*MIN($B11/$B$22,$I11*P$9/$J$22,$J11*P$9/1.3,$K11/$K$22) -> 0 | Q11: =$E11*MIN($B11/$B$22,$I11*Q$9/$J$22,$J11*Q$9/1.3,$K11/$K$22) -> 0 | R11: =$E11*MIN($B11/$B$22,$I11*R$9/$J$22,$J11*R$9/1.3,$K11/$K$22) -> 0 | S11: =$E11*MIN($B11/$B$22,$I11*S$9/$J$22,$J11*S$9/1.3,$K11/$K$22) -> 0
A12: RICON 100/40 EA A2 | B12: 5.9 | C12: 74 | D12: =P30 -> -10 | E12: =Q30 -> 0 | F12: 35 | G12: =Berechnungstabellen!J23-15 -> 65 | H12: 8 | I12: =(0.52*SQRT(H12)*(F12)^0.9*$B$23^0.8)/1000 -> 4.2225827 | J12: =($J$23*0.52*SQRT(H12)*G12^0.9*$B$23^0.8)/1000 -> 2.2113638 | K12: 15 | L12: =E12*MIN(I12:J12) -> 0 | N12: RICON 100/40 EA A2 | O12: =$E12*MIN($B12/$B$22,$I12*O$9/$J$22,$J12*O$9/1.3,$K12/$K$22) -> 0 | P12: =$E12*MIN($B12/$B$22,$I12*P$9/$J$22,$J12*P$9/1.3,$K12/$K$22) -> 0 | Q12: =$E12*MIN($B12/$B$22,$I12*Q$9/$J$22,$J12*Q$9/1.3,$K12/$K$22) -> 0 | R12: =$E12*MIN($B12/$B$22,$I12*R$9/$J$22,$J12*R$9/1.3,$K12/$K$22) -> 0 | S12: =$E12*MIN($B12/$B$22,$I12*S$9/$J$22,$J12*S$9/1.3,$K12/$K$22) -> 0
A13: RICON 120/40 EA A2 | B13: 5.9 | C13: 94 | D13: =P31 -> -10 | E13: =Q31 -> 0 | F13: 35 | G13: =Berechnungstabellen!J24-15 -> 65 | H13: 8 | I13: =(0.52*SQRT(H13)*(F13)^0.9*$B$23^0.8)/1000 -> 4.2225827 | J13: =($J$23*0.52*SQRT(H13)*G13^0.9*$B$23^0.8)/1000 -> 2.2113638 | K13: 15 | L13: =E13*MIN(I13:J13) -> 0 | N13: RICON 120/40 EA A2 | O13: =$E13*MIN($B13/$B$22,$I13*O$9/$J$22,$J13*O$9/1.3,$K13/$K$22) -> 0 | P13: =$E13*MIN($B13/$B$22,$I13*P$9/$J$22,$J13*P$9/1.3,$K13/$K$22) -> 0 | Q13: =$E13*MIN($B13/$B$22,$I13*Q$9/$J$22,$J13*Q$9/1.3,$K13/$K$22) -> 0 | R13: =$E13*MIN($B13/$B$22,$I13*R$9/$J$22,$J13*R$9/1.3,$K13/$K$22) -> 0 | S13: =$E13*MIN($B13/$B$22,$I13*S$9/$J$22,$J13*S$9/1.3,$K13/$K$22) -> 0
A14: RICON 140/40 EA A2 | B14: 5.9 | C14: 114 | D14: =P32 -> -10 | E14: =Q32 -> 0 | F14: 35 | G14: =Berechnungstabellen!J25-15 -> 65 | H14: 8 | I14: =(0.52*SQRT(H14)*(F14)^0.9*$B$23^0.8)/1000 -> 4.2225827 | J14: =($J$23*0.52*SQRT(H14)*G14^0.9*$B$23^0.8)/1000 -> 2.2113638 | K14: 15 | L14: =E14*MIN(I14:J14) -> 0 | N14: RICON 140/40 EA A2 | O14: =$E14*MIN($B14/$B$22,$I14*O$9/$J$22,$J14*O$9/1.3,$K14/$K$22) -> 0 | P14: =$E14*MIN($B14/$B$22,$I14*P$9/$J$22,$J14*P$9/1.3,$K14/$K$22) -> 0 | Q14: =$E14*MIN($B14/$B$22,$I14*Q$9/$J$22,$J14*Q$9/1.3,$K14/$K$22) -> 0 | R14: =$E14*MIN($B14/$B$22,$I14*R$9/$J$22,$J14*R$9/1.3,$K14/$K$22) -> 0 | S14: =$E14*MIN($B14/$B$22,$I14*S$9/$J$22,$J14*S$9/1.3,$K14/$K$22) -> 0
A15: RICON 160/40 EA A2 | B15: 5.9 | C15: 134 | D15: =P33 -> -10 | E15: =Q33 -> 0 | F15: 35 | G15: =Berechnungstabellen!J26-15 -> 65 | H15: 8 | I15: =(0.52*SQRT(H15)*(F15)^0.9*$B$23^0.8)/1000 -> 4.2225827 | J15: =($J$23*0.52*SQRT(H15)*G15^0.9*$B$23^0.8)/1000 -> 2.2113638 | K15: 15 | L15: =E15*MIN(I15:J15) -> 0 | N15: RICON 160/40 EA A2 | O15: =$E15*MIN($B15/$B$22,$I15*O$9/$J$22,$J15*O$9/1.3,$K15/$K$22) -> 0 | P15: =$E15*MIN($B15/$B$22,$I15*P$9/$J$22,$J15*P$9/1.3,$K15/$K$22) -> 0 | Q15: =$E15*MIN($B15/$B$22,$I15*Q$9/$J$22,$J15*Q$9/1.3,$K15/$K$22) -> 0 | R15: =$E15*MIN($B15/$B$22,$I15*R$9/$J$22,$J15*R$9/1.3,$K15/$K$22) -> 0 | S15: =$E15*MIN($B15/$B$22,$I15*S$9/$J$22,$J15*S$9/1.3,$K15/$K$22) -> 0
A16: RICON 60/30 EA A2 | B16: 4.1 | C16: 40 | D16: =P34 -> -10 | E16: =Q34 -> 0 | F16: 35 | G16: =Berechnungstabellen!J27-15 -> 65 | H16: 8 | I16: =(0.52*SQRT(H16)*(F16)^0.9*$B$23^0.8)/1000 -> 4.2225827 | J16: =($J$23*0.52*SQRT(H16)*G16^0.9*$B$23^0.8)/1000 -> 2.2113638 | K16: 15 | L16: =E16*MIN(I16:J16) -> 0 | N16: RICON 60/30 EA A2 | O16: =$E16*MIN($B16/$B$22,$I16*O$9/$J$22,$J16*O$9/1.3,$K16/$K$22) -> 0 | P16: =$E16*MIN($B16/$B$22,$I16*P$9/$J$22,$J16*P$9/1.3,$K16/$K$22) -> 0 | Q16: =$E16*MIN($B16/$B$22,$I16*Q$9/$J$22,$J16*Q$9/1.3,$K16/$K$22) -> 0 | R16: =$E16*MIN($B16/$B$22,$I16*R$9/$J$22,$J16*R$9/1.3,$K16/$K$22) -> 0 | S16: =$E16*MIN($B16/$B$22,$I16*S$9/$J$22,$J16*S$9/1.3,$K16/$K$22) -> 0
A17: RICON 80/30 EA A2 | B17: 4.1 | C17: 60 | D17: =P35 -> -10 | E17: =Q35 -> 0 | F17: 35 | G17: =Berechnungstabellen!J28-15 -> 65 | H17: 8 | I17: =(0.52*SQRT(H17)*(F17)^0.9*$B$23^0.8)/1000 -> 4.2225827 | J17: =($J$23*0.52*SQRT(H17)*G17^0.9*$B$23^0.8)/1000 -> 2.2113638 | K17: 15 | L17: =E17*MIN(I17:J17) -> 0 | N17: RICON 80/30 EA A2 | O17: =$E17*MIN($B17/$B$22,$I17*O$9/$J$22,$J17*O$9/1.3,$K17/$K$22) -> 0 | P17: =$E17*MIN($B17/$B$22,$I17*P$9/$J$22,$J17*P$9/1.3,$K17/$K$22) -> 0 | Q17: =$E17*MIN($B17/$B$22,$I17*Q$9/$J$22,$J17*Q$9/1.3,$K17/$K$22) -> 0 | R17: =$E17*MIN($B17/$B$22,$I17*R$9/$J$22,$J17*R$9/1.3,$K17/$K$22) -> 0 | S17: =$E17*MIN($B17/$B$22,$I17*S$9/$J$22,$J17*S$9/1.3,$K17/$K$22) -> 0
A18: RICON 100/30 EA A2 | B18: 4.1 | C18: 80 | D18: =P36 -> -10 | E18: =Q36 -> 0.88888889 | F18: 35 | G18: =Berechnungstabellen!J29-15 -> 65 | H18: 8 | I18: =(0.52*SQRT(H18)*(F18)^0.9*$B$23^0.8)/1000 -> 4.2225827 | J18: =($J$23*0.52*SQRT(H18)*G18^0.9*$B$23^0.8)/1000 -> 2.2113638 | K18: 15 | L18: =E18*MIN(I18:J18) -> 1.9656567 | N18: RICON 100/30 EA A2 | O18: =$E18*MIN($B18/$B$22,$I18*O$9/$J$22,$J18*O$9/1.3,$K18/$K$22) -> 0.90722618 | P18: =$E18*MIN($B18/$B$22,$I18*P$9/$J$22,$J18*P$9/1.3,$K18/$K$22) -> 1.0584305 | Q18: =$E18*MIN($B18/$B$22,$I18*Q$9/$J$22,$J18*Q$9/1.3,$K18/$K$22) -> 1.2096349 | R18: =$E18*MIN($B18/$B$22,$I18*R$9/$J$22,$J18*R$9/1.3,$K18/$K$22) -> 1.3608393 | S18: =$E18*MIN($B18/$B$22,$I18*S$9/$J$22,$J18*S$9/1.3,$K18/$K$22) -> 1.5120436
A19: RICON 120/30 EA A2 | B19: 4.1 | C19: 100 | D19: =P37 -> -10 | E19: =Q37 -> 0 | F19: 35 | G19: =Berechnungstabellen!J30-15 -> 65 | H19: 8 | I19: =(0.52*SQRT(H19)*(F19)^0.9*$B$23^0.8)/1000 -> 4.2225827 | J19: =($J$23*0.52*SQRT(H19)*G19^0.9*$B$23^0.8)/1000 -> 2.2113638 | K19: 15 | L19: =E19*MIN(I19:J19) -> 0 | N19: RICON 120/30 EA A2 | O19: =$E19*MIN($B19/$B$22,$I19*O$9/$J$22,$J19*O$9/1.3,$K19/$K$22) -> 0 | P19: =$E19*MIN($B19/$B$22,$I19*P$9/$J$22,$J19*P$9/1.3,$K19/$K$22) -> 0 | Q19: =$E19*MIN($B19/$B$22,$I19*Q$9/$J$22,$J19*Q$9/1.3,$K19/$K$22) -> 0 | R19: =$E19*MIN($B19/$B$22,$I19*R$9/$J$22,$J19*R$9/1.3,$K19/$K$22) -> 0 | S19: =$E19*MIN($B19/$B$22,$I19*S$9/$J$22,$J19*S$9/1.3,$K19/$K$22) -> 0
A20: RICON 140/30 EA A2 | B20: 4.1 | C20: 120 | D20: =P38 -> -10 | E20: =Q38 -> 0 | F20: 35 | G20: =Berechnungstabellen!J31-15 -> 65 | H20: 8 | I20: =(0.52*SQRT(H20)*(F20)^0.9*$B$23^0.8)/1000 -> 4.2225827 | J20: =($J$23*0.52*SQRT(H20)*G20^0.9*$B$23^0.8)/1000 -> 2.2113638 | K20: 15 | L20: =E20*MIN(I20:J20) -> 0 | N20: RICON 140/30 EA A2 | O20: =$E20*MIN($B20/$B$22,$I20*O$9/$J$22,$J20*O$9/1.3,$K20/$K$22) -> 0 | P20: =$E20*MIN($B20/$B$22,$I20*P$9/$J$22,$J20*P$9/1.3,$K20/$K$22) -> 0 | Q20: =$E20*MIN($B20/$B$22,$I20*Q$9/$J$22,$J20*Q$9/1.3,$K20/$K$22) -> 0 | R20: =$E20*MIN($B20/$B$22,$I20*R$9/$J$22,$J20*R$9/1.3,$K20/$K$22) -> 0 | S20: =$E20*MIN($B20/$B$22,$I20*S$9/$J$22,$J20*S$9/1.3,$K20/$K$22) -> 0
A21: RICON 160/30 EA A2 | B21: 4.1 | C21: 140 | D21: =P39 -> -10 | E21: =Q39 -> 0 | F21: 35 | G21: =Berechnungstabellen!J32-15 -> 65 | H21: 8 | I21: =(0.52*SQRT(H21)*(F21)^0.9*$B$23^0.8)/1000 -> 4.2225827 | J21: =($J$23*0.52*SQRT(H21)*G21^0.9*$B$23^0.8)/1000 -> 2.2113638 | K21: 15 | L21: =E21*MIN(I21:J21) -> 0 | N21: RICON 160/30 EA A2 | O21: =$E21*MIN($B21/$B$22,$I21*O$9/$J$22,$J21*O$9/1.3,$K21/$K$22) -> 0 | P21: =$E21*MIN($B21/$B$22,$I21*P$9/$J$22,$J21*P$9/1.3,$K21/$K$22) -> 0 | Q21: =$E21*MIN($B21/$B$22,$I21*Q$9/$J$22,$J21*Q$9/1.3,$K21/$K$22) -> 0 | R21: =$E21*MIN($B21/$B$22,$I21*R$9/$J$22,$J21*R$9/1.3,$K21/$K$22) -> 0 | S21: =$E21*MIN($B21/$B$22,$I21*S$9/$J$22,$J21*S$9/1.3,$K21/$K$22) -> 0
A22: gM = | B22: 1 | I22: gM = | J22: 1.3 | K22: 1.25
A23: characteristic density rk = | B23: =Bemessung!B37 -> 385 | C23: kg/m³ | D23: =Bemessung!B36 -> GL24h | I23: kax = | J23: =IF(Herleitung!J24>45,1,0.3+(J24*0.7/45)) -> 0.3 | N23: Height joist HN = | O23: =IF(Bemessung!B35=1,Bemessung!D76,Bemessung!H76) -> 0
I24: a= | J24: =90-Bemessung!B34 -> 0 | N24: Distance t = | O24: =Bemessung!D72 -> 0
N25: Distance t1 = | O25: =IF(Bemessung!B35=1,Bemessung!B73,Bemessung!E72) -> 10 | P25: Distance t2 = | Q25: =O25 -> 10
A27: Load direction F2 in the direction of insertion | N27: Knapp Connector | O27: Abstand ac | P27: Abstand e1 | Q27: nef
N28: RICON 60/40 EA A2 | O28: 34 | P28: =MIN($O$23/2-$Q$25,$O$23/2-$O$25,O28-$O$23/2+$Q$25,O28-$O$23/2+$O$25) -> -10 | Q28: =IF(Bemessung!$B$29="RICON 60/40 EA A2",O28/(O28-P28),0) -> 0
A29: RICON A2 Connector | N29: RICON 80/40 EA A2 | O29: 54 | P29: =MIN($O$23/2-$Q$25,$O$23/2-$O$25,O29-$O$23/2+$Q$25,O29-$O$23/2+$O$25) -> -10 | Q29: =IF(Bemessung!$B$29="RICON 80/40 EA A2",O29/(O29-P29),0) -> 0
N30: RICON 100/40 EA A2 | O30: 74 | P30: =MIN($O$23/2-$Q$25,$O$23/2-$O$25,O30-$O$23/2+$Q$25,O30-$O$23/2+$O$25) -> -10 | Q30: =IF(Bemessung!$B$29="RICON 100/40 EA A2",O30/(O30-P30),0) -> 0
A31: characteristic density rk = | B31: =B23 -> 385 | C31: kg/m³ | D31: =Bemessung!B36 -> GL24h | N31: RICON 120/40 EA A2 | O31: 94 | P31: =MIN($O$23/2-$Q$25,$O$23/2-$O$25,O31-$O$23/2+$Q$25,O31-$O$23/2+$O$25) -> -10 | Q31: =IF(Bemessung!$B$29="RICON 120/40 EA A2",O31/(O31-P31),0) -> 0
A32: char. yield moment My,Rk = | B32: 15000 | C32: 4400 | D32: Nmm | E32: =Bemessung!A12 -> mit KNAPP® A2 Edelstahlschrauben nach ETA-10/0189 | N32: RICON 140/40 EA A2 | O32: 114 | P32: =MIN($O$23/2-$Q$25,$O$23/2-$O$25,O32-$O$23/2+$Q$25,O32-$O$23/2+$O$25) -> -10 | Q32: =IF(Bemessung!$B$29="RICON 140/40 EA A2",O32/(O32-P32),0) -> 0
A33: outer thread diameter d = | B33: 8 | C33: 5 | D33: mm | N33: RICON 160/40 EA A2 | O33: 134 | P33: =MIN($O$23/2-$Q$25,$O$23/2-$O$25,O33-$O$23/2+$Q$25,O33-$O$23/2+$O$25) -> -10 | Q33: =IF(Bemessung!$B$29="RICON 160/40 EA A2",O33/(O33-P33),0) -> 0
A34: Embedding strength fh,J,k = | B34: =0.082*B33^-0.3*B31/(2.5*COS(RADIANS(J24))^2+SIN(RADIANS(J24))^2) -> 6.7671776 | C34: =0.082*C33^-0.3*B31/(2.5*COS(RADIANS(J24))^2+SIN(RADIANS(J24))^2) -> 7.7919036 | D34: N/mm² | N34: RICON 60/30 EA A2 | O34: 40 | P34: =MIN($O$23/2-$Q$25,$O$23/2-$O$25,O34-$O$23/2+$Q$25,O34-$O$23/2+$O$25) -> -10 | Q34: =IF(Bemessung!$B$29="RICON 60/30 EA A2",O34/(O34-P34),0) -> 0
A35: Embedding strength fh,H,k = | B35: =0.082*B33^-0.3*$B$31 -> 16.917944 | C35: =0.082*C33^-0.3*$B$31 -> 19.479759 | D35: N/mm² | N35: RICON 80/30 EA A2 | O35: 60 | P35: =MIN($O$23/2-$Q$25,$O$23/2-$O$25,O35-$O$23/2+$Q$25,O35-$O$23/2+$O$25) -> -10 | Q35: =IF(Bemessung!$B$29="RICON 80/30 EA A2",O35/(O35-P35),0) -> 0
N36: RICON 100/30 EA A2 | O36: 80 | P36: =MIN($O$23/2-$Q$25,$O$23/2-$O$25,O36-$O$23/2+$Q$25,O36-$O$23/2+$O$25) -> -10 | Q36: =IF(Bemessung!$B$29="RICON 100/30 EA A2",O36/(O36-P36),0) -> 0.88888889
N37: RICON 120/30 EA A2 | O37: 100 | P37: =MIN($O$23/2-$Q$25,$O$23/2-$O$25,O37-$O$23/2+$Q$25,O37-$O$23/2+$O$25) -> -10 | Q37: =IF(Bemessung!$B$29="RICON 120/30 EA a2",O37/(O37-P37),0) -> 0
A38: Knapp Connector | B38: n | C38: d | D38: lef | E38: Fax,J,RK | F38: Fv,J,Rk | G38: n | H38: d | I38: lef | J38: Fax,J,RK | K38: Fv,J,Rk | L38: S Fv,J,Rk | N38: RICON 140/30 EA A2 | O38: 120 | P38: =MIN($O$23/2-$Q$25,$O$23/2-$O$25,O38-$O$23/2+$Q$25,O38-$O$23/2+$O$25) -> -10 | Q38: =IF(Bemessung!$B$29="RICON 140/30 EA A2",O38/(O38-P38),0) -> 0
B39: [pcs] | C39: [mm] | D39: [mm] | E39: [kN] | F39: [kN] | G39: [pcs] | H39: [mm] | I39: [mm] | J39: [kN] | K39: [kN] | L39: [kN] | N39: RICON 160/30 EA A2 | O39: 140 | P39: =MIN($O$23/2-$Q$25,$O$23/2-$O$25,O39-$O$23/2+$Q$25,O39-$O$23/2+$O$25) -> -10 | Q39: =IF(Bemessung!$B$29="RICON 160/30 EA A2",O39/(O39-P39),0) -> 0
A40: RICON 60/40 EA A2 | B40: 1 | C40: 8 | D40: =Berechnungstabellen!J21-15 -> 65 | E40: =(0.3*0.52*SQRT($C40)*(D40)^0.9*$B$31^0.8)/1000 -> 2.2113638 | F40: =MIN($D40*$B$33*$B$34/1000,(2.3*SQRT($B$32*$B$33*$B$34))/1000+(E40/4),$B$34*$D40*$B$33*(SQRT(2+4*$B$32/($B$34*$D40^2*$B$33))-1)/1000+E40/4) -> 2.3267354 | G40: 2 | H40: 5 | I40: =Berechnungstabellen!M21-10 -> 70 | J40: =($J$52*0.52*SQRT($H40)*(I40)^0.9*$B$31^0.8)/1000 -> 1.8688155 | K40: =MIN($C$34*$I40*$C$33/1000,(2.3*SQRT($C$32*$C$33*$C$34))/1000+(J40/4),$C$34*$I40*$C$33*(SQRT(2+4*$C$32/($C$34*$I40^2*$C$33)-1)/1000+J40/4)) -> 1.4194758 | L40: =B40*F40+G40*K40 -> 5.1656869
A41: RICON 80/40 EA A2 | B41: 2 | C41: 8 | D41: =Berechnungstabellen!J22-15 -> 65 | E41: =(0.3*0.52*SQRT($C41)*(D41)^0.9*$B$31^0.8)/1000 -> 2.2113638 | F41: =MIN($D41*$B$33*$B$34/1000,(2.3*SQRT($B$32*$B$33*$B$34))/1000+(E41/4),$B$34*$D41*$B$33*(SQRT(2+4*$B$32/($B$34*$D41^2*$B$33))-1)/1000+E41/4) -> 2.3267354 | G41: 2 | H41: 5 | I41: =Berechnungstabellen!M22-10 -> 70 | J41: =($J$52*0.52*SQRT($H41)*(I41)^0.9*$B$31^0.8)/1000 -> 1.8688155 | K41: =MIN($C$34*$I41*$C$33/1000,(2.3*SQRT($C$32*$C$33*$C$34))/1000+(J41/4),$C$34*$I41*$C$33*(SQRT(2+4*$C$32/($C$34*$I41^2*$C$33)-1)/1000+J41/4)) -> 1.4194758 | L41: =B41*F41+G41*K41 -> 7.4924222
A42: RICON 100/40 EA A2 | B42: 2 | C42: 8 | D42: =Berechnungstabellen!J23-15 -> 65 | E42: =(0.3*0.52*SQRT($C42)*(D42)^0.9*$B$31^0.8)/1000 -> 2.2113638 | F42: =MIN($D42*$B$33*$B$34/1000,(2.3*SQRT($B$32*$B$33*$B$34))/1000+(E42/4),$B$34*$D42*$B$33*(SQRT(2+4*$B$32/($B$34*$D42^2*$B$33))-1)/1000+E42/4) -> 2.3267354 | G42: 4 | H42: 5 | I42: =Berechnungstabellen!M23-10 -> 70 | J42: =($J$52*0.52*SQRT($H42)*(I42)^0.9*$B$31^0.8)/1000 -> 1.8688155 | K42: =MIN($C$34*$I42*$C$33/1000,(2.3*SQRT($C$32*$C$33*$C$34))/1000+(J42/4),$C$34*$I42*$C$33*(SQRT(2+4*$C$32/($C$34*$I42^2*$C$33)-1)/1000+J42/4)) -> 1.4194758 | L42: =B42*F42+G42*K42 -> 10.331374
A43: RICON 120/40 EA A2 | B43: 2 | C43: 8 | D43: =Berechnungstabellen!J24-15 -> 65 | E43: =(0.3*0.52*SQRT($C43)*(D43)^0.9*$B$31^0.8)/1000 -> 2.2113638 | F43: =MIN($D43*$B$33*$B$34/1000,(2.3*SQRT($B$32*$B$33*$B$34))/1000+(E43/4),$B$34*$D43*$B$33*(SQRT(2+4*$B$32/($B$34*$D43^2*$B$33))-1)/1000+E43/4) -> 2.3267354 | G43: 6 | H43: 5 | I43: =Berechnungstabellen!M24-10 -> 70 | J43: =($J$52*0.52*SQRT($H43)*(I43)^0.9*$B$31^0.8)/1000 -> 1.8688155 | K43: =MIN($C$34*$I43*$C$33/1000,(2.3*SQRT($C$32*$C$33*$C$34))/1000+(J43/4),$C$34*$I43*$C$33*(SQRT(2+4*$C$32/($C$34*$I43^2*$C$33)-1)/1000+J43/4)) -> 1.4194758 | L43: =B43*F43+G43*K43 -> 13.170325
...

Sheet Schraubenlängen
A1: Schraubenlängen für Querzugverstärkung der Nebenträger mit
A2: 8 | B2: Schrauben | F2: =Bemessung!F95 -> 0
A3: Typ1 | B3: Typ 2 | C3: Typ 3 | D3: Auswahl | F3: Endauswahl: | G3: =Bemessung!C96 -> Typ 1 | H3: =Bemessung!D96 -> SWG [ ETA-12/0197]
A4: Längen L [mm] | B4: Längen L [mm] | C4: Längen L [mm] | D4: Längen L [mm] | F4: Längen L [mm]
A5: 120 | B5: 120 | C5: 120 | D5: =IF(AND(Bemessung!$C$96="Typ 1",Bemessung!$F$95=8),Schraubenlängen!A5,IF(AND(Bemessung!$C$96="Typ 2",Bemessung!$F$95=8),Schraubenlängen!B5,IF(AND(Bemessung!$C$96="Typ 3",Bemessung!$F$95=8),Schraubenlängen!C5,""))) | F5: =IF($F$2=8,D5,D33)
A6: 160 | B6: 160 | C6: 160 | D6: =IF(AND(Bemessung!$C$96="Typ 1",Bemessung!$F$95=8),Schraubenlängen!A6,IF(AND(Bemessung!$C$96="Typ 2",Bemessung!$F$95=8),Schraubenlängen!B6,IF(AND(Bemessung!$C$96="Typ 3",Bemessung!$F$95=8),Schraubenlängen!C6,""))) | F6: =IF($F$2=8,D6,D34)
A7: 180 | B7: 180 | C7: 180 | D7: =IF(AND(Bemessung!$C$96="Typ 1",Bemessung!$F$95=8),Schraubenlängen!A7,IF(AND(Bemessung!$C$96="Typ 2",Bemessung!$F$95=8),Schraubenlängen!B7,IF(AND(Bemessung!$C$96="Typ 3",Bemessung!$F$95=8),Schraubenlängen!C7,""))) | F7: =IF($F$2=8,D7,D35)
A8: 200 | B8: 200 | C8: 200 | D8: =IF(AND(Bemessung!$C$96="Typ 1",Bemessung!$F$95=8),Schraubenlängen!A8,IF(AND(Bemessung!$C$96="Typ 2",Bemessung!$F$95=8),Schraubenlängen!B8,IF(AND(Bemessung!$C$96="Typ 3",Bemessung!$F$95=8),Schraubenlängen!C8,""))) | F8: =IF($F$2=8,D8,D36)
A9: 220 | B9: 220 | C9: 220 | D9: =IF(AND(Bemessung!$C$96="Typ 1",Bemessung!$F$95=8),Schraubenlängen!A9,IF(AND(Bemessung!$C$96="Typ 2",Bemessung!$F$95=8),Schraubenlängen!B9,IF(AND(Bemessung!$C$96="Typ 3",Bemessung!$F$95=8),Schraubenlängen!C9,""))) | F9: =IF($F$2=8,D9,D37)
A10: 240 | B10: 240 | C10: 240 | D10: =IF(AND(Bemessung!$C$96="Typ 1",Bemessung!$F$95=8),Schraubenlängen!A10,IF(AND(Bemessung!$C$96="Typ 2",Bemessung!$F$95=8),Schraubenlängen!B10,IF(AND(Bemessung!$C$96="Typ 3",Bemessung!$F$95=8),Schraubenlängen!C10,""))) | F10: =IF($F$2=8,D10,D38)
A11: 260 | B11: 260 | C11: 260 | D11: =IF(AND(Bemessung!$C$96="Typ 1",Bemessung!$F$95=8),Schraubenlängen!A11,IF(AND(Bemessung!$C$96="Typ 2",Bemessung!$F$95=8),Schraubenlängen!B11,IF(AND(Bemessung!$C$96="Typ 3",Bemessung!$F$95=8),Schraubenlängen!C11,""))) | F11: =IF($F$2=8,D11,D39)
A12: 280 | B12: 280 | C12: 280 | D12: =IF(AND(Bemessung!$C$96="Typ 1",Bemessung!$F$95=8),Schraubenlängen!A12,IF(AND(Bemessung!$C$96="Typ 2",Bemessung!$F$95=8),Schraubenlängen!B12,IF(AND(Bemessung!$C$96="Typ 3",Bemessung!$F$95=8),Schraubenlängen!C12,""))) | F12: =IF($F$2=8,D12,D40)
A13: 300 | B13: 300 | C13: 300 | D13: =IF(AND(Bemessung!$C$96="Typ 1",Bemessung!$F$95=8),Schraubenlängen!A13,IF(AND(Bemessung!$C$96="Typ 2",Bemessung!$F$95=8),Schraubenlängen!B13,IF(AND(Bemessung!$C$96="Typ 3",Bemessung!$F$95=8),Schraubenlängen!C13,""))) | F13: =IF($F$2=8,D13,D41)
A14: 330 | B14: 350 | C14: 350 | D14: =IF(AND(Bemessung!$C$96="Typ 1",Bemessung!$F$95=8),Schraubenlängen!A14,IF(AND(Bemessung!$C$96="Typ 2",Bemessung!$F$95=8),Schraubenlängen!B14,IF(AND(Bemessung!$C$96="Typ 3",Bemessung!$F$95=8),Schraubenlängen!C14,""))) | F14: =IF($F$2=8,D14,D42)
A15: 360 | B15: 400 | C15: 400 | D15: =IF(AND(Bemessung!$C$96="Typ 1",Bemessung!$F$95=8),Schraubenlängen!A15,IF(AND(Bemessung!$C$96="Typ 2",Bemessung!$F$95=8),Schraubenlängen!B15,IF(AND(Bemessung!$C$96="Typ 3",Bemessung!$F$95=8),Schraubenlängen!C15,""))) | F15: =IF($F$2=8,D15,D43)
A16: 380 | B16: 450 | C16: 450 | D16: =IF(AND(Bemessung!$C$96="Typ 1",Bemessung!$F$95=8),Schraubenlängen!A16,IF(AND(Bemessung!$C$96="Typ 2",Bemessung!$F$95=8),Schraubenlängen!B16,IF(AND(Bemessung!$C$96="Typ 3",Bemessung!$F$95=8),Schraubenlängen!C16,""))) | F16: =IF($F$2=8,D16,D44)
... A18: 450 | B18: 600 | C18: 600 | D18: =IF(AND(Bemessung!$C$96="Typ 1",Bemessung!$F$95=8),Schraubenlängen!A18,IF(AND(Bemessung!$C$96="Typ 2",Bemessung!$F$95=8),Schraubenlängen!B18,IF(AND(Bemessung!$C$96="Typ 3",Bemessung!$F$95=8),Schraubenlängen!C18,""))) | F18: =IF($F$2=8,D18,D46)
A19: 460 | D19: =IF(AND(Bemessung!$C$96="Typ 1",Bemessung!$F$95=8),Schraubenlängen!A19,IF(AND(Bemessung!$C$96="Typ 2",Bemessung!$F$95=8),Schraubenlängen!B19,IF(AND(Bemessung!$C$96="Typ 3",Bemessung!$F$95=8),Schraubenlängen!C19,""))) | F19: =IF($F$2=8,D19,D47)
A20: 480 | D20: =IF(AND(Bemessung!$C$96="Typ 1",Bemessung!$F$95=8),Schraubenlängen!A20,IF(AND(Bemessung!$C$96="Typ 2",Bemessung!$F$95=8),Schraubenlängen!B20,IF(AND(Bemessung!$C$96="Typ 3",Bemessung!$F$95=8),Schraubenlängen!C20,""))) | F20: =IF($F$2=8,D20,D48)
A21: 530 | D21: =IF(AND(Bemessung!$C$96="Typ 1",Bemessung!$F$95=8),Schraubenlängen!A21,IF(AND(Bemessung!$C$96="Typ 2",Bemessung!$F$95=8),Schraubenlängen!B21,IF(AND(Bemessung!$C$96="Typ 3",Bemessung!$F$95=8),Schraubenlängen!C21,""))) | F21: =IF($F$2=8,D21,D49)
A22: 580 | D22: =IF(AND(Bemessung!$C$96="Typ 1",Bemessung!$F$95=8),Schraubenlängen!A22,IF(AND(Bemessung!$C$96="Typ 2",Bemessung!$F$95=8),Schraubenlängen!B22,IF(AND(Bemessung!$C$96="Typ 3",Bemessung!$F$95=8),Schraubenlängen!C22,""))) | F22: =IF($F$2=8,D22,D50)
F23: =IF($F$2=8,D23,D51)
F24: =IF($F$2=8,D24,D52)
F25: =IF($F$2=8,D25,D53)
F26: =IF($F$2=8,D26,D54) -> 0
A29: Schraubenlängen für Querzugverstärkung der Nebenträger mit
A30: 10 | B30: Schrauben
A31: Typ1 | B31: Typ 2 | C31: Typ 3 | D31: Auswahl
A32: Längen L [mm] | B32: Längen L [mm] | C32: Längen L [mm] | D32: Längen L [mm]
A33: 160 | B33: 160 | C33: 200 | D33: =IF(AND(Bemessung!$C$96="Typ 1",Bemessung!$F$95=10),Schraubenlängen!A33,IF(AND(Bemessung!$C$96="Typ 2",Bemessung!$F$95=10),Schraubenlängen!B33,IF(AND(Bemessung!$C$96="Typ 3",Bemessung!$F$95=10),Schraubenlängen!C33,"")))
A34: 180 | B34: 180 | C34: 220 | D34: =IF(AND(Bemessung!$C$96="Typ 1",Bemessung!$F$95=10),Schraubenlängen!A34,IF(AND(Bemessung!$C$96="Typ 2",Bemessung!$F$95=10),Schraubenlängen!B34,IF(AND(Bemessung!$C$96="Typ 3",Bemessung!$F$95=10),Schraubenlängen!C34,"")))
A35: 200 | B35: 200 | C35: 240 | D35: =IF(AND(Bemessung!$C$96="Typ 1",Bemessung!$F$95=10),Schraubenlängen!A35,IF(AND(Bemessung!$C$96="Typ 2",Bemessung!$F$95=10),Schraubenlängen!B35,IF(AND(Bemessung!$C$96="Typ 3",Bemessung!$F$95=10),Schraubenlängen!C35,"")))
A36: 220 | B36: 220 | C36: 260 | D36: =IF(AND(Bemessung!$C$96="Typ 1",Bemessung!$F$95=10),Schraubenlängen!A36,IF(AND(Bemessung!$C$96="Typ 2",Bemessung!$F$95=10),Schraubenlängen!B36,IF(AND(Bemessung!$C$96="Typ 3",Bemessung!$F$95=10),Schraubenlängen!C36,"")))
A37: 240 | B37: 240 | C37: 280 | D37: =IF(AND(Bemessung!$C$96="Typ 1",Bemessung!$F$95=10),Schraubenlängen!A37,IF(AND(Bemessung!$C$96="Typ 2",Bemessung!$F$95=10),Schraubenlängen!B37,IF(AND(Bemessung!$C$96="Typ 3",Bemessung!$F$95=10),Schraubenlängen!C37,"")))
A38: 260 | B38: 260 | C38: 300 | D38: =IF(AND(Bemessung!$C$96="Typ 1",Bemessung!$F$95=10),Schraubenlängen!A38,IF(AND(Bemessung!$C$96="Typ 2",Bemessung!$F$95=10),Schraubenlängen!B38,IF(AND(Bemessung!$C$96="Typ 3",Bemessung!$F$95=10),Schraubenlängen!C38,"")))
A39: 280 | B39: 280 | C39: 350 | D39: =IF(AND(Bemessung!$C$96="Typ 1",Bemessung!$F$95=10),Schraubenlängen!A39,IF(AND(Bemessung!$C$96="Typ 2",Bemessung!$F$95=10),Schraubenlängen!B39,IF(AND(Bemessung!$C$96="Typ 3",Bemessung!$F$95=10),Schraubenlängen!C39,"")))
A40: 300 | B40: 300 | C40: 400 | D40: =IF(AND(Bemessung!$C$96="Typ 1",Bemessung!$F$95=10),Schraubenlängen!A40,IF(AND(Bemessung!$C$96="Typ 2",Bemessung!$F$95=10),Schraubenlängen!B40,IF(AND(Bemessung!$C$96="Typ 3",Bemessung!$F$95=10),Schraubenlängen!C40,"")))
A41: 320 | B41: 350 | C41: 450 | D41: =IF(AND(Bemessung!$C$96="Typ 1",Bemessung!$F$95=10),Schraubenlängen!A41,IF(AND(Bemessung!$C$96="Typ 2",Bemessung!$F$95=10),Schraubenlängen!B41,IF(AND(Bemessung!$C$96="Typ 3",Bemessung!$F$95=10),Schraubenlängen!C41,"")))
A42: 340 | B42: 400 | C42: 500 | D42: =IF(AND(Bemessung!$C$96="Typ 1",Bemessung!$F$95=10),Schraubenlängen!A42,IF(AND(Bemessung!$C$96="Typ 2",Bemessung!$F$95=10),Schraubenlängen!B42,IF(AND(Bemessung!$C$96="Typ 3",Bemessung!$F$95=10),Schraubenlängen!C42,"")))
A43: 360 | B43: 450 | C43: 550 | D43: =IF(AND(Bemessung!$C$96="Typ 1",Bemessung!$F$95=10),Schraubenlängen!A43,IF(AND(Bemessung!$C$96="Typ 2",Bemessung!$F$95=10),Schraubenlängen!B43,IF(AND(Bemessung!$C$96="Typ 3",Bemessung!$F$95=10),Schraubenlängen!C43,"")))
...
