Workbook

Sheet Bemessung
A1: RICON®S Bemessungstool für Haupt-Nebenträger/ Nebenträger-Stützen-Anschlüsse | I1: KNAPP®
A2: (Unverbindliche Musterbemessung) | I2: Version 5.0 | K2: Eingabefelder
I3: 45062 | K3: Ergebnisse OK
A4: Firma: | K4: Ergebnisse nicht OK
A5: Bauvorhaben:
A6: Datum:
A7: Bearbeiter:
A8: Verkäufer:
A10: Anschlussdimensionierung RICON® S nach ETA 10-0189 (Ausgabe 25.08.2022)
A12: mit | B12: KNAPP®-Schrauben nach ETA-10/0189 | E12: VS verschweißter Kragenbolzen | G12: VS + ZP verschweißter Kragenbolzen + Zusatzplatte
A14: Belastung:
A16: Eingabe der Anschlusskräfte als Bemessungswerte (Design-Werte) Fd:
A18: Lastfall kombination | B18: Mittige/Ausmittige Zugkraft F1,d | C18: In Einschub- richtung F2,d | D18: Entgegen Einschubricht. F3,d | E18: Rechtwinklig zur Einschubrichtung F45,d | F18: KLED | G18: kmod
A19: LFK1: g | F19: ständig | G19: =Zwischenrechnung!H4 -> 0.6
A20: LFK2: g+s | F20: =VLOOKUP(G20,Zwischenrechnung!H6:I7,2) -> kurz | G20: 0.9
A21: LFK3: g+n | F21: =VLOOKUP(G21,Zwischenrechnung!H5:I7,2) -> mittel | G21: 0.8
A22: LFK4: g+s+wd | F22: =VLOOKUP(G22,Zwischenrechnung!H6:I8,2) -> kurz | G22: 0.9
A23: LFK5: g+ws | F23: =VLOOKUP(G23,Zwischenrechnung!H7:I8,2) -> kurz | G23: 0.9
A24: Lastfall Beschreibung: | B24: g : Eigengewicht Konstruktion s: Schnee n: Nutzlast (Verkehrslast in Gebäuden) wd: Winddruck ws: Windsog (Abhebende Dachlasten) | F24: Faktor gM = | G24: 1.3 | H24: für Verbindungen
E25: =IF(AND(B29=Zwischenrechnung!L37,OR(Bemessung!E19>0,Bemessung!E20>0,Bemessung!E21>0,Bemessung!E22>0,Bemessung!E23>0)),"Für den Stützen-Nebenträger-Anschluss sind nach ETA 10-0,189 keine Belastungswerte angegeben! Bitte überall 0 eingeben, damit der Nachweis ohne F45,d gerechnet werden kann!","")
A26: Ausgewählter KNAPP® RICON® S Anschluss:
A28: Verbinderauswahl: | B28: RICON S 200/80 VS st | C28: Verschweißter Kragenbolzen | E28: =IF(D23<0,"mit 1 Sperrklappe","") | J28: Knapp Verbinder | K28: n (NT) | L28: Schrauben NT | M28: n (HT) | N28: Schrauben HT | O28: n (Stütze) | P28: Schrauben Stütze
A29: Anschlussart: | B29: Haupt- Nebenträger-Anschluss: | J29: RICON S 140/60 VS min | K29: 7 | L29: 160 | M29: 7 | N29: 80 | O29: 6 | P29: 80
A30: =IF(Bemessung!B29=Zwischenrechnung!L36,VLOOKUP(B28,Zwischenrechnung!A18:B27,2,FALSE),VLOOKUP(Bemessung!B28,Zwischenrechnung!A18:H27,8,FALSE)) -> 16 | B30: =VLOOKUP(B29,Zwischenrechnung!L36:N37,3,FALSE) -> Vollgewindeschrauben Hauptträger | D30: =IF(B29=Zwischenrechnung!L36,VLOOKUP(B28,Zwischenrechnung!A18:D27,3,FALSE),VLOOKUP(Bemessung!B28,Zwischenrechnung!A18:I27,9,FALSE)) -> 10 | E30: =IF(B29=Zwischenrechnung!L36,VLOOKUP(B28,Zwischenrechnung!A18:D27,4,FALSE),VLOOKUP(B28,Zwischenrechnung!A18:J27,10,FALSE)) -> 100 | J30: RICON S 140/60 VS st | K30: 10 | L30: 160 | M30: 10 | N30: 80 | O30: 8 | P30: 80
A31: =IF($B$28=$J$38,2,"") | B31: =IF(Bemessung!B29=Zwischenrechnung!L36,IF($B$28=Zwischenrechnung!A27,"Schrägschrauben Hauptträger",""),IF($B$28=Zwischenrechnung!A27,"Schrägschrauben Stütze","")) | D31: =IF($B$28=Zwischenrechnung!A27,10,"") | E31: =IF($B$28=Zwischenrechnung!A27,IF(B29=Zwischenrechnung!L36,Zwischenrechnung!D28,Zwischenrechnung!J28),"") | J31: RICON S 200/60 VS min | K31: 8 | L31: 160 | M31: 8 | N31: 80 | O31: 9 | P31: 80
A32: =VLOOKUP(B28,Zwischenrechnung!A18:E27,5,FALSE) -> 16 | B32: Vollgewindeschrauben Nebenträger | D32: =VLOOKUP(B28,Zwischenrechnung!A18:G27,6,FALSE) -> 10 | E32: =VLOOKUP(B28,Zwischenrechnung!A18:G27,7,FALSE) -> 300 | J32: RICON S 200/60 VS st | K32: 16 | L32: 160 | M32: 16 | N32: 80 | O32: 13 | P32: 80
A33: =IF($B$28=$J$38,2,"") | B33: =IF($B$28=Zwischenrechnung!A27,"Schrägschrauben Nebenträger","") | D33: =IF($B$28=Zwischenrechnung!A27,Zwischenrechnung!F28,"") | E33: =IF($B$28=Zwischenrechnung!A27,Zwischenrechnung!G28,"") | J33: RICON S 200/80 VS min | K33: 8 | L33: 200 | M33: 8 | N33: 100 | O33: 9 | P33: 100
A34: Grundwinkel a = | B34: 90 | C34: =IF(B34<80,"Bitte bei Schräganschlüsse auf die Schraubenlänge im NT achten!","") | J34: RICON S 200/80 VS st | K34: 16 | L34: 300 | M34: 16 | N34: 100 | O34: 13 | P34: 100
A35: Holzqualität NT: | B35: GL24h | C35: =VLOOKUP(B35,Zwischenrechnung!J2:N14,5,FALSE) -> Brettschichtholz homogen | J35: RICON S 290/80 VS min | K35: 8 | L35: 200 | M35: 8 | N35: 100 | O35: 13 | P35: 100
A36: Rohdichte NT rk = | B36: =VLOOKUP(B35,Zwischenrechnung!J2:K12,2,FALSE) -> 385 | C36: =IF(B36=590,"Rohdichte wird mit 590 kg/m³ wg. der Schrauben gerechnet !","") | J36: RICON S 290/80 VS st | K36: 25 | L36: 100 | M36: 25 | N36: 100 | O36: 20 | P36: 100
A37: =IF(B29=Zwischenrechnung!L36,"Holzqualität HT:","Holzqualität Stütze:") -> Holzqualität HT: | B37: GL24h | C37: =VLOOKUP(B37,Zwischenrechnung!J2:N12,5,FALSE) -> Brettschichtholz homogen | J37: RICON S 390x80 VS+ZP | K37: 28 | L37: 200 | M37: 28 | N37: 100 | O37: 23 | P37: 100
A38: Rohdichte HT rk = | B38: =VLOOKUP(B37,Zwischenrechnung!J2:N12,2,FALSE) -> 385 | J38: RICON S 390x80 VS+ZP max | K38: 28 | L38: 200 | M38: 28 | N38: 100 | O38: 23 | P38: 100
A39: KNAPP® Schrauben: | B39: =Zwischenrechnung!L15 -> ETA-10/0189 | K39: 2 | L39: 450 | M39: 2 | N39: 400 | O39: 2 | P39: 400
A40: Zugfestigkeit ftens,k = | B40: =VLOOKUP(B28,Zwischenrechnung!A18:K27,8,FALSE) -> 13 | F40: Draufsicht: | G40: Grundwinkeldarstellung:
A41: Fließmoment My,k= | B41: =VLOOKUP(B28,Zwischenrechnung!A18:L27,9,FALSE) -> 10 | H41: Nebenträger
F42: Hauptträger
A43: Bemessungswerte der Tragfähigkeit vom ausgewählten RICON®S Verbinder
A44: kmod | B44: F1,Rd | C44: F2,Rd | D44: F3,Rd | E44: F45,Rd
A45: 0.6 | B45: =Zwischenrechnung!B102 -> 7.2635364 | C45: =Zwischenrechnung!C102 -> 42.653339 | E45: =Zwischenrechnung!E102 -> 14.70872
A46: 0.7 | B46: =Zwischenrechnung!B103 -> 8.4741258 | C46: =Zwischenrechnung!C103 -> 49.762228 | E46: =Zwischenrechnung!E103 -> 17.160173
A47: 0.8 | B47: =Zwischenrechnung!B104 -> 9.6847152 | C47: =Zwischenrechnung!C104 -> 56.871118 | E47: =Zwischenrechnung!E104 -> 19.611626
A48: 0.9 | B48: =Zwischenrechnung!B105 -> 10.895305 | C48: =Zwischenrechnung!C105 -> 63.980008 | D48: =Zwischenrechnung!D105 -> 14.4 | E48: =Zwischenrechnung!E105 -> 22.063079
A49: 1 | B49: =Zwischenrechnung!B106 -> 12.105894 | C49: =Zwischenrechnung!C106 -> 71.088898 | D49: =Zwischenrechnung!D106 -> 14.4 | E49: =Zwischenrechnung!E106 -> 24.514533
A51: Einzelnachweise in den verschiedenen Lastfallkombinationen:
A52: Lastfall: | B52: (F1,d/F1,Rd) ≤ 1,0 | C52: (F2,d/F2,Rd) ≤ 1,0 | D52: (F3,d/F3,Rd) ≤ 1,0 | E52: (F45,d/F45,Rd) ≤ 1,0
A53: LFK1: g | B53: =Zwischenrechnung!B128 -> 0 | C53: =Zwischenrechnung!C128 -> 0 | E53: =Zwischenrechnung!E128 -> 0
A54: LFK2: g+s | B54: =Zwischenrechnung!B129 -> 0 | C54: =Zwischenrechnung!C129 -> 0 | E54: =Zwischenrechnung!E129 -> 0
A55: LFK3: g+n | B55: =Zwischenrechnung!B130 -> 0 | C55: =Zwischenrechnung!C130 -> 0 | E55: =Zwischenrechnung!E130 -> 0
A56: LFK4: g+s+wd | B56: =Zwischenrechnung!B131 -> 0 | C56: =Zwischenrechnung!C131 -> 0 | E56: =Zwischenrechnung!E131 -> 0
A57: LFK5: g+ws | B57: =Zwischenrechnung!B132 -> 0 | D57: =Zwischenrechnung!D132 -> 0 | E57: =Zwischenrechnung!E132 -> 0 | F57: =IF(AND(B53<=1,B54<=1,B55<=1,B56<=1,B57<=1,C53<=1,C54<=1,C55<=1,C56<=1,D57<=1,E53<=1,E54<=1,E55<=1,E56<=1,E57<=1),"Alle Einzelnachweise sind erbracht!","Nicht alle Einelnachweise sind erbracht!") -> Alle Einzelnachweise sind erbracht!
A59: Kombinierte Nachweise in den verschiedenen Lastfallkombinationen:
A60: Lastfall: | B60: (F1,d/F1,Rd)² + (F2,d/F2,Rd)²≤ 1,0 | C60: (F2,d/F2,Rd)² + (F45,d/F45,Rd)²≤ 1,0 | E60: (F1,d/F1,Rd)² + (F45,d/F45,Rd)²≤ 1,0 | G60: (F1,d/F1,Rd)² + (F2,d/F2,Rd)² + (F45,d/F45,Rd)² ≤ 1,0
A61: LFK1: g | B61: =Zwischenrechnung!F136 -> 0 | C61: =Zwischenrechnung!H136 -> 0 | E61: =Zwischenrechnung!J136 -> 0 | G61: =Zwischenrechnung!L136 -> 0
A62: LFK2: g+s | B62: =Zwischenrechnung!F137 -> 0 | C62: =Zwischenrechnung!H137 -> 0 | E62: =Zwischenrechnung!J137 -> 0 | G62: =Zwischenrechnung!L137 -> 0
A63: LFK3: g+n | B63: =Zwischenrechnung!F138 -> 0 | C63: =Zwischenrechnung!H138 -> 0 | E63: =Zwischenrechnung!J138 -> 0 | G63: =Zwischenrechnung!L138 -> 0
A64: LFK4: g+s+wd | B64: =Zwischenrechnung!F139 -> 0 | C64: =Zwischenrechnung!H139 -> 0 | E64: =Zwischenrechnung!J139 -> 0 | G64: =Zwischenrechnung!L139 -> 0
A66: Lastfall: | B66: (F1,d/F1,Rd)² + (F3,d/F3,Rd)²≤ 1,0 | C66: (F3,d/F3,Rd)² + (F45,d/F45,Rd)²≤ 1,0 | E66: (F1,d/F1,Rd)² + (F45,d/F45,Rd)²≤ 1,0 | G66: (F1,d/F1,Rd)² + (F3,d/F3,Rd)² + (F45,d/F45,Rd)² ≤ 1,0
A67: LFK5: g+ws | B67: =Zwischenrechnung!F142 -> 0 | C67: =Zwischenrechnung!H142 -> 0 | E67: =Zwischenrechnung!J142 -> 0 | G67: =Zwischenrechnung!L142 -> 0
B68: {=IF(AND(B61:I64=0,B67:I67=0),"Es wird kein Kombinationsnachweis erforderlich, weil es sich nur um Einzellasten handelt!",IF(AND(B61<=1,B62<=1,B63<=1,B64<=1,B67<=1,C61<=1,C62<=1,C63<=1,C64<=1,C67<=1,E61<=1,E62<=1,E63<=1,E64<=1,E67<=1,G61<=1,G62<=1,G63<=1,G64<=1,G67<=1),"Alle Kombinationsnachweise sind erbracht!","Nicht alle Kombinationsnachweise sind erbracht!"))} -> Es wird kein Kombinationsnachweis erforderlich, weil es sich nur um Einzellasten handelt!
A72: Ausklinkungsnachweis im Nebenträger nach EN 1995-1-1 Kap. 6.5.2:
A73: Ausklinkungsverhältnis a = hef / HN > 0,50 (ÖNORM EN 1995-1-1 NA 6.63-E1):
A74: Überprüfung des Ausklinkungsverhälnis im Nebenträger:
A75: a = hef/HN = | B75: =B82/E83 -> #DIV/0! | C75: =IF(B75<0.5,"<0,5",IF(B75=0.5,"=0,5",">0,5")) -> #DIV/0! | D75: =IF(B75>0.5,"Das Ausklinkungsverhältnis ist eingehalten!","Das Ausklinkungsverhältnis ist nicht eingehalten. Bitte Verbinder weiter nach unten versetzen!") -> #DIV/0!
C76: F2,d F3,d
B77: =B28 -> RICON S 200/80 VS st | D77: F45,d
B80: =D79+VLOOKUP(B28,Zwischenrechnung!A18:O27,15,FALSE) -> 40
A81: beanspruchter | D81: =VLOOKUP(B28,'Herleitung_HT-NT-Anschlüsse'!N129:R138,5,FALSE) -> 83.125
A82: Rand | B82: =VLOOKUP($B$28,Ausklinkungsbemessung!A20:E29,5,FALSE) -> 160
D83: =VLOOKUP(B28,Zwischenrechnung!A18:M27,13,FALSE) -> 200 | F83: =IF(E83<VLOOKUP(B77,Zwischenrechnung!A72:C81,3),"Bitte Nebenträgerhöhe HN erhöhen oder kleineren Verbinder auswählen!","") -> Bitte Nebenträgerhöhe HN erhöhen oder kleineren Verbinder auswählen!
D85: Schwerpunkt
A87: unbean- | B87: =E83-B82 -> -160
A88: spruchter Rand | D88: =E83-D83-D79-D86 -> -200
A89: Ausklinkungsfläche: Aef = BN x hef | D89: =IF(D88<10,"t ≥ 10mm !","") -> t ≥ 10mm !
B90: =(C91-C90)/2 -> -40 | C90: =VLOOKUP(B28,Zwischenrechnung!A18:N27,14,FALSE) -> 80 | D90: =(C91-C90)/2 -> -40
B91: BN = | D91: =IF(C91<VLOOKUP(B77,Zwischenrechnung!A72:C81,2),"Bitte Breite BN erhöhen!","") -> Bitte Breite BN erhöhen!
A94: Überprüfung der Schubtragfähigkeit am "roten ausgeklinkten" Querschnitt nach EN 1995-1-1 Abschnitt 6.5 :
A95: =IF(B34=90,"","Dieser Nachweis kann für einen schrägen Nebenträgeranschluss nicht berechnet werden!")
A97: Breite BN [mm] | B97: Höhe hef [mm] | C97: Fläche Aef [cm²] | D97: kcr [-] | E97: kv [-] | F97: fv,k [N/mm²]
A98: =IF(B34=90,Ausklinkungsbemessung!B36,"") -> 0 | B98: =IF(B34=90,Bemessung!B82,"") -> 160 | C98: =IF(B34=90,A98/10*B98/10,"") -> 0 | D98: =IF(B34=90,Ausklinkungsbemessung!B34,"") -> 0.714 | E98: =IF(B34=90,1,"") -> 1 | F98: =IF(B34=90,Ausklinkungsbemessung!B33,"") -> 3.5
E100: Nachweisüberprüfung:
A101: Lastfall: | B101: Querkraft F2,d | C101: kmod | D101: FRd | E101: F2,d / FRd ≤ 1,0
A102: LFK1: g | B102: =C19 -> 0 | C102: =G19 -> 0.6 | D102: =IF(B34=90,$A$98/10*$B$98/10*$D$98*$E$98*$F$98/10*C102/(1.5*Ausklinkungsbemessung!$C$52),"") -> 0 | E102: =IF(B34=90,B102/D102,0) -> #DIV/0! | F102: =IF(E102>1.03,">1,0",IF(E102<=1,"≤ 1,0","~ 1,0")) -> #DIV/0!
A103: LFK2: g+s | B103: =C20 -> 0 | C103: =G20 -> 0.9 | D103: =IF(B34=90,$A$98/10*$B$98/10*$D$98*$E$98*$F$98/10*C103/(1.5*Ausklinkungsbemessung!$C$52),"") -> 0 | E103: =IF(B34=90,B103/D103,0) -> #DIV/0! | F103: =IF(E103>1.03,">1,0",IF(E103<=1,"≤ 1,0","~ 1,0")) -> #DIV/0!
A104: LFK3: g+n | B104: =C21 -> 0 | C104: =G21 -> 0.8 | D104: =IF(B34=90,$A$98/10*$B$98/10*$D$98*$E$98*$F$98/10*C104/(1.5*Ausklinkungsbemessung!$C$52),"") -> 0 | E104: =IF(B34=90,B104/D104,0) -> #DIV/0! | F104: =IF(E104>1.03,">1,0",IF(E104<=1,"≤ 1,0","~ 1,0")) -> #DIV/0!
A105: LFK4: g+s+wd | B105: =C22 -> 0 | C105: =G22 -> 0.9 | D105: =IF(B34=90,$A$98/10*$B$98/10*$D$98*$E$98*$F$98/10*C105/(1.5*Ausklinkungsbemessung!$C$52),"") -> 0 | E105: =IF(B34=90,B105/D105,0) -> #DIV/0! | F105: =IF(E105>1.03,">1,0",IF(E105<=1,"≤ 1,0","~ 1,0")) -> #DIV/0!
C106: gM = | D106: =Ausklinkungsbemessung!$C$52 -> 1.25 | E106: =IF(AND(E102<=1,E103<=1,E104<=1,E105<=1),"Nachweise erbracht !","Nachweise nicht erbracht !") -> #DIV/0!
G107: (rote theoretische Aufspaltlinie im Nebenträger)
A109: Überprüfung der Ausklinkungs-Tragfähigkeit bis zur "roten" oder "grünen" Aufspaltlinie nach EN 1995-1-1 Abschnitt 6.5:
A112: Breite BN [mm] | B112: =IF(G126>B82,"Höhe hef,Scr [mm]","Höhe hef [mm]") -> Höhe hef [mm] | C112: Fläche Aef [cm²] | D112: kcr [-] | E112: kv [-] | F112: fv,k [N/mm²]
A113: =IF(B34=90,Ausklinkungsbemessung!B36,"") -> 0 | B113: =IF(B34=90,Ausklinkungsbemessung!B38,"") -> 160 | C113: =IF(B34=90,A113/10*B113/10,"") -> 0 | D113: =IF(B34=90,Ausklinkungsbemessung!B34,"") -> 0.714 | E113: =IF(B34=90,Ausklinkungsbemessung!B40,"") -> #DIV/0! | F113: =IF(B34=90,Ausklinkungsbemessung!B33,"") -> 3.5
E115: Nachweisüberprüfung:
A116: Lastfall: | B116: Querkraft F2,d | C116: kmod | D116: FRd | E116: F2,d / FRd ≤ 1,0
A117: LFK1: g | B117: =Ausklinkungsbemessung!B47 -> 0 | C117: =Ausklinkungsbemessung!C47 -> 0.6 | D117: =IF(B34=90,Ausklinkungsbemessung!D47,"") -> #DIV/0! | E117: =IF(B34=90,Ausklinkungsbemessung!E47,0) -> #DIV/0! | F117: =IF(E117>1.03,">1,0",IF(E117<=1,"≤ 1,0","~ 1,0")) -> #DIV/0!
A118: LFK2: g+s | B118: =Ausklinkungsbemessung!B48 -> 0 | C118: =Ausklinkungsbemessung!C48 -> 0.9 | D118: =IF(B34=90,Ausklinkungsbemessung!D48,"") -> #DIV/0! | E118: =IF(B34=90,Ausklinkungsbemessung!E48,0) -> #DIV/0! | F118: =IF(E118>1.03,">1,0",IF(E118<=1,"≤ 1,0","~ 1,0")) -> #DIV/0!
A119: LFK3: g+n | B119: =Ausklinkungsbemessung!B49 -> 0 | C119: =Ausklinkungsbemessung!C49 -> 0.8 | D119: =IF(B34=90,Ausklinkungsbemessung!D49,"") -> #DIV/0! | E119: =IF(B34=90,Ausklinkungsbemessung!E49,0) -> #DIV/0! | F119: =IF(E119>1.03,">1,0",IF(E119<=1,"≤ 1,0","~ 1,0")) -> #DIV/0!
A120: LFK4: g+s+wd | B120: =Ausklinkungsbemessung!B50 -> 0 | C120: =Ausklinkungsbemessung!C50 -> 0.9 | D120: =IF(B34=90,Ausklinkungsbemessung!D50,"") -> #DIV/0! | E120: =IF(B34=90,Ausklinkungsbemessung!E50,0) -> #DIV/0! | F120: =IF(E120>1.03,">1,0",IF(E120<=1,"≤ 1,0","~ 1,0")) -> #DIV/0! | G120: Die "rote" Aufspaltlinie wird verschoben zur "grünen" Aufspaltlinie mit Querzug-Vollgewindeschrauben
C121: gM = | D121: =Ausklinkungsbemessung!$C$52 -> 1.25 | E121: =IF(AND(E117<=1,E118<=1,E119<=1,E120<=1),"Nachweise erbracht !","Nachweise nicht erbracht !") -> #DIV/0!
E122: =IF(AND(B113=B98,OR(E117>1,E118>1,E119>1,E120>1)),"Die Ausklinkungstragfähigkeit kann mit querzugverstärkenden Vollgewindeschrauben verbessert werden!","") -> #DIV/0!
A125: =IF(B34=90,"","Dieser Nachweis für die Querzugverstärkung kann für einen schrägen Nebenträgeranschluss nicht berechnet werden!")
A126: Querzugverstärkung mit | D126: Vollgewindeschrauben | H126: =IF(C126=0,"",IF(C130>=B98,"",IF(G126<=B98,"Bitte Schraubenlänge erhöhen oder Versenktiefe tv erhöhen!","")))
...

Sheet Zwischenrechnung
A1: Eingabe | B1: Verknüpfte Eingabe | J1: Holzart | K1: rk [kg/m³] | L1: βn [mm/min] | M1: gM [-] | N1: Holzart
J2: C24 | K2: 350 | L2: 0.8 | M2: 1.3 | N2: Nadelvollholz/KVH | P2: (Fichte, Lärche, Tanne)
A3: Teilsicherheitsbeiwerte | H3: kmod | I3: KLED | J3: C30 | K3: 380 | L3: 0.8 | M3: 1.3 | N3: Nadelvollholz/KVH | P3: (Fichte, Lärche, Tanne, Douglasie)
A4: gg = | B4: 1.3 | C4: (ständige Lasten: Eigengewicht) | H4: 0.6 | I4: ständig | J4: GL24c | K4: 365 | L4: 0.7 | M4: 1.25 | N4: Brettschichtholz kombiniert
A5: gQ = | B5: 1.5 | C5: (veränderliche Lasten: Schnee, Wind, Nutzlast) | H5: 0.7 | I5: lang | J5: GL24h | K5: 385 | L5: 0.7 | M5: 1.25 | N5: Brettschichtholz homogen
A6: Kombinationsbeiwerte | H6: 0.8 | I6: mittel | J6: GL28c | K6: 390 | L6: 0.7 | M6: 1.25 | N6: Brettschichtholz kombiniert
A7: y0 = | B7: 0.6 | C7: (Windlasten) | H7: 0.9 | I7: kurz | J7: GL28h | K7: 425 | L7: 0.7 | M7: 1.25 | N7: Brettschichtholz homogen
A8: y0 = | B8: 0.5 | C8: (Schneelasten Orte bis zu NN +1000) | H8: 1 | I8: k./s.kurz | J8: GL30c | K8: 390 | L8: 0.7 | M8: 1.25 | N8: Brettschichtholz kombiniert
A9: y0 = | B9: 0.7 | C9: (Schneelasten Orte über NN +1000) | J9: GL30h | K9: 430 | L9: 0.7 | M9: 1.25 | N9: Brettschichtholz homogen
A10: y0 = | B10: 0.7 | C10: (Verkehrslasten / Nutzlasten) | J10: GL32c | K10: 400 | L10: 0.7 | M10: 1.25 | N10: Brettschichtholz kombiniert
J11: GL32h | K11: 440 | L11: 0.7 | M11: 1.25 | N11: Brettschichtholz homogen
J12: CLT | K12: 350 | L12: 0.7 | M12: 1.3 | N12: Brettsperrholz
K15: KNAPP® | L15: ETA-10/0189
A16: Knapp Verbinder | B16: Schrauben im Hauptträger | E16: Schrauben im Nebenträger | H16: Schrauben in Stütze | K16: Zugfestigkeit | L16: Fließmoment | M16: Verbinder-höhe [mm] | N16: Verbinder-breite [mm] | O16: Abstand
B17: Anzahl n(H) | C17: d(H) [mm] | D17: L(H) [mm] | E17: Anzahl n(H) | F17: d(H) [mm] | G17: L(H) [mm] | H17: Anzahl n(H) | I17: d(H) [mm] | J17: L(H) [mm] | K17: ftens,k [kN] | L17: My,k [Nm] | O17: t [mm]
A18: RICON S 140/60 VS min | B18: =Bemessung!M29 -> 7 | C18: 8 | D18: =Bemessung!N29 -> 80 | E18: =Bemessung!K29 -> 7 | F18: 8 | G18: =Bemessung!L29 -> 160 | H18: =Bemessung!O29 -> 6 | I18: 8 | J18: =Bemessung!P29 -> 80 | K18: 23 | L18: 20 | M18: 140 | N18: 60 | O18: 40
A19: RICON S 140/60 VS st | B19: =Bemessung!M30 -> 10 | C19: 8 | D19: =Bemessung!N30 -> 80 | E19: =Bemessung!K30 -> 10 | F19: 8 | G19: =Bemessung!L30 -> 160 | H19: =Bemessung!O30 -> 8 | I19: 8 | J19: =Bemessung!P30 -> 80 | K19: 23 | L19: 20 | M19: 140 | N19: 60 | O19: 40
A20: RICON S 200/60 VS min | B20: =Bemessung!M31 -> 8 | C20: 8 | D20: =Bemessung!N31 -> 80 | E20: =Bemessung!K31 -> 8 | F20: 8 | G20: =Bemessung!L31 -> 160 | H20: =Bemessung!O31 -> 9 | I20: 8 | J20: =Bemessung!P31 -> 80 | K20: 23 | L20: 20 | M20: 200 | N20: 60 | O20: 40
A21: RICON S 200/60 VS st | B21: =Bemessung!M32 -> 16 | C21: 8 | D21: =Bemessung!N32 -> 80 | E21: =Bemessung!K32 -> 16 | F21: 8 | G21: =Bemessung!L32 -> 160 | H21: =Bemessung!O32 -> 13 | I21: 8 | J21: =Bemessung!P32 -> 80 | K21: 23 | L21: 20 | M21: 200 | N21: 60 | O21: 40
A22: RICON S 200/80 VS min | B22: =Bemessung!M33 -> 8 | C22: 10 | D22: =Bemessung!N33 -> 100 | E22: =Bemessung!K33 -> 8 | F22: 10 | G22: =Bemessung!L33 -> 200 | H22: =Bemessung!O33 -> 9 | I22: 10 | J22: =Bemessung!P33 -> 100 | K22: 32 | L22: 35 | M22: 200 | N22: 80 | O22: 40
A23: RICON S 200/80 VS st | B23: =Bemessung!M34 -> 16 | C23: 10 | D23: =Bemessung!N34 -> 100 | E23: =Bemessung!K34 -> 16 | F23: 10 | G23: =Bemessung!L34 -> 300 | H23: =Bemessung!O34 -> 13 | I23: 10 | J23: =Bemessung!P34 -> 100 | K23: 32 | L23: 35 | M23: 200 | N23: 80 | O23: 40
A24: RICON S 290/80 VS min | B24: =Bemessung!M35 -> 8 | C24: 10 | D24: =Bemessung!N35 -> 100 | E24: =Bemessung!K35 -> 8 | F24: 10 | G24: =Bemessung!L35 -> 200 | H24: =Bemessung!O35 -> 13 | I24: 10 | J24: =Bemessung!P35 -> 100 | K24: 32 | L24: 35 | M24: 290 | N24: 80 | O24: 40
A25: RICON S 290/80 VS st | B25: =Bemessung!M36 -> 25 | C25: 10 | D25: =Bemessung!N36 -> 100 | E25: =Bemessung!K36 -> 25 | F25: 10 | G25: =Bemessung!L36 -> 100 | H25: =Bemessung!O36 -> 20 | I25: 10 | J25: =Bemessung!P36 -> 100 | K25: 32 | L25: 35 | M25: 290 | N25: 80 | O25: 40
A26: RICON S 390x80 VS+ZP | B26: =Bemessung!M37 -> 28 | C26: 10 | D26: =Bemessung!N37 -> 100 | E26: =Bemessung!K37 -> 28 | F26: 10 | G26: =Bemessung!L37 -> 200 | H26: =Bemessung!O37 -> 23 | I26: 10 | J26: =Bemessung!P37 -> 100 | K26: 32 | L26: 35 | M26: 390 | N26: 80 | O26: 60
A27: RICON S 390x80 VS+ZP max | B27: =Bemessung!M38 -> 28 | C27: 10 | D27: =Bemessung!N38 -> 100 | E27: =Bemessung!K38 -> 28 | F27: 10 | G27: =Bemessung!L38 -> 200 | H27: =Bemessung!O38 -> 23 | I27: 10 | J27: =Bemessung!P38 -> 100 | K27: 32 | L27: 35 | M27: 390 | N27: 80 | O27: 60
B28: =Bemessung!M39 -> 2 | C28: 10 | D28: =Bemessung!N39 -> 400 | E28: =Bemessung!K39 -> 2 | F28: 10 | G28: =Bemessung!L39 -> 450 | H28: =Bemessung!O39 -> 2 | I28: 10 | J28: =Bemessung!P39 -> 400
A30: Knapp Verbinder | B30: Mittiger / Ausmittiger Zugkraft F1,Rd [kN] | G30: eff. Scr-Stk.
B31: 0.6 | C31: 0.7 | D31: 0.8 | E31: 0.9 | F31: 1 | G31: nef [Stk.]
A32: RICON S 140/60 VS min | B32: =IF(Bemessung!$B$29=Zwischenrechnung!$L$36,'Herleitung_HT-NT-Anschlüsse'!O10,'Herleitung_Stützen-Anschlüsse'!O10) -> 0 | C32: =IF(Bemessung!$B$29=Zwischenrechnung!$L$36,'Herleitung_HT-NT-Anschlüsse'!P10,'Herleitung_Stützen-Anschlüsse'!P10) -> 0 | D32: =IF(Bemessung!$B$29=Zwischenrechnung!$L$36,'Herleitung_HT-NT-Anschlüsse'!Q10,'Herleitung_Stützen-Anschlüsse'!Q10) -> 0 | E32: =IF(Bemessung!$B$29=Zwischenrechnung!$L$36,'Herleitung_HT-NT-Anschlüsse'!R10,'Herleitung_Stützen-Anschlüsse'!R10) -> 0 | F32: =IF(Bemessung!$B$29=Zwischenrechnung!$L$36,'Herleitung_HT-NT-Anschlüsse'!S10,'Herleitung_Stützen-Anschlüsse'!S10) -> 0 | G32: =IF(Bemessung!$B$29=Zwischenrechnung!$L$36,'Herleitung_HT-NT-Anschlüsse'!Q26,'Herleitung_Stützen-Anschlüsse'!Q26) -> 0
A33: RICON S 140/60 VS st | B33: =IF(Bemessung!$B$29=Zwischenrechnung!$L$36,'Herleitung_HT-NT-Anschlüsse'!O11,'Herleitung_Stützen-Anschlüsse'!O11) -> 0 | C33: =IF(Bemessung!$B$29=Zwischenrechnung!$L$36,'Herleitung_HT-NT-Anschlüsse'!P11,'Herleitung_Stützen-Anschlüsse'!P11) -> 0 | D33: =IF(Bemessung!$B$29=Zwischenrechnung!$L$36,'Herleitung_HT-NT-Anschlüsse'!Q11,'Herleitung_Stützen-Anschlüsse'!Q11) -> 0 | E33: =IF(Bemessung!$B$29=Zwischenrechnung!$L$36,'Herleitung_HT-NT-Anschlüsse'!R11,'Herleitung_Stützen-Anschlüsse'!R11) -> 0 | F33: =IF(Bemessung!$B$29=Zwischenrechnung!$L$36,'Herleitung_HT-NT-Anschlüsse'!S11,'Herleitung_Stützen-Anschlüsse'!S11) -> 0 | G33: =IF(Bemessung!$B$29=Zwischenrechnung!$L$36,'Herleitung_HT-NT-Anschlüsse'!Q27,'Herleitung_Stützen-Anschlüsse'!Q27) -> 0 | J33: VS… verschweißter Kragenbolzen
A34: RICON S 200/60 VS min | B34: =IF(Bemessung!$B$29=Zwischenrechnung!$L$36,'Herleitung_HT-NT-Anschlüsse'!O12,'Herleitung_Stützen-Anschlüsse'!O12) -> 0 | C34: =IF(Bemessung!$B$29=Zwischenrechnung!$L$36,'Herleitung_HT-NT-Anschlüsse'!P12,'Herleitung_Stützen-Anschlüsse'!P12) -> 0 | D34: =IF(Bemessung!$B$29=Zwischenrechnung!$L$36,'Herleitung_HT-NT-Anschlüsse'!Q12,'Herleitung_Stützen-Anschlüsse'!Q12) -> 0 | E34: =IF(Bemessung!$B$29=Zwischenrechnung!$L$36,'Herleitung_HT-NT-Anschlüsse'!R12,'Herleitung_Stützen-Anschlüsse'!R12) -> 0 | F34: =IF(Bemessung!$B$29=Zwischenrechnung!$L$36,'Herleitung_HT-NT-Anschlüsse'!S12,'Herleitung_Stützen-Anschlüsse'!S12) -> 0 | G34: =IF(Bemessung!$B$29=Zwischenrechnung!$L$36,'Herleitung_HT-NT-Anschlüsse'!Q28,'Herleitung_Stützen-Anschlüsse'!Q28) -> 0
A35: RICON S 200/60 VS st | B35: =IF(Bemessung!$B$29=Zwischenrechnung!$L$36,'Herleitung_HT-NT-Anschlüsse'!O13,'Herleitung_Stützen-Anschlüsse'!O13) -> 0 | C35: =IF(Bemessung!$B$29=Zwischenrechnung!$L$36,'Herleitung_HT-NT-Anschlüsse'!P13,'Herleitung_Stützen-Anschlüsse'!P13) -> 0 | D35: =IF(Bemessung!$B$29=Zwischenrechnung!$L$36,'Herleitung_HT-NT-Anschlüsse'!Q13,'Herleitung_Stützen-Anschlüsse'!Q13) -> 0 | E35: =IF(Bemessung!$B$29=Zwischenrechnung!$L$36,'Herleitung_HT-NT-Anschlüsse'!R13,'Herleitung_Stützen-Anschlüsse'!R13) -> 0 | F35: =IF(Bemessung!$B$29=Zwischenrechnung!$L$36,'Herleitung_HT-NT-Anschlüsse'!S13,'Herleitung_Stützen-Anschlüsse'!S13) -> 0 | G35: =IF(Bemessung!$B$29=Zwischenrechnung!$L$36,'Herleitung_HT-NT-Anschlüsse'!Q29,'Herleitung_Stützen-Anschlüsse'!Q29) -> 0
A36: RICON S 200/80 VS min | B36: =IF(Bemessung!$B$29=Zwischenrechnung!$L$36,'Herleitung_HT-NT-Anschlüsse'!O14,'Herleitung_Stützen-Anschlüsse'!O14) -> 0 | C36: =IF(Bemessung!$B$29=Zwischenrechnung!$L$36,'Herleitung_HT-NT-Anschlüsse'!P14,'Herleitung_Stützen-Anschlüsse'!P14) -> 0 | D36: =IF(Bemessung!$B$29=Zwischenrechnung!$L$36,'Herleitung_HT-NT-Anschlüsse'!Q14,'Herleitung_Stützen-Anschlüsse'!Q14) -> 0 | E36: =IF(Bemessung!$B$29=Zwischenrechnung!$L$36,'Herleitung_HT-NT-Anschlüsse'!R14,'Herleitung_Stützen-Anschlüsse'!R14) -> 0 | F36: =IF(Bemessung!$B$29=Zwischenrechnung!$L$36,'Herleitung_HT-NT-Anschlüsse'!S14,'Herleitung_Stützen-Anschlüsse'!S14) -> 0 | G36: =IF(Bemessung!$B$29=Zwischenrechnung!$L$36,'Herleitung_HT-NT-Anschlüsse'!Q30,'Herleitung_Stützen-Anschlüsse'!Q30) -> 0 | L36: Haupt- Nebenträger-Anschluss: | N36: Vollgewindeschrauben Hauptträger
A37: RICON S 200/80 VS st | B37: =IF(Bemessung!$B$29=Zwischenrechnung!$L$36,'Herleitung_HT-NT-Anschlüsse'!O15,'Herleitung_Stützen-Anschlüsse'!O15) -> 7.2635364 | C37: =IF(Bemessung!$B$29=Zwischenrechnung!$L$36,'Herleitung_HT-NT-Anschlüsse'!P15,'Herleitung_Stützen-Anschlüsse'!P15) -> 8.4741258 | D37: =IF(Bemessung!$B$29=Zwischenrechnung!$L$36,'Herleitung_HT-NT-Anschlüsse'!Q15,'Herleitung_Stützen-Anschlüsse'!Q15) -> 9.6847152 | E37: =IF(Bemessung!$B$29=Zwischenrechnung!$L$36,'Herleitung_HT-NT-Anschlüsse'!R15,'Herleitung_Stützen-Anschlüsse'!R15) -> 10.895305 | F37: =IF(Bemessung!$B$29=Zwischenrechnung!$L$36,'Herleitung_HT-NT-Anschlüsse'!S15,'Herleitung_Stützen-Anschlüsse'!S15) -> 12.105894 | G37: =IF(Bemessung!$B$29=Zwischenrechnung!$L$36,'Herleitung_HT-NT-Anschlüsse'!Q31,'Herleitung_Stützen-Anschlüsse'!Q31) -> 1.5 | L37: Stützen-Nebenträger-Anschluss: | N37: Vollgewindeschrauben Stütze
A38: RICON S 290/80 VS min | B38: =IF(Bemessung!$B$29=Zwischenrechnung!$L$36,'Herleitung_HT-NT-Anschlüsse'!O16,'Herleitung_Stützen-Anschlüsse'!O16) -> 0 | C38: =IF(Bemessung!$B$29=Zwischenrechnung!$L$36,'Herleitung_HT-NT-Anschlüsse'!P16,'Herleitung_Stützen-Anschlüsse'!P16) -> 0 | D38: =IF(Bemessung!$B$29=Zwischenrechnung!$L$36,'Herleitung_HT-NT-Anschlüsse'!Q16,'Herleitung_Stützen-Anschlüsse'!Q16) -> 0 | E38: =IF(Bemessung!$B$29=Zwischenrechnung!$L$36,'Herleitung_HT-NT-Anschlüsse'!R16,'Herleitung_Stützen-Anschlüsse'!R16) -> 0 | F38: =IF(Bemessung!$B$29=Zwischenrechnung!$L$36,'Herleitung_HT-NT-Anschlüsse'!S16,'Herleitung_Stützen-Anschlüsse'!S16) -> 0 | G38: =IF(Bemessung!$B$29=Zwischenrechnung!$L$36,'Herleitung_HT-NT-Anschlüsse'!Q32,'Herleitung_Stützen-Anschlüsse'!Q32) -> 0
A39: RICON S 290/80 VS st | B39: =IF(Bemessung!$B$29=Zwischenrechnung!$L$36,'Herleitung_HT-NT-Anschlüsse'!O17,'Herleitung_Stützen-Anschlüsse'!O17) -> 0 | C39: =IF(Bemessung!$B$29=Zwischenrechnung!$L$36,'Herleitung_HT-NT-Anschlüsse'!P17,'Herleitung_Stützen-Anschlüsse'!P17) -> 0 | D39: =IF(Bemessung!$B$29=Zwischenrechnung!$L$36,'Herleitung_HT-NT-Anschlüsse'!Q17,'Herleitung_Stützen-Anschlüsse'!Q17) -> 0 | E39: =IF(Bemessung!$B$29=Zwischenrechnung!$L$36,'Herleitung_HT-NT-Anschlüsse'!R17,'Herleitung_Stützen-Anschlüsse'!R17) -> 0 | F39: =IF(Bemessung!$B$29=Zwischenrechnung!$L$36,'Herleitung_HT-NT-Anschlüsse'!S17,'Herleitung_Stützen-Anschlüsse'!S17) -> 0 | G39: =IF(Bemessung!$B$29=Zwischenrechnung!$L$36,'Herleitung_HT-NT-Anschlüsse'!Q33,'Herleitung_Stützen-Anschlüsse'!Q33) -> 0
A40: RICON S 390x80 VS+ZP | B40: =IF(Bemessung!$B$29=Zwischenrechnung!$L$36,'Herleitung_HT-NT-Anschlüsse'!O18,'Herleitung_Stützen-Anschlüsse'!O18) -> 0 | C40: =IF(Bemessung!$B$29=Zwischenrechnung!$L$36,'Herleitung_HT-NT-Anschlüsse'!P18,'Herleitung_Stützen-Anschlüsse'!P18) -> 0 | D40: =IF(Bemessung!$B$29=Zwischenrechnung!$L$36,'Herleitung_HT-NT-Anschlüsse'!Q18,'Herleitung_Stützen-Anschlüsse'!Q18) -> 0 | E40: =IF(Bemessung!$B$29=Zwischenrechnung!$L$36,'Herleitung_HT-NT-Anschlüsse'!R18,'Herleitung_Stützen-Anschlüsse'!R18) -> 0 | F40: =IF(Bemessung!$B$29=Zwischenrechnung!$L$36,'Herleitung_HT-NT-Anschlüsse'!S18,'Herleitung_Stützen-Anschlüsse'!S18) -> 0 | G40: =IF(Bemessung!$B$29=Zwischenrechnung!$L$36,'Herleitung_HT-NT-Anschlüsse'!Q34,'Herleitung_Stützen-Anschlüsse'!Q34) -> 0
A41: RICON S 390x80 VS+ZP max | B41: =IF(Bemessung!$B$29=Zwischenrechnung!$L$36,'Herleitung_HT-NT-Anschlüsse'!O19,'Herleitung_Stützen-Anschlüsse'!O19) -> 0 | C41: =IF(Bemessung!$B$29=Zwischenrechnung!$L$36,'Herleitung_HT-NT-Anschlüsse'!P19,'Herleitung_Stützen-Anschlüsse'!P19) -> 0 | D41: =IF(Bemessung!$B$29=Zwischenrechnung!$L$36,'Herleitung_HT-NT-Anschlüsse'!Q19,'Herleitung_Stützen-Anschlüsse'!Q19) -> 0 | E41: =IF(Bemessung!$B$29=Zwischenrechnung!$L$36,'Herleitung_HT-NT-Anschlüsse'!R19,'Herleitung_Stützen-Anschlüsse'!R19) -> 0 | F41: =IF(Bemessung!$B$29=Zwischenrechnung!$L$36,'Herleitung_HT-NT-Anschlüsse'!S19,'Herleitung_Stützen-Anschlüsse'!S19) -> 0 | G41: =IF(Bemessung!$B$29=Zwischenrechnung!$L$36,'Herleitung_HT-NT-Anschlüsse'!Q35,'Herleitung_Stützen-Anschlüsse'!Q35) -> 0
A43: Haupt- Nebenträger-Anschluss | I43: Stützen-Nebenträger-Anschluss:
A44: Knapp Verbinder | B44: In Einschubrichtung F2,Rd [kN] HT - NT Anschluss | I44: Knapp Verbinder | J44: In Einschubrichtung F2,Rd [kN] Stützen - NT Anschluss
B45: 0.6 | C45: 0.7 | D45: 0.8 | E45: 0.9 | F45: 1 | J45: 0.6 | K45: 0.7 | L45: 0.8 | M45: 0.9 | N45: 1
A46: RICON S 140/60 VS min | B46: ='Herleitung_HT-NT-Anschlüsse'!O74 -> 12.418748 | C46: ='Herleitung_HT-NT-Anschlüsse'!P74 -> 14.488539 | D46: ='Herleitung_HT-NT-Anschlüsse'!Q74 -> 16.55833 | E46: ='Herleitung_HT-NT-Anschlüsse'!R74 -> 18.628121 | F46: ='Herleitung_HT-NT-Anschlüsse'!S74 -> 20.697913 | I46: RICON S 140/60 VS min | J46: ='Herleitung_Stützen-Anschlüsse'!O130 -> 12.418748 | K46: ='Herleitung_Stützen-Anschlüsse'!P130 -> 14.488539 | L46: ='Herleitung_Stützen-Anschlüsse'!Q130 -> 16.55833 | M46: ='Herleitung_Stützen-Anschlüsse'!R130 -> 18.628121 | N46: ='Herleitung_Stützen-Anschlüsse'!S130 -> 20.697913
A47: RICON S 140/60 VS st | B47: ='Herleitung_HT-NT-Anschlüsse'!O75 -> 17.11944 | C47: ='Herleitung_HT-NT-Anschlüsse'!P75 -> 19.97268 | D47: ='Herleitung_HT-NT-Anschlüsse'!Q75 -> 22.825921 | E47: ='Herleitung_HT-NT-Anschlüsse'!R75 -> 25.679161 | F47: ='Herleitung_HT-NT-Anschlüsse'!S75 -> 28.532401 | I47: RICON S 140/60 VS st | J47: ='Herleitung_Stützen-Anschlüsse'!O131 -> 13.727815 | K47: ='Herleitung_Stützen-Anschlüsse'!P131 -> 16.015784 | L47: ='Herleitung_Stützen-Anschlüsse'!Q131 -> 18.303754 | M47: ='Herleitung_Stützen-Anschlüsse'!R131 -> 20.591723 | N47: ='Herleitung_Stützen-Anschlüsse'!S131 -> 22.879692
A48: RICON S 200/60 VS min | B48: ='Herleitung_HT-NT-Anschlüsse'!O76 -> 14.004595 | C48: ='Herleitung_HT-NT-Anschlüsse'!P76 -> 16.338694 | D48: ='Herleitung_HT-NT-Anschlüsse'!Q76 -> 18.672793 | E48: ='Herleitung_HT-NT-Anschlüsse'!R76 -> 21.006892 | F48: ='Herleitung_HT-NT-Anschlüsse'!S76 -> 23.340992 | I48: RICON S 200/60 VS min | J48: ='Herleitung_Stützen-Anschlüsse'!O132 -> 14.004595 | K48: ='Herleitung_Stützen-Anschlüsse'!P132 -> 16.338694 | L48: ='Herleitung_Stützen-Anschlüsse'!Q132 -> 18.672793 | M48: ='Herleitung_Stützen-Anschlüsse'!R132 -> 21.006892 | N48: ='Herleitung_Stützen-Anschlüsse'!S132 -> 23.340992
A49: RICON S 200/60 VS st | B49: ='Herleitung_HT-NT-Anschlüsse'!O77 -> 26.133498 | C49: ='Herleitung_HT-NT-Anschlüsse'!P77 -> 30.489081 | D49: ='Herleitung_HT-NT-Anschlüsse'!Q77 -> 34.844664 | E49: ='Herleitung_HT-NT-Anschlüsse'!R77 -> 39.200247 | F49: ='Herleitung_HT-NT-Anschlüsse'!S77 -> 43.55583 | I49: RICON S 200/60 VS st | J49: ='Herleitung_Stützen-Anschlüsse'!O133 -> 23.843768 | K49: ='Herleitung_Stützen-Anschlüsse'!P133 -> 27.817729 | L49: ='Herleitung_Stützen-Anschlüsse'!Q133 -> 31.79169 | M49: ='Herleitung_Stützen-Anschlüsse'!R133 -> 35.765652 | N49: ='Herleitung_Stützen-Anschlüsse'!S133 -> 39.739613
A50: RICON S 200/80 VS min | B50: ='Herleitung_HT-NT-Anschlüsse'!O78 -> 19.538907 | C50: ='Herleitung_HT-NT-Anschlüsse'!P78 -> 22.795391 | D50: ='Herleitung_HT-NT-Anschlüsse'!Q78 -> 26.051876 | E50: ='Herleitung_HT-NT-Anschlüsse'!R78 -> 29.30836 | F50: ='Herleitung_HT-NT-Anschlüsse'!S78 -> 32.564845 | I50: RICON S 200/80 VS min | J50: ='Herleitung_Stützen-Anschlüsse'!O134 -> 19.538907 | K50: ='Herleitung_Stützen-Anschlüsse'!P134 -> 22.795391 | L50: ='Herleitung_Stützen-Anschlüsse'!Q134 -> 26.051876 | M50: ='Herleitung_Stützen-Anschlüsse'!R134 -> 29.30836 | N50: ='Herleitung_Stützen-Anschlüsse'!S134 -> 32.564845
A51: RICON S 200/80 VS st | B51: ='Herleitung_HT-NT-Anschlüsse'!O79 -> 42.653339 | C51: ='Herleitung_HT-NT-Anschlüsse'!P79 -> 49.762228 | D51: ='Herleitung_HT-NT-Anschlüsse'!Q79 -> 56.871118 | E51: ='Herleitung_HT-NT-Anschlüsse'!R79 -> 63.980008 | F51: ='Herleitung_HT-NT-Anschlüsse'!S79 -> 71.088898 | I51: RICON S 200/80 VS st | J51: ='Herleitung_Stützen-Anschlüsse'!O135 -> 31.5196 | K51: ='Herleitung_Stützen-Anschlüsse'!P135 -> 36.772867 | L51: ='Herleitung_Stützen-Anschlüsse'!Q135 -> 42.026133 | M51: ='Herleitung_Stützen-Anschlüsse'!R135 -> 47.2794 | N51: ='Herleitung_Stützen-Anschlüsse'!S135 -> 52.532667
A52: RICON S 290/80 VS min | B52: ='Herleitung_HT-NT-Anschlüsse'!O80 -> 19.538907 | C52: ='Herleitung_HT-NT-Anschlüsse'!P80 -> 22.795391 | D52: ='Herleitung_HT-NT-Anschlüsse'!Q80 -> 26.051876 | E52: ='Herleitung_HT-NT-Anschlüsse'!R80 -> 29.30836 | F52: ='Herleitung_HT-NT-Anschlüsse'!S80 -> 32.564845 | I52: RICON S 290/80 VS min | J52: ='Herleitung_Stützen-Anschlüsse'!O136 -> 19.538907 | K52: ='Herleitung_Stützen-Anschlüsse'!P136 -> 22.795391 | L52: ='Herleitung_Stützen-Anschlüsse'!Q136 -> 26.051876 | M52: ='Herleitung_Stützen-Anschlüsse'!R136 -> 29.30836 | N52: ='Herleitung_Stützen-Anschlüsse'!S136 -> 32.564845
A53: RICON S 290/80 VS st | B53: ='Herleitung_HT-NT-Anschlüsse'!O81 -> 29.912215 | C53: ='Herleitung_HT-NT-Anschlüsse'!P81 -> 34.897584 | D53: ='Herleitung_HT-NT-Anschlüsse'!Q81 -> 39.882953 | E53: ='Herleitung_HT-NT-Anschlüsse'!R81 -> 44.868322 | F53: ='Herleitung_HT-NT-Anschlüsse'!S81 -> 49.853691 | I53: RICON S 290/80 VS st | J53: ='Herleitung_Stützen-Anschlüsse'!O137 -> 29.912215 | K53: ='Herleitung_Stützen-Anschlüsse'!P137 -> 34.897584 | L53: ='Herleitung_Stützen-Anschlüsse'!Q137 -> 39.882953 | M53: ='Herleitung_Stützen-Anschlüsse'!R137 -> 44.868322 | N53: ='Herleitung_Stützen-Anschlüsse'!S137 -> 49.853691
A54: RICON S 390x80 VS+ZP | B54: ='Herleitung_HT-NT-Anschlüsse'!O82 -> 60.257113 | C54: ='Herleitung_HT-NT-Anschlüsse'!P82 -> 70.299965 | D54: ='Herleitung_HT-NT-Anschlüsse'!Q82 -> 80.342817 | E54: ='Herleitung_HT-NT-Anschlüsse'!R82 -> 90.385669 | F54: ='Herleitung_HT-NT-Anschlüsse'!S82 -> 100.42852 | I54: RICON S 390x80 VS+ZP | J54: ='Herleitung_Stützen-Anschlüsse'!O138 -> 57.597473 | K54: ='Herleitung_Stützen-Anschlüsse'!P138 -> 67.197051 | L54: ='Herleitung_Stützen-Anschlüsse'!Q138 -> 76.79663 | M54: ='Herleitung_Stützen-Anschlüsse'!R138 -> 86.396209 | N54: ='Herleitung_Stützen-Anschlüsse'!S138 -> 95.995788
A55: RICON S 390x80 VS+ZP max | B55: ='Herleitung_HT-NT-Anschlüsse'!O83 -> 78.718651 | C55: ='Herleitung_HT-NT-Anschlüsse'!P83 -> 91.838426 | D55: ='Herleitung_HT-NT-Anschlüsse'!Q83 -> 104.9582 | E55: ='Herleitung_HT-NT-Anschlüsse'!R83 -> 118.07798 | F55: ='Herleitung_HT-NT-Anschlüsse'!S83 -> 131.19775 | I55: RICON S 390x80 VS+ZP max | J55: ='Herleitung_Stützen-Anschlüsse'!O139 -> 76.059011 | K55: ='Herleitung_Stützen-Anschlüsse'!P139 -> 88.735513 | L55: ='Herleitung_Stützen-Anschlüsse'!Q139 -> 101.41201 | M55: ='Herleitung_Stützen-Anschlüsse'!R139 -> 114.08852 | N55: ='Herleitung_Stützen-Anschlüsse'!S139 -> 126.76502
A57: Knapp Verbinder | B57: Rechtwinklig zur Einschubrichtung F45,Rd [kN]
B58: 0.6 | C58: 0.7 | D58: 0.8 | E58: 0.9 | F58: 1
A59: RICON S 140/60 VS min | B59: ='Herleitung_HT-NT-Anschlüsse'!O177 -> 4.9474168 | C59: ='Herleitung_HT-NT-Anschlüsse'!P177 -> 5.7719862 | D59: ='Herleitung_HT-NT-Anschlüsse'!Q177 -> 6.5965557 | E59: ='Herleitung_HT-NT-Anschlüsse'!R177 -> 7.4211251 | F59: ='Herleitung_HT-NT-Anschlüsse'!S177 -> 8.2456946
A60: RICON S 140/60 VS st | B60: ='Herleitung_HT-NT-Anschlüsse'!O178 -> 6.4464824 | C60: ='Herleitung_HT-NT-Anschlüsse'!P178 -> 7.5208962 | D60: ='Herleitung_HT-NT-Anschlüsse'!Q178 -> 8.5953099 | E60: ='Herleitung_HT-NT-Anschlüsse'!R178 -> 9.6697236 | F60: ='Herleitung_HT-NT-Anschlüsse'!S178 -> 10.744137
A61: RICON S 200/60 VS min | B61: ='Herleitung_HT-NT-Anschlüsse'!O179 -> 4.7438615 | C61: ='Herleitung_HT-NT-Anschlüsse'!P179 -> 5.5345051 | D61: ='Herleitung_HT-NT-Anschlüsse'!Q179 -> 6.3251486 | E61: ='Herleitung_HT-NT-Anschlüsse'!R179 -> 7.1157922 | F61: ='Herleitung_HT-NT-Anschlüsse'!S179 -> 7.9064358
A62: RICON S 200/60 VS st | B62: ='Herleitung_HT-NT-Anschlüsse'!O180 -> 9.7440997 | C62: ='Herleitung_HT-NT-Anschlüsse'!P180 -> 11.368116 | D62: ='Herleitung_HT-NT-Anschlüsse'!Q180 -> 12.992133 | E62: ='Herleitung_HT-NT-Anschlüsse'!R180 -> 14.61615 | F62: ='Herleitung_HT-NT-Anschlüsse'!S180 -> 16.240166
A63: RICON S 200/80 VS min | B63: ='Herleitung_HT-NT-Anschlüsse'!O181 -> 5.9419098 | C63: ='Herleitung_HT-NT-Anschlüsse'!P181 -> 6.9322281 | D63: ='Herleitung_HT-NT-Anschlüsse'!Q181 -> 7.9225465 | E63: ='Herleitung_HT-NT-Anschlüsse'!R181 -> 8.9128648 | F63: ='Herleitung_HT-NT-Anschlüsse'!S181 -> 9.9031831
A64: RICON S 200/80 VS st | B64: ='Herleitung_HT-NT-Anschlüsse'!O182 -> 14.70872 | C64: ='Herleitung_HT-NT-Anschlüsse'!P182 -> 17.160173 | D64: ='Herleitung_HT-NT-Anschlüsse'!Q182 -> 19.611626 | E64: ='Herleitung_HT-NT-Anschlüsse'!R182 -> 22.063079 | F64: ='Herleitung_HT-NT-Anschlüsse'!S182 -> 24.514533
A65: RICON S 290/80 VS min | B65: ='Herleitung_HT-NT-Anschlüsse'!O183 -> 6.5220421 | C65: ='Herleitung_HT-NT-Anschlüsse'!P183 -> 7.6090491 | D65: ='Herleitung_HT-NT-Anschlüsse'!Q183 -> 8.6960561 | E65: ='Herleitung_HT-NT-Anschlüsse'!R183 -> 9.7830631 | F65: ='Herleitung_HT-NT-Anschlüsse'!S183 -> 10.87007
A66: RICON S 290/80 VS st | B66: ='Herleitung_HT-NT-Anschlüsse'!O184 -> 9.7743423 | C66: ='Herleitung_HT-NT-Anschlüsse'!P184 -> 11.403399 | D66: ='Herleitung_HT-NT-Anschlüsse'!Q184 -> 13.032456 | E66: ='Herleitung_HT-NT-Anschlüsse'!R184 -> 14.661513 | F66: ='Herleitung_HT-NT-Anschlüsse'!S184 -> 16.29057
A67: RICON S 390x80 VS+ZP | B67: ='Herleitung_HT-NT-Anschlüsse'!O185 -> 16.058567 | C67: ='Herleitung_HT-NT-Anschlüsse'!P185 -> 18.734995 | D67: ='Herleitung_HT-NT-Anschlüsse'!Q185 -> 21.411423 | E67: ='Herleitung_HT-NT-Anschlüsse'!R185 -> 24.087851 | F67: ='Herleitung_HT-NT-Anschlüsse'!S185 -> 26.764278
A68: RICON S 390x80 VS+ZP max | B68: ='Herleitung_HT-NT-Anschlüsse'!O186 -> 16.058567 | C68: ='Herleitung_HT-NT-Anschlüsse'!P186 -> 18.734995 | D68: ='Herleitung_HT-NT-Anschlüsse'!Q186 -> 21.411423 | E68: ='Herleitung_HT-NT-Anschlüsse'!R186 -> 24.087851 | F68: ='Herleitung_HT-NT-Anschlüsse'!S186 -> 26.764278
A70: Knapp Verbinder | B70: Mindestquerschnitte
B71: Breite BN | C71: Höhe HN
A72: RICON S 140/60 VS min | B72: 100 | C72: 160
A73: RICON S 140/60 VS st | B73: 100 | C73: 160
A74: RICON S 200/60 VS min | B74: 100 | C74: 220
A75: RICON S 200/60 VS st | B75: 100 | C75: 220
A76: RICON S 200/80 VS min | B76: 120 | C76: 230
A77: RICON S 200/80 VS st | B77: 120 | C77: 230
A78: RICON S 290/80 VS min | B78: 120 | C78: 320
A79: RICON S 290/80 VS st | B79: 120 | C79: 320
A80: RICON S 390x80 VS+ZP | B80: 120 | C80: 440
A81: RICON S 390x80 VS+ZP max | B81: 120 | C81: 480
A84: 1 | B84: ASSY [ ETA-11/0190] | D84: Schrauben-längen L | E84: Schrauben-abstände
A85: d [mm] | B85: ftens,k [kN] | C85: fax,k [Nmm²] | E85: a2,c [mm]
A86: 8 | B86: 22 | C86: 11 | D86: 160 | E86: =3*A86 -> 24 | F86: =E86 -> 24
A87: 10 | B87: 33 | C87: 11 | D87: 160 | E87: =3*A87 -> 30 | F87: =E87 -> 30
A88: 2 | B88: RAPID STARDRIVE Gruppe E [ETA-12/0373] | F88: =E90 -> 32
A89: d [mm] | B89: ftens,k [kN] | C89: fax,k [Nmm²] | D89: L [mm] | E89: a2,c [mm] | F89: =E91 -> 40
A90: 8 | B90: 24.1 | C90: 13.1 | D90: 160 | E90: =4*A90 -> 32
A91: 10 | B91: 40 | C91: 12.5 | D91: 160 | E91: =4*A91 -> 40
A92: 3 | B92: Spax [ETA-20/0385]
A93: d [mm] | B93: ftens,k [kN] | C93: fax,k [Nmm²] | D93: L [mm] | E93: a2,c [mm]
A94: 8 | B94: 21 | C94: 11 | D94: 160 | E94: =3*A94 -> 24
A95: 10 | B95: 27 | C95: 10 | D95: 200 | E95: =3*A95 -> 30
A98: Statische Nachweise für ausgewählten RICON®S Verbinder:
A100: Bemessungswerte der Tragfähigkeit für ausgewählten Verbinder: | E100: =Bemessung!B28 -> RICON S 200/80 VS st
A101: kmod | B101: F1,Rd | C101: F2,Rd | D101: F3,Rd | E101: F45,Rd
A102: 0.6 | B102: =VLOOKUP(Bemessung!$B$28,Zwischenrechnung!$A$32:$F$41,2,FALSE) -> 7.2635364 | C102: =IF(Bemessung!$B$29=Zwischenrechnung!$L$36,VLOOKUP(Bemessung!$B$28,Zwischenrechnung!$A$46:$F$55,2,FALSE),VLOOKUP(Bemessung!$B$28,Zwischenrechnung!$I$46:$N$55,2,FALSE)) -> 42.653339 | E102: =IF(Bemessung!$B$29=Zwischenrechnung!$L$36,VLOOKUP(Bemessung!$B$28,Zwischenrechnung!$A$59:$F$68,2,FALSE),0) -> 14.70872
A103: 0.7 | B103: =VLOOKUP(Bemessung!$B$28,Zwischenrechnung!$A$32:$F$41,3,FALSE) -> 8.4741258 | C103: =IF(Bemessung!$B$29=Zwischenrechnung!$L$36,VLOOKUP(Bemessung!$B$28,Zwischenrechnung!$A$46:$F$55,3,FALSE),VLOOKUP(Bemessung!$B$28,Zwischenrechnung!$I$46:$N$55,3,FALSE)) -> 49.762228 | E103: =IF(Bemessung!$B$29=Zwischenrechnung!$L$36,VLOOKUP(Bemessung!$B$28,Zwischenrechnung!$A$59:$F$68,3,FALSE),0) -> 17.160173
A104: 0.8 | B104: =VLOOKUP(Bemessung!$B$28,Zwischenrechnung!$A$32:$F$41,4,FALSE) -> 9.6847152 | C104: =IF(Bemessung!$B$29=Zwischenrechnung!$L$36,VLOOKUP(Bemessung!$B$28,Zwischenrechnung!$A$46:$F$55,4,FALSE),VLOOKUP(Bemessung!$B$28,Zwischenrechnung!$I$46:$N$55,4,FALSE)) -> 56.871118 | E104: =IF(Bemessung!$B$29=Zwischenrechnung!$L$36,VLOOKUP(Bemessung!$B$28,Zwischenrechnung!$A$59:$F$68,4,FALSE),0) -> 19.611626
A105: 0.9 | B105: =VLOOKUP(Bemessung!$B$28,Zwischenrechnung!$A$32:$F$41,5,FALSE) -> 10.895305 | C105: =IF(Bemessung!$B$29=Zwischenrechnung!$L$36,VLOOKUP(Bemessung!$B$28,Zwischenrechnung!$A$46:$F$55,5,FALSE),VLOOKUP(Bemessung!$B$28,Zwischenrechnung!$I$46:$N$55,5,FALSE)) -> 63.980008 | D105: =18/1.25 -> 14.4 | E105: =IF(Bemessung!$B$29=Zwischenrechnung!$L$36,VLOOKUP(Bemessung!$B$28,Zwischenrechnung!$A$59:$F$68,5,FALSE),0) -> 22.063079
A106: 1 | B106: =VLOOKUP(Bemessung!$B$28,Zwischenrechnung!$A$32:$F$41,6,FALSE) -> 12.105894 | C106: =IF(Bemessung!$B$29=Zwischenrechnung!$L$36,VLOOKUP(Bemessung!$B$28,Zwischenrechnung!$A$46:$F$55,6,FALSE),VLOOKUP(Bemessung!$B$28,Zwischenrechnung!$I$46:$N$55,6,FALSE)) -> 71.088898 | D106: =18/1.25 -> 14.4 | E106: =IF(Bemessung!$B$29=Zwischenrechnung!$L$36,VLOOKUP(Bemessung!$B$28,Zwischenrechnung!$A$59:$F$68,6,FALSE),0) -> 24.514533
A108: Bemessung:
A109: Eingabetabelle mit den vorhandenen Lasten:
A110: Lastfall kombination | B110: Mittige/Ausmittige Zugkraft F1,d | C110: In Einschub- richtung F2,k | D110: In Einschub- richtung F2,d | E110: Entgegen Einschubricht. F3,d | F110: Rechtwinklig zur Einschub-richtung F45,d | G110: kmod
A111: LFK1: g | B111: =Bemessung!B19 -> 0 | C111: =D111*$C$116/G111 -> 0 | D111: =Bemessung!C19 -> 0 | F111: =Bemessung!E19 -> 0 | G111: =Bemessung!G19 -> 0.6
A112: LFK2: g+s | B112: =Bemessung!B20 -> 0 | C112: =D112*$C$116/G112 -> 0 | D112: =Bemessung!C20 -> 0 | F112: =Bemessung!E20 -> 0 | G112: =Bemessung!G20 -> 0.9
...

Sheet Herleitung_HT-NT-Anschlüsse
A1: Eingabe
A2: Verknüpfte Eingabe
A4: Load direction F1 perpendicular to the connector plate
A6: RICON S VS Connector
K7: =Bemessung!C39 -> 0
A8: Knapp Connector | B8: F1,KCC,RK | C8: ac | D8: e1 | E8: nef | F8: L(H) | G8: lef (H) | H8: lef (J) | I8: d | J8: Fax,Rk (H) | K8: Fax,Rk (J) | L8: ftens,k | M8: F1,Rk | N8: Knapp Connector | O8: Tensile Force F1,Rd [kN]
B9: [kN] | C9: [mm] | D9: [mm] | E9: [pcs] | F9: [mm] | G9: [mm] | H9: [mm] | I9: [mm] | J9: [kN] | K9: [kN] | L9: [kN] | M9: [kN] | O9: 0.6 | P9: 0.7 | Q9: 0.8 | R9: 0.9 | S9: 1
A10: RICON S 140/60 VS min | B10: 9 | C10: 60 | D10: =C10/2 -> 30 | E10: =Q26 -> 0 | F10: =Zwischenrechnung!D18 -> 80 | G10: =VLOOKUP(F10,$P$57:$Q$58,2,FALSE) -> 70 | H10: =VLOOKUP(D40,$P$39:$Q$41,2,FALSE) -> 145 | I10: =Zwischenrechnung!F18 -> 8 | J10: =(0.52*SQRT(I10)*(G10)^0.9*$B$22^0.8)/1000 -> 7.8796179 | K10: =(IF(H10>=100,$K$21,$K$22)*0.52*SQRT(I10)*H10^0.9*$B$21^0.8)/1000 -> 9.1054072 | L10: 22 | M10: =E10*MIN(B10,J10,K10,L10) -> 0 | N10: RICON S 140/60 VS min | O10: =$E10*MIN($B10/1,$J10*O$9/$O$20,$K10*O$9/$O$20,$L10/1.25) -> 0 | P10: =$E10*MIN($B10/1,$J10*P$9/$O$20,$K10*P$9/$O$20,$L10/1.25) -> 0 | Q10: =$E10*MIN($B10/1,$J10*Q$9/$O$20,$K10*Q$9/$O$20,$L10/1.25) -> 0 | R10: =$E10*MIN($B10/1,$J10*R$9/$O$20,$K10*R$9/$O$20,$L10/1.25) -> 0 | S10: =$E10*MIN($B10/1,$J10*S$9/$O$20,$K10*S$9/$O$20,$L10/1.25) -> 0
A11: RICON S 140/60 VS st | B11: 9 | C11: 60 | D11: =C11/2 -> 30 | E11: =Q27 -> 0 | F11: =Zwischenrechnung!D19 -> 80 | G11: =VLOOKUP(F11,$P$57:$Q$58,2,FALSE) -> 70 | H11: =VLOOKUP(D41,$P$39:$Q$41,2,FALSE) -> 145 | I11: =Zwischenrechnung!F19 -> 8 | J11: =(0.52*SQRT(I11)*(G11)^0.9*$B$22^0.8)/1000 -> 7.8796179 | K11: =(IF(H11>=100,$K$21,$K$22)*0.52*SQRT(I11)*H11^0.9*$B$21^0.8)/1000 -> 9.1054072 | L11: 23 | M11: =E11*MIN(B11,J11,K11,L11) -> 0 | N11: RICON S 140/60 VS st | O11: =$E11*MIN($B11/1,$J11*O$9/$O$20,$K11*O$9/$O$20,$L11/1.25) -> 0 | P11: =$E11*MIN($B11/1,$J11*P$9/$O$20,$K11*P$9/$O$20,$L11/1.25) -> 0 | Q11: =$E11*MIN($B11/1,$J11*Q$9/$O$20,$K11*Q$9/$O$20,$L11/1.25) -> 0 | R11: =$E11*MIN($B11/1,$J11*R$9/$O$20,$K11*R$9/$O$20,$L11/1.25) -> 0 | S11: =$E11*MIN($B11/1,$J11*S$9/$O$20,$K11*S$9/$O$20,$L11/1.25) -> 0
A12: RICON S 200/60 VS min | B12: 9 | C12: 120 | D12: =C12/2 -> 60 | E12: =Q28 -> 0 | F12: =Zwischenrechnung!D20 -> 80 | G12: =VLOOKUP(F12,$P$57:$Q$58,2,FALSE) -> 70 | H12: =VLOOKUP(D42,$P$39:$Q$41,2,FALSE) -> 145 | I12: =Zwischenrechnung!F20 -> 8 | J12: =(0.52*SQRT(I12)*(G12)^0.9*$B$22^0.8)/1000 -> 7.8796179 | K12: =(IF(H12>=100,$K$21,$K$22)*0.52*SQRT(I12)*H12^0.9*$B$21^0.8)/1000 -> 9.1054072 | L12: 22 | M12: =E12*MIN(B12,J12,K12,L12) -> 0 | N12: RICON S 200/60 VS min | O12: =$E12*MIN($B12/1,$J12*O$9/$O$20,$K12*O$9/$O$20,$L12/1.25) -> 0 | P12: =$E12*MIN($B12/1,$J12*P$9/$O$20,$K12*P$9/$O$20,$L12/1.25) -> 0 | Q12: =$E12*MIN($B12/1,$J12*Q$9/$O$20,$K12*Q$9/$O$20,$L12/1.25) -> 0 | R12: =$E12*MIN($B12/1,$J12*R$9/$O$20,$K12*R$9/$O$20,$L12/1.25) -> 0 | S12: =$E12*MIN($B12/1,$J12*S$9/$O$20,$K12*S$9/$O$20,$L12/1.25) -> 0
A13: RICON S 200/60 VS st | B13: 9 | C13: 120 | D13: =C13/2 -> 60 | E13: =Q29 -> 0 | F13: =Zwischenrechnung!D21 -> 80 | G13: =VLOOKUP(F13,$P$57:$Q$58,2,FALSE) -> 70 | H13: =VLOOKUP(D43,$P$39:$Q$41,2,FALSE) -> 145 | I13: =Zwischenrechnung!F21 -> 8 | J13: =(0.52*SQRT(I13)*(G13)^0.9*$B$22^0.8)/1000 -> 7.8796179 | K13: =(IF(H13>=100,$K$21,$K$22)*0.52*SQRT(I13)*H13^0.9*$B$21^0.8)/1000 -> 9.1054072 | L13: 23 | M13: =E13*MIN(B13,J13,K13,L13) -> 0 | N13: RICON S 200/60 VS st | O13: =$E13*MIN($B13/1,$J13*O$9/$O$20,$K13*O$9/$O$20,$L13/1.25) -> 0 | P13: =$E13*MIN($B13/1,$J13*P$9/$O$20,$K13*P$9/$O$20,$L13/1.25) -> 0 | Q13: =$E13*MIN($B13/1,$J13*Q$9/$O$20,$K13*Q$9/$O$20,$L13/1.25) -> 0 | R13: =$E13*MIN($B13/1,$J13*R$9/$O$20,$K13*R$9/$O$20,$L13/1.25) -> 0 | S13: =$E13*MIN($B13/1,$J13*S$9/$O$20,$K13*S$9/$O$20,$L13/1.25) -> 0
A14: RICON S 200/80 VS min | B14: 9 | C14: 120 | D14: =C14/2 -> 60 | E14: =Q30 -> 0 | F14: =Zwischenrechnung!D22 -> 100 | G14: =VLOOKUP(F14,$P$61:$Q$63,2,FALSE) -> 85 | H14: =VLOOKUP(D44,$P$44:$Q$46,2,FALSE) -> 180 | I14: =Zwischenrechnung!F22 -> 10 | J14: =(0.52*SQRT(I14)*(G14)^0.9*$B$22^0.8)/1000 -> 10.491775 | K14: =(IF(H14>=100,$K$21,$K$22)*0.52*SQRT(I14)*H14^0.9*$B$21^0.8)/1000 -> 12.367116 | L14: 31 | M14: =E14*MIN(B14,J14,K14,L14) -> 0 | N14: RICON S 200/80 VS min | O14: =$E14*MIN($B14/1,$J14*O$9/$O$20,$K14*O$9/$O$20,$L14/1.25) -> 0 | P14: =$E14*MIN($B14/1,$J14*P$9/$O$20,$K14*P$9/$O$20,$L14/1.25) -> 0 | Q14: =$E14*MIN($B14/1,$J14*Q$9/$O$20,$K14*Q$9/$O$20,$L14/1.25) -> 0 | R14: =$E14*MIN($B14/1,$J14*R$9/$O$20,$K14*R$9/$O$20,$L14/1.25) -> 0 | S14: =$E14*MIN($B14/1,$J14*S$9/$O$20,$K14*S$9/$O$20,$L14/1.25) -> 0
A15: RICON S 200/80 VS st | B15: 9 | C15: 120 | D15: =C15/2 -> 60 | E15: =Q31 -> 1.5 | F15: =Zwischenrechnung!D23 -> 100 | G15: =VLOOKUP(F15,$P$61:$Q$63,2,FALSE) -> 85 | H15: =VLOOKUP(D45,$P$44:$Q$46,2,FALSE) -> 280 | I15: =Zwischenrechnung!F23 -> 10 | J15: =(0.52*SQRT(I15)*(G15)^0.9*$B$22^0.8)/1000 -> 10.491775 | K15: =(IF(H15>=100,$K$21,$K$22)*0.52*SQRT(I15)*H15^0.9*$B$21^0.8)/1000 -> 18.406254 | L15: 32 | M15: =E15*MIN(B15,J15,K15,L15) -> 13.5 | N15: RICON S 200/80 VS st | O15: =$E15*MIN($B15/1,$J15*O$9/$O$20,$K15*O$9/$O$20,$L15/1.25) -> 7.2635364 | P15: =$E15*MIN($B15/1,$J15*P$9/$O$20,$K15*P$9/$O$20,$L15/1.25) -> 8.4741258 | Q15: =$E15*MIN($B15/1,$J15*Q$9/$O$20,$K15*Q$9/$O$20,$L15/1.25) -> 9.6847152 | R15: =$E15*MIN($B15/1,$J15*R$9/$O$20,$K15*R$9/$O$20,$L15/1.25) -> 10.895305 | S15: =$E15*MIN($B15/1,$J15*S$9/$O$20,$K15*S$9/$O$20,$L15/1.25) -> 12.105894
A16: RICON S 290/80 VS min | B16: 9 | C16: 210 | D16: =C16/2 -> 105 | E16: =Q32 -> 0 | F16: =Zwischenrechnung!D24 -> 100 | G16: =VLOOKUP(F16,$P$61:$Q$63,2,FALSE) -> 85 | H16: =VLOOKUP(D46,$P$44:$Q$46,2,FALSE) -> 180 | I16: =Zwischenrechnung!F24 -> 10 | J16: =(0.52*SQRT(I16)*(G16)^0.9*$B$22^0.8)/1000 -> 10.491775 | K16: =(IF(H16>=100,$K$21,$K$22)*0.52*SQRT(I16)*H16^0.9*$B$21^0.8)/1000 -> 12.367116 | L16: 31 | M16: =E16*MIN(B16,J16,K16,L16) -> 0 | N16: RICON S 290/80 VS min | O16: =$E16*MIN($B16/1,$J16*O$9/$O$20,$K16*O$9/$O$20,$L16/1.25) -> 0 | P16: =$E16*MIN($B16/1,$J16*P$9/$O$20,$K16*P$9/$O$20,$L16/1.25) -> 0 | Q16: =$E16*MIN($B16/1,$J16*Q$9/$O$20,$K16*Q$9/$O$20,$L16/1.25) -> 0 | R16: =$E16*MIN($B16/1,$J16*R$9/$O$20,$K16*R$9/$O$20,$L16/1.25) -> 0 | S16: =$E16*MIN($B16/1,$J16*S$9/$O$20,$K16*S$9/$O$20,$L16/1.25) -> 0
A17: RICON S 290/80 VS st | B17: 9 | C17: 210 | D17: =C17/2 -> 105 | E17: =Q33 -> 0 | F17: =Zwischenrechnung!D25 -> 100 | G17: =VLOOKUP(F17,$P$61:$Q$63,2,FALSE) -> 85 | H17: =VLOOKUP(D47,$P$44:$Q$46,2,FALSE) -> 85 | I17: =Zwischenrechnung!F25 -> 10 | J17: =(0.52*SQRT(I17)*(G17)^0.9*$B$22^0.8)/1000 -> 10.491775 | K17: =(IF(H17>=100,$K$21,$K$22)*0.52*SQRT(I17)*H17^0.9*$B$21^0.8)/1000 -> 3.1475324 | L17: 32 | M17: =E17*MIN(B17,J17,K17,L17) -> 0 | N17: RICON S 290/80 VS st | O17: =$E17*MIN($B17/1,$J17*O$9/$O$20,$K17*O$9/$O$20,$L17/1.25) -> 0 | P17: =$E17*MIN($B17/1,$J17*P$9/$O$20,$K17*P$9/$O$20,$L17/1.25) -> 0 | Q17: =$E17*MIN($B17/1,$J17*Q$9/$O$20,$K17*Q$9/$O$20,$L17/1.25) -> 0 | R17: =$E17*MIN($B17/1,$J17*R$9/$O$20,$K17*R$9/$O$20,$L17/1.25) -> 0 | S17: =$E17*MIN($B17/1,$J17*S$9/$O$20,$K17*S$9/$O$20,$L17/1.25) -> 0
A18: RICON S 390x80 VS+ZP | B18: 9 | C18: 210 | D18: =C18/2 -> 105 | E18: =Q34 -> 0 | F18: =Zwischenrechnung!D26 -> 100 | G18: =VLOOKUP(F18,$P$61:$Q$63,2,FALSE) -> 85 | H18: =VLOOKUP(H49,$P$44:$Q$46,2,FALSE) -> 180 | I18: =Zwischenrechnung!F26 -> 10 | J18: =(0.52*SQRT(I18)*(G18)^0.9*$B$22^0.8)/1000 -> 10.491775 | K18: =(IF(H18>=100,$K$21,$K$22)*0.52*SQRT(I18)*H18^0.9*$B$21^0.8)/1000 -> 12.367116 | L18: 32 | M18: =E18*MIN(B18,J18,K18,L18) -> 0 | N18: RICON S 390x80 VS+ZP | O18: =$E18*MIN($B18/1,$J18*O$9/$O$20,$K18*O$9/$O$20,$L18/1.25) -> 0 | P18: =$E18*MIN($B18/1,$J18*P$9/$O$20,$K18*P$9/$O$20,$L18/1.25) -> 0 | Q18: =$E18*MIN($B18/1,$J18*Q$9/$O$20,$K18*Q$9/$O$20,$L18/1.25) -> 0 | R18: =$E18*MIN($B18/1,$J18*R$9/$O$20,$K18*R$9/$O$20,$L18/1.25) -> 0 | S18: =$E18*MIN($B18/1,$J18*S$9/$O$20,$K18*S$9/$O$20,$L18/1.25) -> 0
A19: RICON S 390x80 VS+ZP max | B19: 9 | C19: 210 | D19: =C19/2 -> 105 | E19: =Q35 -> 0 | F19: =Zwischenrechnung!D27 -> 100 | G19: =VLOOKUP(F19,$P$61:$Q$63,2,FALSE) -> 85 | H19: =VLOOKUP(H51,$P$44:$Q$46,2,FALSE) -> 180 | I19: =Zwischenrechnung!F27 -> 10 | J19: =(0.52*SQRT(I19)*(G19)^0.9*$B$22^0.8)/1000 -> 10.491775 | K19: =(IF(H19>=100,$K$21,$K$22)*0.52*SQRT(I19)*H19^0.9*$B$21^0.8)/1000 -> 12.367116 | L19: 32 | M19: =E19*MIN(B19,J19,K19,L19) -> 0 | N19: RICON S 390x80 VS+ZP max | O19: =$E19*MIN($B19/1,$J19*O$9/$O$20,$K19*O$9/$O$20,$L19/1.25) -> 0 | P19: =$E19*MIN($B19/1,$J19*P$9/$O$20,$K19*P$9/$O$20,$L19/1.25) -> 0 | Q19: =$E19*MIN($B19/1,$J19*Q$9/$O$20,$K19*Q$9/$O$20,$L19/1.25) -> 0 | R19: =$E19*MIN($B19/1,$J19*R$9/$O$20,$K19*R$9/$O$20,$L19/1.25) -> 0 | S19: =$E19*MIN($B19/1,$J19*S$9/$O$20,$K19*S$9/$O$20,$L19/1.25) -> 0
I20: Winkel a = | J20: 90 | K20: =90-Bemessung!B34 -> 0 | N20: Partial factor for material properties gM = | O20: =Bemessung!G24 -> 1.3
A21: characteristic density rk = | B21: =MIN(Bemessung!B36,590) -> 385 | C21: kg/m³ | D21: =Bemessung!B35 -> GL24h | E21: Joist | I21: kax = | J21: 1 | K21: =IF(K20>45,1,0.6+0.4*K20/45) -> 0.6 | L21: screws length ≥ 100mm
A22: characteristic density rk = | B22: =Bemessung!B38 -> 385 | C22: kg/m³ | D22: =Bemessung!B37 -> GL24h | E22: Header | I22: kax = | J22: 1 | K22: =IF(K20>45,1,0.3+0.7*K20/45) -> 0.3 | L22: screws length < 100mm | N22: Height joist HN = | O22: =Bemessung!E83 -> 0
N23: Distance t1 = | O23: =Bemessung!B80 -> 40 | P23: Distance t2 = | Q23: =Bemessung!B80 -> 40
A25: Load direction F2 in the direction of insertion | N25: Knapp Connector | O25: Abstand ac | P25: Abstand e1 | Q25: nef
N26: RICON S 140/60 VS min | O26: 59 | P26: =MIN($O$22/2-$Q$23,$O$22/2-$O$23,O26-$O$22/2+$Q$23,O26-$O$22/2+$O$23) -> -40 | Q26: =IF(Bemessung!$B$28="RICON S 140/60 VS min",O26/(O26-P26),0)*2 -> 0
A27: RICON S VS Connector | N27: RICON S 140/60 VS st | O27: 60 | P27: =MIN($O$22/2-$Q$23,$O$22/2-$O$23,O27-$O$22/2+$Q$23,O27-$O$22/2+$O$23) -> -40 | Q27: =IF(Bemessung!$B$28="RICON S 140/60 VS st",O27/(O27-P27),0)*2 -> 0
N28: RICON S 200/60 VS min | O28: 119 | P28: =MIN($O$22/2-$Q$23,$O$22/2-$O$23,O28-$O$22/2+$Q$23,O28-$O$22/2+$O$23) -> -40 | Q28: =IF(Bemessung!$B$28="RICON S 200/60 VS min",O28/(O28-P28),0)*2 -> 0
A29: characteristic density rk = | B29: =B21 -> 385 | C29: kg/m³ | D29: =Bemessung!B35 -> GL24h | E29: Joist | N29: RICON S 200/60 VS st | O29: 120 | P29: =MIN($O$22/2-$Q$23,$O$22/2-$O$23,O29-$O$22/2+$Q$23,O29-$O$22/2+$O$23) -> -40 | Q29: =IF(Bemessung!$B$28="RICON S 200/60 VS st",O29/(O29-P29),0)*2 -> 0
A30: characteristic density rk = | B30: =Bemessung!$B$38 -> 385 | C30: kg/m³ | D30: =Bemessung!$B$37 -> GL24h | E30: Header | N30: RICON S 200/80 VS min | O30: 119 | P30: =MIN($O$22/2-$Q$23,$O$22/2-$O$23,O30-$O$22/2+$Q$23,O30-$O$22/2+$O$23) -> -40 | Q30: =IF(Bemessung!$B$28="RICON S 200/80 VS min",O30/(O30-P30),0)*2 -> 0
A31: char. yield moment My,Rk = | B31: =Zwischenrechnung!L23*1000 -> 35000 | C31: =Zwischenrechnung!L19*1000 -> 20000 | D31: Nmm | E31: =Bemessung!B39 -> ETA-10/0189 | N31: RICON S 200/80 VS st | O31: 120 | P31: =MIN($O$22/2-$Q$23,$O$22/2-$O$23,O31-$O$22/2+$Q$23,O31-$O$22/2+$O$23) -> -40 | Q31: =IF(Bemessung!$B$28="RICON S 200/80 VS st",O31/(O31-P31),0)*2 -> 1.5
A32: outer thread diameter d = | B32: 10 | C32: 8 | D32: mm | N32: RICON S 290/80 VS min | O32: 209 | P32: =MIN($O$22/2-$Q$23,$O$22/2-$O$23,O32-$O$22/2+$Q$23,O32-$O$22/2+$O$23) -> -40 | Q32: =IF(Bemessung!$B$28="RICON S 290/80 VS min",O32/(O32-P32),0)*2 -> 0
A33: Embedding strength fh,J,k = | B33: =0.082*$B$32^-0.3*$B$29/(2.5*COS(RADIANS($K$20))^2+SIN(RADIANS($K$20))^2) -> 6.3289924 | C33: =0.082*$C$32^-0.3*$B$29/(2.5*COS(RADIANS($K$20))^2+SIN(RADIANS($K$20))^2) -> 6.7671776 | D33: N/mm² | N33: RICON S 290/80 VS st | O33: 210 | P33: =MIN($O$22/2-$Q$23,$O$22/2-$O$23,O33-$O$22/2+$Q$23,O33-$O$22/2+$O$23) -> -40 | Q33: =IF(Bemessung!$B$28="RICON S 290/80 VS st",O33/(O33-P33),0)*2 -> 0
A34: Embedding strength fh,H,k = | B34: =0.082*$B$32^-0.3*$B$30 -> 15.822481 | C34: =0.082*$C$32^-0.3*$B$30 -> 16.917944 | D34: N/mm² | N34: RICON S 390x80 VS+ZP | O34: 270 | P34: =MIN($O$22/2-$Q$23,$O$22/2-$O$23,O34-$O$22/2+$Q$23,O34-$O$22/2+$O$23) -> -40 | Q34: =IF(Bemessung!$B$28="RICON S 390x80 VS+ZP",O34/(O34-P34),0)*2 -> 0
N35: RICON S 390x80 VS+ZP max | O35: 270 | P35: =MIN($O$22/2-$Q$23,$O$22/2-$O$23,O35-$O$22/2+$Q$23,O35-$O$22/2+$O$23) -> -40 | Q35: =IF(Bemessung!$B$28="RICON S 390x80 VS+ZP max",O35/(O35-P35),0)*2 -> 0
O37: RICON S60 Screws in joist
A38: Knapp Connector | B38: n | C38: d | D38: L(J) | E38: lef | F38: Fax,J,RK | G38: Fv,J,Rk | H38: S Fv,J,Rk | O38: d [mm] | P38: L [mm] | Q38: lef [mm]
B39: [pcs] | C39: [mm] | D39: [mm] | E39: [mm] | F39: [kN] | G39: [kN] | H39: [kN] | O39: 8 | P39: 80 | Q39: 70
A40: RICON S 140/60 VS min | B40: =Zwischenrechnung!E18 -> 7 | C40: =Zwischenrechnung!F18 -> 8 | D40: =Zwischenrechnung!G18 -> 160 | E40: =VLOOKUP(D40,$P$39:$Q$41,2,FALSE) -> 145 | F40: =(IF(E40>=100,$J$53,$J$54)*0.52*SQRT(C40)*E40^0.9*$B$29^0.8)/1000 -> 9.1054072 | G40: =MIN($C$32*$C$33*E40/1000,(2.3*SQRT($C$31*$C$32*$C$33))/1000+(F40/4),$C$32*$C$33*E40/1000*(SQRT(2+4*$C$31/($C$32*$C$33*E40^2))-1)+F40/4) -> 4.6696214 | H40: =B40^0.9*G40 -> 26.907286 | I40: = n0,9 x FV,J,RK | O40: 8 | P40: 160 | Q40: 145
A41: RICON S 140/60 VS st | B41: =Zwischenrechnung!E19 -> 10 | C41: =Zwischenrechnung!F19 -> 8 | D41: =Zwischenrechnung!G19 -> 160 | E41: =VLOOKUP(D41,$P$39:$Q$41,2,FALSE) -> 145 | F41: =(IF(E41>=100,$J$53,$J$54)*0.52*SQRT(C41)*E41^0.9*$B$29^0.8)/1000 -> 9.1054072 | G41: =MIN($C$32*$C$33*E41/1000,(2.3*SQRT($C$31*$C$32*$C$33))/1000+(F41/4),$C$32*$C$33*E41/1000*(SQRT(2+4*$C$31/($C$32*$C$33*E41^2))-1)+F41/4) -> 4.6696214 | H41: =B41^0.9*G41 -> 37.092121 | I41: = n0,9 x FV,J,RK | O41: 8 | P41: 240 | Q41: 225
A42: RICON S 200/60 VS min | B42: =Zwischenrechnung!E20 -> 8 | C42: =Zwischenrechnung!F20 -> 8 | D42: =Zwischenrechnung!G20 -> 160 | E42: =VLOOKUP(D42,$P$39:$Q$41,2,FALSE) -> 145 | F42: =(IF(E42>=100,$J$53,$J$54)*0.52*SQRT(C42)*E42^0.9*$B$29^0.8)/1000 -> 9.1054072 | G42: =MIN($C$32*$C$33*E42/1000,(2.3*SQRT($C$31*$C$32*$C$33))/1000+(F42/4),$C$32*$C$33*E42/1000*(SQRT(2+4*$C$31/($C$32*$C$33*E42^2))-1)+F42/4) -> 4.6696214 | H42: =B42^0.9*G42 -> 30.343289 | I42: = n0,9 x FV,J,RK | O42: RICON S80 Screws in joist | R42: RI-S 390x80 ZP
A43: RICON S 200/60 VS st | B43: =Zwischenrechnung!E21 -> 16 | C43: =Zwischenrechnung!F21 -> 8 | D43: =Zwischenrechnung!G21 -> 160 | E43: =VLOOKUP(D43,$P$39:$Q$41,2,FALSE) -> 145 | F43: =(IF(E43>=100,$J$53,$J$54)*0.52*SQRT(C43)*E43^0.9*$B$29^0.8)/1000 -> 9.1054072 | G43: =MIN($C$32*$C$33*E43/1000,(2.3*SQRT($C$31*$C$32*$C$33))/1000+(F43/4),$C$32*$C$33*E43/1000*(SQRT(2+4*$C$31/($C$32*$C$33*E43^2))-1)+F43/4) -> 4.6696214 | H43: =B43^0.9*G43 -> 56.62258 | I43: = n0,9 x FV,J,RK | O43: d [mm] | P43: L [mm] | Q43: lef [mm] | R43: lef [mm]
A44: RICON S 200/80 VS min | B44: =Zwischenrechnung!E22 -> 8 | C44: =Zwischenrechnung!F22 -> 10 | D44: =Zwischenrechnung!G22 -> 200 | E44: =VLOOKUP(D44,$P$44:$Q$46,2,FALSE) -> 180 | F44: =(IF(E44>=100,$J$53,$J$54)*0.52*SQRT(C44)*E44^0.9*$B$29^0.8)/1000 -> 12.367116 | G44: =MIN($B$32*$B$33*E44/1000,(2.3*SQRT($B$31*$B$32*$B$33))/1000+(F44/4),$B$32*$B$33*E44/1000*(SQRT(2+4*$B$31/($B$32*$B$33*E44^2))-1)+F44/4) -> 6.5149543 | H44: =B44^0.9*G44 -> 42.334298 | I44: = n0,9 x FV,J,RK | O44: 10 | P44: 100 | Q44: 85 | R44: =P44-25 -> 75
A45: RICON S 200/80 VS st | B45: =Zwischenrechnung!E23 -> 16 | C45: =Zwischenrechnung!F23 -> 10 | D45: =Zwischenrechnung!G23 -> 300 | E45: =VLOOKUP(D45,$P$44:$Q$46,2,FALSE) -> 280 | F45: =(IF(E45>=100,$J$53,$J$54)*0.52*SQRT(C45)*E45^0.9*$B$29^0.8)/1000 -> 18.406254 | G45: =MIN($B$32*$B$33*E45/1000,(2.3*SQRT($B$31*$B$32*$B$33))/1000+(F45/4),$B$32*$B$33*E45/1000*(SQRT(2+4*$B$31/($B$32*$B$33*E45^2))-1)+F45/4) -> 8.0247388 | H45: =B45^0.9*G45 -> 97.305836 | I45: = n0,9 x FV,J,RK | O45: 10 | P45: 200 | Q45: 180 | R45: =P45-25 -> 175
A46: RICON S 290/80 VS min | B46: =Zwischenrechnung!E24 -> 8 | C46: =Zwischenrechnung!F24 -> 10 | D46: =Zwischenrechnung!G24 -> 200 | E46: =VLOOKUP(D46,$P$44:$Q$46,2,FALSE) -> 180 | F46: =(IF(E46>=100,$J$53,$J$54)*0.52*SQRT(C46)*E46^0.9*$B$29^0.8)/1000 -> 12.367116 | G46: =MIN($B$32*$B$33*E46/1000,(2.3*SQRT($B$31*$B$32*$B$33))/1000+(F46/4),$B$32*$B$33*E46/1000*(SQRT(2+4*$B$31/($B$32*$B$33*E46^2))-1)+F46/4) -> 6.5149543 | H46: =B46^0.9*G46 -> 42.334298 | I46: = n0,9 x FV,J,RK | O46: 10 | P46: 300 | Q46: 280 | R46: =P46-25 -> 275
A47: RICON S 290/80 VS st | B47: =Zwischenrechnung!E25 -> 25 | C47: =Zwischenrechnung!F25 -> 10 | D47: =Zwischenrechnung!G25 -> 100 | E47: =VLOOKUP(D47,$P$44:$Q$46,2,FALSE) -> 85 | F47: =(IF(E47>=100,$J$53,$J$54)*0.52*SQRT(C47)*E47^0.9*$B$29^0.8)/1000 -> 3.1475324 | G47: =MIN($B$32*$B$33*E47/1000,(2.3*SQRT($B$31*$B$32*$B$33))/1000+(F47/4),$B$32*$B$33*E47/1000*(SQRT(2+4*$B$31/($B$32*$B$33*E47^2))-1)+F47/4) -> 3.5768001 | H47: =B47^0.9*G47 -> 64.809799 | I47: = n0,9 x FV,J,RK
B48: nges | C48: nef = nges0,9 | D48: n | E48: % Anteile | F48: nef aufgeteilt | G48: d | H48: L(J) | I48: lef | J48: Fax,J,RK | K48: Fv,J,Rk | L48: S Fv,J,Rk | M48: S Fv,J,Rk,ges
A49: RICON S 390x80 VS+ZP | B49: =D49+D50 -> 28 | C49: =B49^0.9 -> 20.065142 | D49: =Zwischenrechnung!$E$26-3 -> 25 | E49: =D49/B49 -> 0.89285714 | F49: =$C$49*E49 -> 17.915305 | G49: =Zwischenrechnung!$F$26 -> 10 | H49: =Zwischenrechnung!$G$26 -> 200 | I49: =VLOOKUP(H49,$P$44:$Q$46,2,FALSE) -> 180 | J49: =(IF(I49>=100,$J$53,$J$54)*0.52*SQRT(G49)*I49^0.9*$B$29^0.8)/1000 -> 12.367116 | K49: =MIN($B$32*$B$33*I49/1000,(2.3*SQRT($B$31*$B$32*$B$33))/1000+(J49/4),$B$32*$B$33*I49/1000*(SQRT(2+4*$B$31/($B$32*$B$33*I49^2))-1)+J49/4) -> 6.5149543 | L49: =F49*K49 -> 116.71739 | M49: =L49+L50 -> 130.55708
D50: =Zwischenrechnung!$E$26-D49 -> 3 | E50: =D50/B49 -> 0.10714286 | F50: =$C$49*E50 -> 2.1498366 | G50: =Zwischenrechnung!$F$26 -> 10 | H50: =Zwischenrechnung!$G$26 -> 200 | I50: =VLOOKUP(H50,$P$44:$R$46,3,FALSE) -> 175 | J50: =(IF(I50>=100,$J$53,$J$54)*0.52*SQRT(G50)*I50^0.9*$B$29^0.8)/1000 -> 12.057504 | K50: =MIN($B$32*$B$33*I50/1000,(2.3*SQRT($B$31*$B$32*$B$33))/1000+(J50/4),$B$32*$B$33*I50/1000*(SQRT(2+4*$B$31/($B$32*$B$33*I50^2))-1)+J50/4) -> 6.4375514 | L50: =F50*K50 -> 13.839684
A51: RICON S 390x80 VS+ZP max | B51: =D51+D52 -> 28 | C51: =B51^0.9 -> 20.065142 | D51: =Zwischenrechnung!$E$27-3 -> 25 | E51: =D51/B51 -> 0.89285714 | F51: =$C$51*E51 -> 17.915305 | G51: =Zwischenrechnung!$F$27 -> 10 | H51: =Zwischenrechnung!$G$27 -> 200 | I51: =VLOOKUP(H51,$P$44:$Q$46,2,FALSE) -> 180 | J51: =(IF(I51>=100,$J$53,$J$54)*0.52*SQRT(G51)*I51^0.9*$B$29^0.8)/1000 -> 12.367116 | K51: =MIN($B$32*$B$33*I51/1000,(2.3*SQRT($B$31*$B$32*$B$33))/1000+(J51/4),$B$32*$B$33*I51/1000*(SQRT(2+4*$B$31/($B$32*$B$33*I51^2))-1)+J51/4) -> 6.5149543 | L51: =F51*K51 -> 116.71739 | M51: =L51+L52 -> 130.55708
D52: =Zwischenrechnung!$E$27-D51 -> 3 | E52: =D52/B51 -> 0.10714286 | F52: =$C$51*E52 -> 2.1498366 | G52: =Zwischenrechnung!$F$27 -> 10 | H52: =Zwischenrechnung!$G$27 -> 200 | I52: =VLOOKUP(H52,$P$44:$R$46,3,FALSE) -> 175 | J52: =(IF(I52>=100,$J$53,$J$54)*0.52*SQRT(G52)*I52^0.9*$B$29^0.8)/1000 -> 12.057504 | K52: =MIN($B$32*$B$33*I52/1000,(2.3*SQRT($B$31*$B$32*$B$33))/1000+(J52/4),$B$32*$B$33*I52/1000*(SQRT(2+4*$B$31/($B$32*$B$33*I52^2))-1)+J52/4) -> 6.4375514 | L52: =F52*K52 -> 13.839684
I53: kax= | J53: =K21 -> 0.6
I54: kax= | J54: =K22 -> 0.3
A55: Knapp Connector | B55: n | C55: d | D55: L(H) | E55: lef | F55: Fax,H,RK | G55: Fv,H,Rk | H55: S Fv,H,Rk | O55: RICON S60 Screws in header
B56: [pcs] | C56: [mm] | D56: [mm] | E56: [mm] | F56: [kN] | G56: [kN] | H56: [kN] | O56: d [mm] | P56: L [mm] | Q56: lef [mm]
A57: RICON S 140/60 VS min | B57: =Zwischenrechnung!B18 -> 7 | C57: =Zwischenrechnung!C18 -> 8 | D57: =Zwischenrechnung!D18 -> 80 | E57: =VLOOKUP(D57,$P$57:$Q$58,2,FALSE) -> 70 | F57: =(0.52*SQRT(C57)*E57^0.9*$B$30^0.8)/1000 -> 7.8796179 | G57: =MIN($C$32*$C$34*E57/1000,(2.3*SQRT($C$31*$C$32*$C$34))/1000+(F57/4),$C$32*$C$34*E57/1000*(SQRT(2+4*$C$31/($C$32*$C$34*E57^2))-1)+F57/4) -> 5.7539959 | H57: =B57^0.9*G57 -> 33.155668 | I57: = n0,9 x FV,H,RK | O57: 8 | P57: 80 | Q57: 70
A58: RICON S 140/60 VS st | B58: =Zwischenrechnung!B19 -> 10 | C58: =Zwischenrechnung!C19 -> 8 | D58: =Zwischenrechnung!D19 -> 80 | E58: =VLOOKUP(D58,$P$57:$Q$58,2,FALSE) -> 70 | F58: =(0.52*SQRT(C58)*E58^0.9*$B$30^0.8)/1000 -> 7.8796179 | G58: =MIN($C$32*$C$34*E58/1000,(2.3*SQRT($C$31*$C$32*$C$34))/1000+(F58/4),$C$32*$C$34*E58/1000*(SQRT(2+4*$C$31/($C$32*$C$34*E58^2))-1)+F58/4) -> 5.7539959 | H58: =B58^0.9*G58 -> 45.705614 | I58: = n0,9 x FV,H,RK | O58: 8 | P58: 120 | Q58: 100
A59: RICON S 200/60 VS min | B59: =Zwischenrechnung!B20 -> 8 | C59: =Zwischenrechnung!C20 -> 8 | D59: =Zwischenrechnung!D20 -> 80 | E59: =VLOOKUP(D59,$P$57:$Q$58,2,FALSE) -> 70 | F59: =(0.52*SQRT(C59)*E59^0.9*$B$30^0.8)/1000 -> 7.8796179 | G59: =MIN($C$32*$C$34*E59/1000,(2.3*SQRT($C$31*$C$32*$C$34))/1000+(F59/4),$C$32*$C$34*E59/1000*(SQRT(2+4*$C$31/($C$32*$C$34*E59^2))-1)+F59/4) -> 5.7539959 | H59: =B59^0.9*G59 -> 37.389576 | I59: = n0,9 x FV,H,RK | O59: RICON S80 Screws in header | R59: RI-S 390x80 ZP
A60: RICON S 200/60 VS st | B60: =Zwischenrechnung!B21 -> 16 | C60: =Zwischenrechnung!C21 -> 8 | D60: =Zwischenrechnung!D21 -> 80 | E60: =VLOOKUP(D60,$P$57:$Q$58,2,FALSE) -> 70 | F60: =(0.52*SQRT(C60)*E60^0.9*$B$30^0.8)/1000 -> 7.8796179 | G60: =MIN($C$32*$C$34*E60/1000,(2.3*SQRT($C$31*$C$32*$C$34))/1000+(F60/4),$C$32*$C$34*E60/1000*(SQRT(2+4*$C$31/($C$32*$C$34*E60^2))-1)+F60/4) -> 5.7539959 | H60: =B60^0.9*G60 -> 69.771415 | I60: = n0,9 x FV,H,RK | O60: d [mm] | P60: L [mm] | Q60: lef [mm] | R60: lef [mm]
A61: RICON S 200/80 VS min | B61: =Zwischenrechnung!B22 -> 8 | C61: =Zwischenrechnung!C22 -> 10 | D61: =Zwischenrechnung!D22 -> 100 | E61: =VLOOKUP(D61,$P$61:$Q$63,2,FALSE) -> 85 | F61: =(0.52*SQRT(C61)*E61^0.9*$B$30^0.8)/1000 -> 10.491775 | G61: =MIN($B$32*$B$34*E61/1000,(2.3*SQRT($B$31*$B$32*$B$34))/1000+(F61/4),$B$32*$B$34*E61/1000*(SQRT(2+4*$B$31/($B$32*$B$34*E61^2))-1)+F61/4) -> 8.0354592 | H61: =B61^0.9*G61 -> 52.214568 | I61: = n0,9 x FV,H,RK | O61: 10 | P61: 80 | Q61: 54 | R61: =Q61 -> 54
A62: RICON S 200/80 VS st | B62: =Zwischenrechnung!B23 -> 16 | C62: =Zwischenrechnung!C23 -> 10 | D62: =Zwischenrechnung!D23 -> 100 | E62: =VLOOKUP(D62,$P$61:$Q$63,2,FALSE) -> 85 | F62: =(0.52*SQRT(C62)*E62^0.9*$B$30^0.8)/1000 -> 10.491775 | G62: =MIN($B$32*$B$34*E62/1000,(2.3*SQRT($B$31*$B$32*$B$34))/1000+(F62/4),$B$32*$B$34*E62/1000*(SQRT(2+4*$B$31/($B$32*$B$34*E62^2))-1)+F62/4) -> 8.0354592 | H62: =B62^0.9*G62 -> 97.435828 | I62: = n0,9 x FV,H,RK | O62: 10 | P62: 100 | Q62: 85 | R62: =P62-25 -> 75
A63: RICON S 290/80 VS min | B63: =Zwischenrechnung!B24 -> 8 | C63: =Zwischenrechnung!C24 -> 10 | D63: =Zwischenrechnung!D24 -> 100 | E63: =VLOOKUP(D63,$P$61:$Q$63,2,FALSE) -> 85 | F63: =(0.52*SQRT(C63)*E63^0.9*$B$30^0.8)/1000 -> 10.491775 | G63: =MIN($B$32*$B$34*E63/1000,(2.3*SQRT($B$31*$B$32*$B$34))/1000+(F63/4),$B$32*$B$34*E63/1000*(SQRT(2+4*$B$31/($B$32*$B$34*E63^2))-1)+F63/4) -> 8.0354592 | H63: =B63^0.9*G63 -> 52.214568 | I63: = n0,9 x FV,H,RK | O63: 10 | P63: 120 | Q63: 84 | R63: =Q63 -> 84
A64: RICON S 290/80 VS st | B64: =Zwischenrechnung!B25 -> 25 | C64: =Zwischenrechnung!C25 -> 10 | D64: =Zwischenrechnung!D25 -> 100 | E64: =VLOOKUP(D64,$P$61:$Q$63,2,FALSE) -> 85 | F64: =(0.52*SQRT(C64)*E64^0.9*$B$30^0.8)/1000 -> 10.491775 | G64: =MIN($B$32*$B$34*E64/1000,(2.3*SQRT($B$31*$B$32*$B$34))/1000+(F64/4),$B$32*$B$34*E64/1000*(SQRT(2+4*$B$31/($B$32*$B$34*E64^2))-1)+F64/4) -> 8.0354592 | H64: =B64^0.9*G64 -> 145.59843 | I64: = n0,9 x FV,H,RK
B65: nges | C65: nef = nges0,9 | D65: n | E65: % Anteile | F65: nef aufgeteilt | G65: d | H65: L(H) | I65: lef | J65: Fax,H,RK | K65: Fv,H,Rk | L65: S Fv,H,Rk | M65: Fv,H,Rk,ges
A66: RICON S 390x80 VS+ZP | B66: =D66+D67 -> 28 | C66: =B66^0.9 -> 20.065142 | D66: =Zwischenrechnung!$B$26-3 -> 25 | E66: =D66/B66 -> 0.89285714 | F66: =$C$49*E66 -> 17.915305 | G66: =Zwischenrechnung!$C$26 -> 10 | H66: =Zwischenrechnung!$D$26 -> 100 | I66: =VLOOKUP(H66,$P$61:$Q$63,2,FALSE) -> 85 | J66: =(0.52*SQRT(G66)*I66^0.9*$B$30^0.8)/1000 -> 10.491775 | K66: =MIN($B$32*$B$34*I66/1000,(2.3*SQRT($B$31*$B$32*$B$34))/1000+(J66/4),$B$32*$B$34*I66/1000*(SQRT(2+4*$B$31/($B$32*$B$34*I66^2))-1)+J66/4) -> 8.0354592 | L66: =F66*K66 -> 143.9577 | M66: =L66+L67 -> 160.63189
D67: =Zwischenrechnung!$B$26-D66 -> 3 | E67: =D67/B66 -> 0.10714286 | F67: =$C$49*E67 -> 2.1498366 | G67: =Zwischenrechnung!$C$26 -> 10 | H67: =Zwischenrechnung!$D$26 -> 100 | I67: =VLOOKUP(H67,$P$61:$R$63,3,FALSE) -> 75 | J67: =(0.52*SQRT(G67)*I67^0.9*$B$30^0.8)/1000 -> 9.3740457 | K67: =MIN($B$32*$B$34*I67/1000,(2.3*SQRT($B$31*$B$32*$B$34))/1000+(J67/4),$B$32*$B$34*I67/1000*(SQRT(2+4*$B$31/($B$32*$B$34*I67^2))-1)+J67/4) -> 7.7560269 | L67: =F67*K67 -> 16.67419
A68: RICON S 390x80 VS+ZP max | B68: =D68+D69 -> 28 | C68: =B68^0.9 -> 20.065142 | D68: =Zwischenrechnung!$B$27-3 -> 25 | E68: =D68/B68 -> 0.89285714 | F68: =$C$51*E68 -> 17.915305 | G68: =Zwischenrechnung!$C$27 -> 10 | H68: =Zwischenrechnung!$D$27 -> 100 | I68: =VLOOKUP(H68,$P$61:$Q$63,2,FALSE) -> 85 | J68: =(0.52*SQRT(G68)*I68^0.9*$B$30^0.8)/1000 -> 10.491775 | K68: =MIN($B$32*$B$34*I68/1000,(2.3*SQRT($B$31*$B$32*$B$34))/1000+(J68/4),$B$32*$B$34*I68/1000*(SQRT(2+4*$B$31/($B$32*$B$34*I68^2))-1)+J68/4) -> 8.0354592 | L68: =F68*K68 -> 143.9577 | M68: =L68+L69 -> 160.63189
D69: =Zwischenrechnung!$B$27-D68 -> 3 | E69: =D69/B68 -> 0.10714286 | F69: =$C$51*E69 -> 2.1498366 | G69: =Zwischenrechnung!$C$27 -> 10 | H69: =Zwischenrechnung!$D$27 -> 100 | I69: =VLOOKUP(H69,$P$61:$R$63,3,FALSE) -> 75 | J69: =(0.52*SQRT(G69)*I69^0.9*$B$30^0.8)/1000 -> 9.3740457 | K69: =MIN($B$32*$B$34*I69/1000,(2.3*SQRT($B$31*$B$32*$B$34))/1000+(J69/4),$B$32*$B$34*I69/1000*(SQRT(2+4*$B$31/($B$32*$B$34*I69^2))-1)+J69/4) -> 7.7560269 | L69: =F69*K69 -> 16.67419
F71: EC 5
A72: Knapp Connector | B72: S Fv,J,Rk | C72: F2,KCC,RK | D72: kH,2 | E72: F2,H,Rk | F72: F2,R,k | N72: Knapp Connector | O72: F2,Rd [kN]
B73: [kN] | C73: [kN] | D73: [-] | E73: [kN] | F73: [kN] | O73: 0.6 | P73: 0.7 | Q73: 0.8 | R73: 0.9 | S73: 1
A74: RICON S 140/60 VS min | B74: =H40 -> 26.907286 | C74: 59 | D74: 10.7 | E74: =1/SQRT((1/H57)^2+(1/(D74*F57))^2) -> 30.855559 | F74: =MIN(B74,E74) -> 26.907286 | N74: RICON S 140/60 VS min | O74: =MIN(O$73*$B74/$O$84,$C74/1,O$73*$E74/$O$84) -> 12.418748 | P74: =MIN(P$73*$B74/$O$84,$C74/1,P$73*$E74/$O$84) -> 14.488539 | Q74: =MIN(Q$73*$B74/$O$84,$C74/1,Q$73*$E74/$O$84) -> 16.55833 | R74: =MIN(R$73*$B74/$O$84,$C74/1,R$73*$E74/$O$84) -> 18.628121 | S74: =MIN(S$73*$B74/$O$84,$C74/1,S$73*$E74/$O$84) -> 20.697913
A75: RICON S 140/60 VS st | B75: =H41 -> 37.092121 | C75: 60 | D75: 10.7 | E75: =1/SQRT((1/H58)^2+(1/(D75*F58))^2) -> 40.18126 | F75: =MIN(B75,E75) -> 37.092121 | N75: RICON S 140/60 VS st | O75: =MIN(O$73*$B75/$O$84,$C75/1,O$73*$E75/$O$84) -> 17.11944 | P75: =MIN(P$73*$B75/$O$84,$C75/1,P$73*$E75/$O$84) -> 19.97268 | Q75: =MIN(Q$73*$B75/$O$84,$C75/1,Q$73*$E75/$O$84) -> 22.825921 | R75: =MIN(R$73*$B75/$O$84,$C75/1,R$73*$E75/$O$84) -> 25.679161 | S75: =MIN(S$73*$B75/$O$84,$C75/1,S$73*$E75/$O$84) -> 28.532401
A76: RICON S 200/60 VS min | B76: =H42 -> 30.343289 | C76: 59 | D76: 27.8 | E76: =1/SQRT((1/H59)^2+(1/(D76*F59))^2) -> 36.85654 | F76: =MIN(B76,E76) -> 30.343289 | N76: RICON S 200/60 VS min | O76: =MIN(O$73*$B76/$O$84,$C76/1,O$73*$E76/$O$84) -> 14.004595 | P76: =MIN(P$73*$B76/$O$84,$C76/1,P$73*$E76/$O$84) -> 16.338694 | Q76: =MIN(Q$73*$B76/$O$84,$C76/1,Q$73*$E76/$O$84) -> 18.672793 | R76: =MIN(R$73*$B76/$O$84,$C76/1,R$73*$E76/$O$84) -> 21.006892 | S76: =MIN(S$73*$B76/$O$84,$C76/1,S$73*$E76/$O$84) -> 23.340992
A77: RICON S 200/60 VS st | B77: =H43 -> 56.62258 | C77: 60 | D77: 27.8 | E77: =1/SQRT((1/H60)^2+(1/(D77*F60))^2) -> 66.48061 | F77: =MIN(B77,E77) -> 56.62258 | N77: RICON S 200/60 VS st | O77: =MIN(O$73*$B77/$O$84,$C77/1,O$73*$E77/$O$84) -> 26.133498 | P77: =MIN(P$73*$B77/$O$84,$C77/1,P$73*$E77/$O$84) -> 30.489081 | Q77: =MIN(Q$73*$B77/$O$84,$C77/1,Q$73*$E77/$O$84) -> 34.844664 | R77: =MIN(R$73*$B77/$O$84,$C77/1,R$73*$E77/$O$84) -> 39.200247 | S77: =MIN(S$73*$B77/$O$84,$C77/1,S$73*$E77/$O$84) -> 43.55583
A78: RICON S 200/80 VS min | B78: =H44 -> 42.334298 | C78: 98 | D78: 27.8 | E78: =1/SQRT((1/H61)^2+(1/(D78*F61))^2) -> 51.397479 | F78: =MIN(B78,E78) -> 42.334298 | N78: RICON S 200/80 VS min | O78: =MIN(O$73*$B78/$O$84,$C78/1,O$73*$E78/$O$84) -> 19.538907 | P78: =MIN(P$73*$B78/$O$84,$C78/1,P$73*$E78/$O$84) -> 22.795391 | Q78: =MIN(Q$73*$B78/$O$84,$C78/1,Q$73*$E78/$O$84) -> 26.051876 | R78: =MIN(R$73*$B78/$O$84,$C78/1,R$73*$E78/$O$84) -> 29.30836 | S78: =MIN(S$73*$B78/$O$84,$C78/1,S$73*$E78/$O$84) -> 32.564845
A79: RICON S 200/80 VS st | B79: =H45 -> 97.305836 | C79: 99 | D79: 27.8 | E79: =1/SQRT((1/H62)^2+(1/(D79*F62))^2) -> 92.415567 | F79: =MIN(B79,E79) -> 92.415567 | N79: RICON S 200/80 VS st | O79: =MIN(O$73*$B79/$O$84,$C79/1,O$73*$E79/$O$84) -> 42.653339 | P79: =MIN(P$73*$B79/$O$84,$C79/1,P$73*$E79/$O$84) -> 49.762228 | Q79: =MIN(Q$73*$B79/$O$84,$C79/1,Q$73*$E79/$O$84) -> 56.871118 | R79: =MIN(R$73*$B79/$O$84,$C79/1,R$73*$E79/$O$84) -> 63.980008 | S79: =MIN(S$73*$B79/$O$84,$C79/1,S$73*$E79/$O$84) -> 71.088898 | X79: Bisher/Belong | Y79: Neu/New
A80: RICON S 290/80 VS min | B80: =H46 -> 42.334298 | C80: 98 | D80: 68.4 | E80: =1/SQRT((1/H63)^2+(1/(D80*F63))^2) -> 52.076905 | F80: =MIN(B80,E80) -> 42.334298 | N80: RICON S 290/80 VS min | O80: =MIN(O$73*$B80/$O$84,$C80/1,O$73*$E80/$O$84) -> 19.538907 | P80: =MIN(P$73*$B80/$O$84,$C80/1,P$73*$E80/$O$84) -> 22.795391 | Q80: =MIN(Q$73*$B80/$O$84,$C80/1,Q$73*$E80/$O$84) -> 26.051876 | R80: =MIN(R$73*$B80/$O$84,$C80/1,R$73*$E80/$O$84) -> 29.30836 | S80: =MIN(S$73*$B80/$O$84,$C80/1,S$73*$E80/$O$84) -> 32.564845 | U80: Verbinder / | V80: Verschraubung/ Screwing | X80: Char. Belastung | Y80: Char. Belastung
A81: RICON S 290/80 VS st | B81: =H47 -> 64.809799 | C81: 99 | D81: 68.4 | E81: =1/SQRT((1/H64)^2+(1/(D81*F64))^2) -> 142.69127 | F81: =MIN(B81,E81) -> 64.809799 | N81: RICON S 290/80 VS st | O81: =MIN(O$73*$B81/$O$84,$C81/1,O$73*$E81/$O$84) -> 29.912215 | P81: =MIN(P$73*$B81/$O$84,$C81/1,P$73*$E81/$O$84) -> 34.897584 | Q81: =MIN(Q$73*$B81/$O$84,$C81/1,Q$73*$E81/$O$84) -> 39.882953 | R81: =MIN(R$73*$B81/$O$84,$C81/1,R$73*$E81/$O$84) -> 44.868322 | S81: =MIN(S$73*$B81/$O$84,$C81/1,S$73*$E81/$O$84) -> 49.853691 | U81: Connector | V81: NT / Joist | W81: HT / Header | X81: F2,Rk [GL24h] | Y81: F2,Rk [GL24h]
A82: RICON S 390x80 VS+ZP | B82: =M49+M50 -> 130.55708 | C82: 180 | D82: 58 | E82: =1/SQRT((1/(M66))^2+(1/(D82*J66))^2) -> 155.31192 | F82: =MIN(B82,E82) -> 130.55708 | N82: RICON S 390x80 VS+ZP | O82: =MIN(O$73*$B82/$O$84,$C82/1,O$73*$E82/$O$84) -> 60.257113 | P82: =MIN(P$73*$B82/$O$84,$C82/1,P$73*$E82/$O$84) -> 70.299965 | Q82: =MIN(Q$73*$B82/$O$84,$C82/1,Q$73*$E82/$O$84) -> 80.342817 | R82: =MIN(R$73*$B82/$O$84,$C82/1,R$73*$E82/$O$84) -> 90.385669 | S82: =MIN(S$73*$B82/$O$84,$C82/1,S$73*$E82/$O$84) -> 100.42852 | U82: RICON S 390x80 VS+ZP min | V82: 28x SK 10x200 | W82: 28x SK 10x100 | X82: 130.9 | Y82: 130.6
A83: RICON S 390x80 VS+ZP max | B83: =M51+M52+B84 -> 170.55708 | C83: 180 | D83: 58 | E83: =1/SQRT((1/(M68))^2+(1/(D83*J68))^2)+E84 -> 195.31192 | F83: =MIN(B83,E83) -> 170.55708 | N83: RICON S 390x80 VS+ZP max | O83: =MIN(O$73*$B83/$O$84,$C83/1,O$73*$E83/$O$84) -> 78.718651 | P83: =MIN(P$73*$B83/$O$84,$C83/1,P$73*$E83/$O$84) -> 91.838426 | Q83: =MIN(Q$73*$B83/$O$84,$C83/1,Q$73*$E83/$O$84) -> 104.9582 | R83: =MIN(R$73*$B83/$O$84,$C83/1,R$73*$E83/$O$84) -> 118.07798 | S83: =MIN(S$73*$B83/$O$84,$C83/1,S$73*$E83/$O$84) -> 131.19775 | U83: RICON S 390x80 VS+ZP St | V83: 28x SK 10x200 | W83: 28x SK 10x100 | X83: 170.9 | Y83: 170.6
A84: F2,IS,Rk = | B84: =F96 -> 40 | E84: =L96 -> 40 | N84: Partial factor for material properties gM = | O84: =Bemessung!G24 -> 1.3 | V84: 2 SK 10x450 | W84: 2 SK 10x400
C85: Nebenträger Standardschraube | F85: Nebenträger vorh. Schrauben | I85: Hauptträger Standardschraube | L85: Hauptträger vorh. Schraube | U85: RICON S 390x80 VS+ZP max | V85: 28x SK 10x300 | W85: 28x SK 10x100 | X85: 195.9 | Y85: 195.3
A86: Zuglast der | B86: =Zwischenrechnung!E28 -> 2 | C86: 450 | D86: Scr. im NT | E86: =Zwischenrechnung!E28 -> 2 | F86: =Zwischenrechnung!G28 -> 450 | G86: Scr. im NT | H86: =Zwischenrechnung!B28 -> 2 | I86: 400 | J86: Scr. im HT | K86: =Zwischenrechnung!B28 -> 2 | L86: =Zwischenrechnung!D28 -> 400 | M86: Scr. im HT | V86: 2 SK 10x450 | W86: 2 SK 10x400
B87: n= | C87: 2 | D87: Schrauben | E87: n= | F87: =E86 -> 2 | G87: Schrauben | H87: n= | I87: 2 | J87: Schrauben | K87: n= | L87: =Zwischenrechnung!B28 -> 2 | M87: Schrauben
B88: nef = | C88: =C87*40/C95 -> 1.1227106 | D88: Schrauben | E88: nef = | F88: =C88 -> 1.1227106 | G88: Schrauben | H88: nef = | I88: =I87*40/I95 -> 1.2587419 | J88: Schrauben | K88: nef = | L88: =I88 -> 1.2587419 | M88: Schrauben
B89: d = | C89: 10 | D89: mm | E89: d = | F89: 10 | G89: mm | H89: d = | I89: 10 | J89: mm | K89: d = | L89: 10 | M89: mm
B90: L = | C90: =C86 -> 450 | D90: mm | E90: L = | F90: =F86 -> 450 | G90: mm | H90: L = | I90: =I86 -> 400 | J90: mm | K90: L = | L90: =L86 -> 400 | M90: mm
B91: lef = | C91: =C90-31 -> 419 | D91: mm | E91: lef = | F91: =F90-31 -> 419 | G91: mm | H91: lef = | I91: =I90-31 -> 369 | J91: mm | K91: lef = | L91: =L90-31 -> 369 | M91: mm | N91: Lef =L - 31
B92: a = | C92: 30 | D92: ° | E92: a = | F92: 30 | G92: ° | H92: a = | I92: 30 | J92: ° | K92: a = | L92: 30 | M92: °
B93: kax = | C93: 1 | E93: kax = | F93: 1 | H93: kax = | I93: 1 | K93: kax = | L93: 1
B94: Fax,Rk = | C94: =(C93*0.52*SQRT(C89)*C91^0.9*B29^0.8)/1000 -> 44.092482 | D94: kN | E94: Fax,Rk = | F94: =(F93*0.52*SQRT(F89)*F91^0.9*B29^0.8)/1000 -> 44.092482 | G94: kN | H94: Fax,Rk = | I94: =(I93*0.52*SQRT(I89)*I91^0.9*B30^0.8)/1000 -> 39.327438 | J94: kN | K94: Fax,Rk = | L94: =(L93*0.52*SQRT(L89)*L91^0.9*B30^0.8)/1000 -> 39.327438 | M94: kN | N94: Fax,Rk = 0,52 x (d)^0,5 x Lef^0,9 x rk^0,8
B95: Fv,Rk = | C95: =C94*COS(RADIANS(C92))*C87^0.9 -> 71.256121 | D95: kN | E95: Fv,Rk = | F95: =F94*COS(RADIANS(F92))*F87^0.9 -> 71.256121 | G95: kN | H95: Fv,Rk = | I95: =I94*COS(RADIANS(I92))*I87^0.9 -> 63.555521 | J95: kN | K95: Fv,Rk = | L95: =L94*COS(RADIANS(L92))*L87^0.9 -> 63.555521 | M95: kN | N95: Fv,RK = 2^0,9 x Fax,Rk x cos ( a )
B96: F2,IS,Rk = | C96: =C95*C88/C87 -> 40 | D96: kN | E96: F2,IS,Rk = | F96: =F95/C95*C96 -> 40 | G96: kN | H96: F2,IS,Rk = | I96: =I95*I88/I87 -> 40 | J96: kN | K96: F2,IS,Rk = | L96: =L95/I95*I96 -> 40 | M96: kN
A97: Centric and eccentric load F45 - perpendicular to the direction of insertion
A99: RICON S Connector
A101: characteristic density rk = | B101: =B21 -> 385 | C101: kg/m³ | D101: =Bemessung!B35 -> GL24h | E101: Joist
A102: characteristic density rk = | B102: =Bemessung!$B$38 -> 385 | C102: kg/m³ | D102: =Bemessung!$B$37 -> GL24h | E102: Header
A103: char. yield moment My,Rk = | B103: =B31 -> 35000 | C103: =C31 -> 20000 | D103: Nmm | E103: =Bemessung!B39 -> ETA-10/0189
A104: outer thread diameter d = | B104: 10 | C104: 8 | D104: mm
A105: Embedding strength fh,J,k = | B105: =B33 -> 6.3289924 | C105: =C33 -> 6.7671776 | D105: N/mm²
A106: Embedding strength fh,H,k = | B106: =B34 -> 15.822481 | C106: =C34 -> 16.917944 | D106: N/mm²
A109: Knapp Connector | B109: n | C109: d | D109: L(J) | E109: lef | F109: Fax,J,RK | G109: Fv,J,Rk | H109: Fv,mittel,J,Rk
...

Sheet Herleitung_Stützen-Anschlüsse
A1: Eingabe
A2: Verknüpfte Eingabe
A4: Load direction F1 perpendicular to the connector plate
A6: RICON S VS Connector
L7: =Bemessung!C39 -> 0
A8: Knapp Connector | B8: F1,KCC,RK | C8: ac | D8: e1 | E8: nef | F8: l (H) | G8: lef (H) | H8: lef (J) | I8: d | J8: Fax,Rk (H) | K8: Fax,Rk (J) | L8: ftens,k | M8: F1,Rk | N8: Knapp Connector | O8: Tensile Force F1,Rd [kN]
B9: [kN] | C9: [mm] | D9: [mm] | E9: [pcs] | F9: [mm] | G9: [mm] | H9: [mm] | I9: [mm] | J9: [kN] | K9: [kN] | L9: [kN] | M9: [kN] | O9: 0.6 | P9: 0.7 | Q9: 0.8 | R9: 0.9 | S9: 1
A10: RICON S 140/60 VS min | B10: 9 | C10: 60 | D10: =C10/2 -> 30 | E10: =Q26 -> 0 | F10: =Zwischenrechnung!J18 -> 80 | G10: =Zwischenrechnung!D18-10 -> 70 | H10: =IF(Zwischenrechnung!G18=80,Zwischenrechnung!G18-10,Zwischenrechnung!G18-15) -> 145 | I10: =Zwischenrechnung!F18 -> 8 | J10: =(0.52*SQRT(I10)*(G10)^0.9*$B$22^0.8)/1000 -> 7.8796179 | K10: =(IF(H10>=100,$K$21,$K$22)*0.52*SQRT(I10)*H10^0.9*$B$21^0.8)/1000 -> 9.1054072 | L10: 22 | M10: =E10*MIN(B10,J10,K10,L10) -> 0 | N10: RICON S 140/60 VS min | O10: =$E10*MIN($B10/1,$J10*O$9/$O$20,$K10*O$9/$O$20,$L10/1.25) -> 0 | P10: =$E10*MIN($B10/1,$J10*P$9/$O$20,$K10*P$9/$O$20,$L10/1.25) -> 0 | Q10: =$E10*MIN($B10/1,$J10*Q$9/$O$20,$K10*Q$9/$O$20,$L10/1.25) -> 0 | R10: =$E10*MIN($B10/1,$J10*R$9/$O$20,$K10*R$9/$O$20,$L10/1.25) -> 0 | S10: =$E10*MIN($B10/1,$J10*S$9/$O$20,$K10*S$9/$O$20,$L10/1.25) -> 0
A11: RICON S 140/60 VS st | B11: 9 | C11: 60 | D11: =C11/2 -> 30 | E11: =Q27 -> 0 | F11: =Zwischenrechnung!J19 -> 80 | G11: =Zwischenrechnung!D19-10 -> 70 | H11: =IF(Zwischenrechnung!G19=80,Zwischenrechnung!G19-10,Zwischenrechnung!G19-15) -> 145 | I11: =Zwischenrechnung!F19 -> 8 | J11: =(0.52*SQRT(I11)*(G11)^0.9*$B$22^0.8)/1000 -> 7.8796179 | K11: =(IF(H11>=100,$K$21,$K$22)*0.52*SQRT(I11)*H11^0.9*$B$21^0.8)/1000 -> 9.1054072 | L11: 23 | M11: =E11*MIN(B11,J11,K11,L11) -> 0 | N11: RICON S 140/60 VS st | O11: =$E11*MIN($B11/1,$J11*O$9/$O$20,$K11*O$9/$O$20,$L11/1.25) -> 0 | P11: =$E11*MIN($B11/1,$J11*P$9/$O$20,$K11*P$9/$O$20,$L11/1.25) -> 0 | Q11: =$E11*MIN($B11/1,$J11*Q$9/$O$20,$K11*Q$9/$O$20,$L11/1.25) -> 0 | R11: =$E11*MIN($B11/1,$J11*R$9/$O$20,$K11*R$9/$O$20,$L11/1.25) -> 0 | S11: =$E11*MIN($B11/1,$J11*S$9/$O$20,$K11*S$9/$O$20,$L11/1.25) -> 0
A12: RICON S 200/60 VS min | B12: 9 | C12: 120 | D12: =C12/2 -> 60 | E12: =Q28 -> 0 | F12: =Zwischenrechnung!J20 -> 80 | G12: =Zwischenrechnung!D20-10 -> 70 | H12: =IF(Zwischenrechnung!G20=80,Zwischenrechnung!G20-10,Zwischenrechnung!G20-15) -> 145 | I12: =Zwischenrechnung!F20 -> 8 | J12: =(0.52*SQRT(I12)*(G12)^0.9*$B$22^0.8)/1000 -> 7.8796179 | K12: =(IF(H12>=100,$K$21,$K$22)*0.52*SQRT(I12)*H12^0.9*$B$21^0.8)/1000 -> 9.1054072 | L12: 22 | M12: =E12*MIN(B12,J12,K12,L12) -> 0 | N12: RICON S 200/60 VS min | O12: =$E12*MIN($B12/1,$J12*O$9/$O$20,$K12*O$9/$O$20,$L12/1.25) -> 0 | P12: =$E12*MIN($B12/1,$J12*P$9/$O$20,$K12*P$9/$O$20,$L12/1.25) -> 0 | Q12: =$E12*MIN($B12/1,$J12*Q$9/$O$20,$K12*Q$9/$O$20,$L12/1.25) -> 0 | R12: =$E12*MIN($B12/1,$J12*R$9/$O$20,$K12*R$9/$O$20,$L12/1.25) -> 0 | S12: =$E12*MIN($B12/1,$J12*S$9/$O$20,$K12*S$9/$O$20,$L12/1.25) -> 0
A13: RICON S 200/60 VS st | B13: 9 | C13: 120 | D13: =C13/2 -> 60 | E13: =Q29 -> 0 | F13: =Zwischenrechnung!J21 -> 80 | G13: =Zwischenrechnung!D21-10 -> 70 | H13: =IF(Zwischenrechnung!G21=80,Zwischenrechnung!G21-10,Zwischenrechnung!G21-15) -> 145 | I13: =Zwischenrechnung!F21 -> 8 | J13: =(0.52*SQRT(I13)*(G13)^0.9*$B$22^0.8)/1000 -> 7.8796179 | K13: =(IF(H13>=100,$K$21,$K$22)*0.52*SQRT(I13)*H13^0.9*$B$21^0.8)/1000 -> 9.1054072 | L13: 23 | M13: =E13*MIN(B13,J13,K13,L13) -> 0 | N13: RICON S 200/60 VS st | O13: =$E13*MIN($B13/1,$J13*O$9/$O$20,$K13*O$9/$O$20,$L13/1.25) -> 0 | P13: =$E13*MIN($B13/1,$J13*P$9/$O$20,$K13*P$9/$O$20,$L13/1.25) -> 0 | Q13: =$E13*MIN($B13/1,$J13*Q$9/$O$20,$K13*Q$9/$O$20,$L13/1.25) -> 0 | R13: =$E13*MIN($B13/1,$J13*R$9/$O$20,$K13*R$9/$O$20,$L13/1.25) -> 0 | S13: =$E13*MIN($B13/1,$J13*S$9/$O$20,$K13*S$9/$O$20,$L13/1.25) -> 0
A14: RICON S 200/80 VS min | B14: 9 | C14: 120 | D14: =C14/2 -> 60 | E14: =Q30 -> 0 | F14: =Zwischenrechnung!J22 -> 100 | G14: =VLOOKUP(F14,$P$102:$Q$104,2,FALSE) -> 85 | H14: =IF(Zwischenrechnung!G22=100,Zwischenrechnung!G22-15,Zwischenrechnung!G22-20) -> 180 | I14: =Zwischenrechnung!F22 -> 10 | J14: =(0.52*SQRT(I14)*(G14)^0.9*$B$22^0.8)/1000 -> 10.491775 | K14: =(IF(H14>=100,$K$21,$K$22)*0.52*SQRT(I14)*H14^0.9*$B$21^0.8)/1000 -> 12.367116 | L14: 31 | M14: =E14*MIN(B14,J14,K14,L14) -> 0 | N14: RICON S 200/80 VS min | O14: =$E14*MIN($B14/1,$J14*O$9/$O$20,$K14*O$9/$O$20,$L14/1.25) -> 0 | P14: =$E14*MIN($B14/1,$J14*P$9/$O$20,$K14*P$9/$O$20,$L14/1.25) -> 0 | Q14: =$E14*MIN($B14/1,$J14*Q$9/$O$20,$K14*Q$9/$O$20,$L14/1.25) -> 0 | R14: =$E14*MIN($B14/1,$J14*R$9/$O$20,$K14*R$9/$O$20,$L14/1.25) -> 0 | S14: =$E14*MIN($B14/1,$J14*S$9/$O$20,$K14*S$9/$O$20,$L14/1.25) -> 0
A15: RICON S 200/80 VS st | B15: 9 | C15: 120 | D15: =C15/2 -> 60 | E15: =Q31 -> 1.5 | F15: =Zwischenrechnung!J23 -> 100 | G15: =VLOOKUP(F15,$P$102:$Q$104,2,FALSE) -> 85 | H15: =IF(Zwischenrechnung!G23=100,Zwischenrechnung!G23-15,Zwischenrechnung!G23-20) -> 280 | I15: =Zwischenrechnung!F23 -> 10 | J15: =(0.52*SQRT(I15)*(G15)^0.9*$B$22^0.8)/1000 -> 10.491775 | K15: =(IF(H15>=100,$K$21,$K$22)*0.52*SQRT(I15)*H15^0.9*$B$21^0.8)/1000 -> 18.406254 | L15: 32 | M15: =E15*MIN(B15,J15,K15,L15) -> 13.5 | N15: RICON S 200/80 VS st | O15: =$E15*MIN($B15/1,$J15*O$9/$O$20,$K15*O$9/$O$20,$L15/1.25) -> 7.2635364 | P15: =$E15*MIN($B15/1,$J15*P$9/$O$20,$K15*P$9/$O$20,$L15/1.25) -> 8.4741258 | Q15: =$E15*MIN($B15/1,$J15*Q$9/$O$20,$K15*Q$9/$O$20,$L15/1.25) -> 9.6847152 | R15: =$E15*MIN($B15/1,$J15*R$9/$O$20,$K15*R$9/$O$20,$L15/1.25) -> 10.895305 | S15: =$E15*MIN($B15/1,$J15*S$9/$O$20,$K15*S$9/$O$20,$L15/1.25) -> 12.105894
A16: RICON S 290/80 VS min | B16: 9 | C16: 210 | D16: =C16/2 -> 105 | E16: =Q32 -> 0 | F16: =Zwischenrechnung!J24 -> 100 | G16: =VLOOKUP(F16,$P$102:$Q$104,2,FALSE) -> 85 | H16: =IF(Zwischenrechnung!G24=100,Zwischenrechnung!G24-15,Zwischenrechnung!G24-20) -> 180 | I16: =Zwischenrechnung!F24 -> 10 | J16: =(0.52*SQRT(I16)*(G16)^0.9*$B$22^0.8)/1000 -> 10.491775 | K16: =(IF(H16>=100,$K$21,$K$22)*0.52*SQRT(I16)*H16^0.9*$B$21^0.8)/1000 -> 12.367116 | L16: 31 | M16: =E16*MIN(B16,J16,K16,L16) -> 0 | N16: RICON S 290/80 VS min | O16: =$E16*MIN($B16/1,$J16*O$9/$O$20,$K16*O$9/$O$20,$L16/1.25) -> 0 | P16: =$E16*MIN($B16/1,$J16*P$9/$O$20,$K16*P$9/$O$20,$L16/1.25) -> 0 | Q16: =$E16*MIN($B16/1,$J16*Q$9/$O$20,$K16*Q$9/$O$20,$L16/1.25) -> 0 | R16: =$E16*MIN($B16/1,$J16*R$9/$O$20,$K16*R$9/$O$20,$L16/1.25) -> 0 | S16: =$E16*MIN($B16/1,$J16*S$9/$O$20,$K16*S$9/$O$20,$L16/1.25) -> 0
A17: RICON S 290/80 VS st | B17: 9 | C17: 210 | D17: =C17/2 -> 105 | E17: =Q33 -> 0 | F17: =Zwischenrechnung!J25 -> 100 | G17: =VLOOKUP(F17,$P$102:$Q$104,2,FALSE) -> 85 | H17: =IF(Zwischenrechnung!G25=100,Zwischenrechnung!G25-15,Zwischenrechnung!G25-20) -> 85 | I17: =Zwischenrechnung!F25 -> 10 | J17: =(0.52*SQRT(I17)*(G17)^0.9*$B$22^0.8)/1000 -> 10.491775 | K17: =(IF(H17>=100,$K$21,$K$22)*0.52*SQRT(I17)*H17^0.9*$B$21^0.8)/1000 -> 3.1475324 | L17: 32 | M17: =E17*MIN(B17,J17,K17,L17) -> 0 | N17: RICON S 290/80 VS st | O17: =$E17*MIN($B17/1,$J17*O$9/$O$20,$K17*O$9/$O$20,$L17/1.25) -> 0 | P17: =$E17*MIN($B17/1,$J17*P$9/$O$20,$K17*P$9/$O$20,$L17/1.25) -> 0 | Q17: =$E17*MIN($B17/1,$J17*Q$9/$O$20,$K17*Q$9/$O$20,$L17/1.25) -> 0 | R17: =$E17*MIN($B17/1,$J17*R$9/$O$20,$K17*R$9/$O$20,$L17/1.25) -> 0 | S17: =$E17*MIN($B17/1,$J17*S$9/$O$20,$K17*S$9/$O$20,$L17/1.25) -> 0
A18: RICON S 390x80 VS+ZP | B18: 9 | C18: 210 | D18: =C18/2 -> 105 | E18: =Q34 -> 0 | F18: =Zwischenrechnung!J26 -> 100 | G18: =VLOOKUP(F18,$P$102:$Q$104,2,FALSE) -> 85 | H18: =IF(Zwischenrechnung!G26=100,Zwischenrechnung!G26-15,Zwischenrechnung!G26-20) -> 180 | I18: =Zwischenrechnung!F26 -> 10 | J18: =(0.52*SQRT(I18)*(G18)^0.9*$B$22^0.8)/1000 -> 10.491775 | K18: =(IF(H18>=100,$K$21,$K$22)*0.52*SQRT(I18)*H18^0.9*$B$21^0.8)/1000 -> 12.367116 | L18: 32 | M18: =E18*MIN(B18,J18,K18,L18) -> 0 | N18: RICON S 390x80 VS+ZP | O18: =$E18*MIN($B18/1,$J18*O$9/$O$20,$K18*O$9/$O$20,$L18/1.25) -> 0 | P18: =$E18*MIN($B18/1,$J18*P$9/$O$20,$K18*P$9/$O$20,$L18/1.25) -> 0 | Q18: =$E18*MIN($B18/1,$J18*Q$9/$O$20,$K18*Q$9/$O$20,$L18/1.25) -> 0 | R18: =$E18*MIN($B18/1,$J18*R$9/$O$20,$K18*R$9/$O$20,$L18/1.25) -> 0 | S18: =$E18*MIN($B18/1,$J18*S$9/$O$20,$K18*S$9/$O$20,$L18/1.25) -> 0
A19: RICON S 390x80 VS+ZP max | B19: 9 | C19: 210 | D19: =C19/2 -> 105 | E19: =Q35 -> 0 | F19: =Zwischenrechnung!J27 -> 100 | G19: =VLOOKUP(F19,$P$102:$Q$104,2,FALSE) -> 85 | H19: =IF(Zwischenrechnung!G27=100,Zwischenrechnung!G27-15,Zwischenrechnung!G27-20) -> 180 | I19: =Zwischenrechnung!F27 -> 10 | J19: =(0.52*SQRT(I19)*(G19)^0.9*$B$22^0.8)/1000 -> 10.491775 | K19: =(IF(H19>=100,$K$21,$K$22)*0.52*SQRT(I19)*H19^0.9*$B$21^0.8)/1000 -> 12.367116 | L19: 32 | M19: =E19*MIN(B19,J19,K19,L19) -> 0 | N19: RICON S 390x80 VS+ZP max | O19: =$E19*MIN($B19/1,$J19*O$9/$O$20,$K19*O$9/$O$20,$L19/1.25) -> 0 | P19: =$E19*MIN($B19/1,$J19*P$9/$O$20,$K19*P$9/$O$20,$L19/1.25) -> 0 | Q19: =$E19*MIN($B19/1,$J19*Q$9/$O$20,$K19*Q$9/$O$20,$L19/1.25) -> 0 | R19: =$E19*MIN($B19/1,$J19*R$9/$O$20,$K19*R$9/$O$20,$L19/1.25) -> 0 | S19: =$E19*MIN($B19/1,$J19*S$9/$O$20,$K19*S$9/$O$20,$L19/1.25) -> 0
I20: Winkel a = | J20: 90 | K20: =90-Bemessung!B34 -> 0 | N20: Partial factor for material properties gM = | O20: =Bemessung!G24 -> 1.3
A21: characteristic density rk = | B21: =MIN(Bemessung!B36,590) -> 385 | C21: kg/m³ | D21: =Bemessung!B35 -> GL24h | E21: Joist | I21: kax = | J21: 1 | K21: =IF(K20>45,1,0.6+0.4*K20/45) -> 0.6 | L21: screws length ≥ 100mm
A22: characteristic density rk = | B22: =Bemessung!B38 -> 385 | C22: kg/m³ | D22: =Bemessung!B37 -> GL24h | E22: Column | I22: kax = | J22: 1 | K22: =IF(K20>45,1,0.3+0.7*K20/45) -> 0.3 | L22: screws length < 100mm | N22: Height joist HN = | O22: =Bemessung!E83 -> 0
N23: Distance t1 = | O23: =Bemessung!B80 -> 40 | P23: Distance t2 = | Q23: =Bemessung!B80 -> 40
N25: Knapp Connector | O25: Abstand ac | P25: Abstand e1 | Q25: nef
N26: RICON S 140/60 VS min | O26: 59 | P26: =MIN($O$22/2-$Q$23,$O$22/2-$O$23,O26-$O$22/2+$Q$23,O26-$O$22/2+$O$23) -> -40 | Q26: =IF(Bemessung!$B$28="RICON S 140/60 VS min",O26/(O26-P26),0)*2 -> 0
N27: RICON S 140/60 VS st | O27: 60 | P27: =MIN($O$22/2-$Q$23,$O$22/2-$O$23,O27-$O$22/2+$Q$23,O27-$O$22/2+$O$23) -> -40 | Q27: =IF(Bemessung!$B$28="RICON S 140/60 VS st",O27/(O27-P27),0)*2 -> 0
N28: RICON S 200/60 VS min | O28: 119 | P28: =MIN($O$22/2-$Q$23,$O$22/2-$O$23,O28-$O$22/2+$Q$23,O28-$O$22/2+$O$23) -> -40 | Q28: =IF(Bemessung!$B$28="RICON S 200/60 VS min",O28/(O28-P28),0)*2 -> 0
N29: RICON S 200/60 VS st | O29: 120 | P29: =MIN($O$22/2-$Q$23,$O$22/2-$O$23,O29-$O$22/2+$Q$23,O29-$O$22/2+$O$23) -> -40 | Q29: =IF(Bemessung!$B$28="RICON S 200/60 VS st",O29/(O29-P29),0)*2 -> 0
N30: RICON S 200/80 VS min | O30: 119 | P30: =MIN($O$22/2-$Q$23,$O$22/2-$O$23,O30-$O$22/2+$Q$23,O30-$O$22/2+$O$23) -> -40 | Q30: =IF(Bemessung!$B$28="RICON S 200/80 VS min",O30/(O30-P30),0)*2 -> 0
N31: RICON S 200/80 VS st | O31: 120 | P31: =MIN($O$22/2-$Q$23,$O$22/2-$O$23,O31-$O$22/2+$Q$23,O31-$O$22/2+$O$23) -> -40 | Q31: =IF(Bemessung!$B$28="RICON S 200/80 VS st",O31/(O31-P31),0)*2 -> 1.5
N32: RICON S 290/80 VS min | O32: 209 | P32: =MIN($O$22/2-$Q$23,$O$22/2-$O$23,O32-$O$22/2+$Q$23,O32-$O$22/2+$O$23) -> -40 | Q32: =IF(Bemessung!$B$28="RICON S 290/80 VS min",O32/(O32-P32),0)*2 -> 0
N33: RICON S 290/80 VS st | O33: 210 | P33: =MIN($O$22/2-$Q$23,$O$22/2-$O$23,O33-$O$22/2+$Q$23,O33-$O$22/2+$O$23) -> -40 | Q33: =IF(Bemessung!$B$28="RICON S 290/80 VS st",O33/(O33-P33),0)*2 -> 0
N34: RICON S 390x80 VS+ZP | O34: 270 | P34: =MIN($O$22/2-$Q$23,$O$22/2-$O$23,O34-$O$22/2+$Q$23,O34-$O$22/2+$O$23) -> -40 | Q34: =IF(Bemessung!$B$28="RICON S 390x80 VS+ZP",O34/(O34-P34),0)*2 -> 0
N35: RICON S 390x80 VS+ZP max | O35: 270 | P35: =MIN($O$22/2-$Q$23,$O$22/2-$O$23,O35-$O$22/2+$Q$23,O35-$O$22/2+$O$23) -> -40 | Q35: =IF(Bemessung!$B$28="RICON S 390x80 VS+ZP max",O35/(O35-P35),0)*2 -> 0
A37: Load direction F2 in the direction of insertion for column connection
A39: RICON S VS Connector
A41: characteristic density rk = | B41: =Bemessung!B36 -> 385 | C41: kg/m³ | D41: =Bemessung!B35 -> GL24h | E41: Joist | H41: Winkel a = | I41: =Bemessung!B34 -> 90 | J41: =90-I41 -> 0
A42: characteristic density rk = | B42: =Bemessung!B38 -> 385 | C42: kg/m³ | D42: =Bemessung!B37 -> GL24h | E42: Column
A43: char. yield moment My,Rk = | B43: ='Herleitung_HT-NT-Anschlüsse'!B31 -> 35000 | C43: ='Herleitung_HT-NT-Anschlüsse'!C31 -> 20000 | D43: Nmm
A44: outer thread diameter d = | B44: 10 | C44: 8 | D44: mm
A45: Embedding strength fh,J,k = | B45: =0.082*B44^-0.3*B41/(2.5*COS(RADIANS($J$41))^2+SIN(RADIANS($J$41))^2) -> 6.3289924 | C45: =0.082*C44^-0.3*B41/(2.5*COS(RADIANS($J$41))^2+SIN(RADIANS($J$41))^2) -> 6.7671776 | D45: N/mm²
A46: Embedding strength fh,H,k = | B46: =0.082*B44^-0.3*B42 -> 15.822481 | C46: =0.082*C44^-0.3*B42 -> 16.917944 | D46: N/mm²
A50: Knapp Connector | B50: n | C50: d | D50: L(J) | E50: lef,J | F50: Fax,J,RK | G50: Fv,J,Rk | H50: S Fv,J,Rk | O50: RICON S60 Screws in joist
B51: [pcs] | C51: [mm] | D51: [mm] | E51: [mm] | F51: [kN] | G51: [kN] | H51: [kN] | O51: d [mm] | P51: L [mm] | Q51: lef [mm]
A52: RICON S 140/60 VS min | B52: =Zwischenrechnung!E18 -> 7 | C52: =Zwischenrechnung!F18 -> 8 | D52: =Zwischenrechnung!G18 -> 160 | E52: =VLOOKUP(D52,$P$52:$Q$54,2,FALSE) -> 145 | F52: =(IF(E52>100,$J$65,$J$66)*0.52*SQRT(C52)*E52^0.9*$B$41^0.8)/1000 -> 9.1054072 | G52: =MIN($C$45*$E$53*$C52/1000,$C$45*$E52*$C52/1000*(SQRT(2+4*$C$43/($C$45*$C52*$E52^2))-1)+$F52/4,(2.3*SQRT($C$43*$C$45*$C52))/1000+(F52/4)) -> 4.6696214 | H52: =B52^0.9*G52 -> 26.907286 | I52: = n0,9 x FV,J,RK | O52: 8 | P52: 80 | Q52: 70
A53: RICON S 140/60 VS st | B53: =Zwischenrechnung!E19 -> 10 | C53: =Zwischenrechnung!F19 -> 8 | D53: =Zwischenrechnung!G19 -> 160 | E53: =VLOOKUP(D53,$P$52:$Q$54,2,FALSE) -> 145 | F53: =(IF(E53>100,$J$65,$J$66)*0.52*SQRT(C53)*E53^0.9*$B$41^0.8)/1000 -> 9.1054072 | G53: =MIN($C$45*$E$53*$C53/1000,$C$45*$E53*$C53/1000*(SQRT(2+4*$C$43/($C$45*$C53*$E53^2))-1)+$F53/4,(2.3*SQRT($C$43*$C$45*$C53))/1000+(F53/4)) -> 4.6696214 | H53: =B53^0.9*G53 -> 37.092121 | I53: = n0,9 x FV,J,RK | O53: 8 | P53: 160 | Q53: 145
A54: RICON S 200/60 VS min | B54: =Zwischenrechnung!E20 -> 8 | C54: =Zwischenrechnung!F20 -> 8 | D54: =Zwischenrechnung!G20 -> 160 | E54: =VLOOKUP(D54,$P$52:$Q$54,2,FALSE) -> 145 | F54: =(IF(E54>100,$J$65,$J$66)*0.52*SQRT(C54)*E54^0.9*$B$41^0.8)/1000 -> 9.1054072 | G54: =MIN($C$45*$E$53*$C54/1000,$C$45*$E54*$C54/1000*(SQRT(2+4*$C$43/($C$45*$C54*$E54^2))-1)+$F54/4,(2.3*SQRT($C$43*$C$45*$C54))/1000+(F54/4)) -> 4.6696214 | H54: =B54^0.9*G54 -> 30.343289 | I54: = n0,9 x FV,J,RK | O54: 8 | P54: 240 | Q54: 225
A55: RICON S 200/60 VS st | B55: =Zwischenrechnung!E21 -> 16 | C55: =Zwischenrechnung!F21 -> 8 | D55: =Zwischenrechnung!G21 -> 160 | E55: =VLOOKUP(D55,$P$52:$Q$54,2,FALSE) -> 145 | F55: =(IF(E55>100,$J$65,$J$66)*0.52*SQRT(C55)*E55^0.9*$B$41^0.8)/1000 -> 9.1054072 | G55: =MIN($C$45*$E$53*$C55/1000,$C$45*$E55*$C55/1000*(SQRT(2+4*$C$43/($C$45*$C55*$E55^2))-1)+$F55/4,(2.3*SQRT($C$43*$C$45*$C55))/1000+(F55/4)) -> 4.6696214 | H55: =B55^0.9*G55 -> 56.62258 | I55: = n0,9 x FV,J,RK | O55: RICON S80 Screws in joist | R55: RI-S 390x80 ZP
A56: RICON S 200/80 VS min | B56: =Zwischenrechnung!E22 -> 8 | C56: =Zwischenrechnung!F22 -> 10 | D56: =Zwischenrechnung!G22 -> 200 | E56: =VLOOKUP(D56,$P$57:$Q$59,2,FALSE) -> 180 | F56: =(IF(E56>100,$J$65,$J$66)*0.52*SQRT(C56)*E56^0.9*$B$41^0.8)/1000 -> 12.367116 | G56: =MIN($B$45*$E$53*$C56/1000,$B$45*$E56*$C56/1000*(SQRT(2+4*$B$43/($B$45*$C56*$E56^2))-1)+$F56/4,(2.3*SQRT($B$43*$B$45*$C56))/1000+(F56/4)) -> 6.5149543 | H56: =B56^0.9*G56 -> 42.334298 | I56: = n0,9 x FV,J,RK | O56: d [mm] | P56: L [mm] | Q56: lef [mm] | R56: lef [mm]
A57: RICON S 200/80 VS st | B57: =Zwischenrechnung!E23 -> 16 | C57: =Zwischenrechnung!F23 -> 10 | D57: =Zwischenrechnung!G23 -> 300 | E57: =VLOOKUP(D57,$P$57:$Q$59,2,FALSE) -> 280 | F57: =(IF(E57>100,$J$65,$J$66)*0.52*SQRT(C57)*E57^0.9*$B$41^0.8)/1000 -> 18.406254 | G57: =MIN($B$45*$E$53*$C57/1000,$B$45*$E57*$C57/1000*(SQRT(2+4*$B$43/($B$45*$C57*$E57^2))-1)+$F57/4,(2.3*SQRT($B$43*$B$45*$C57))/1000+(F57/4)) -> 8.0247388 | H57: =B57^0.9*G57 -> 97.305836 | I57: = n0,9 x FV,J,RK | O57: 10 | P57: 100 | Q57: 85 | R57: =P57-25 -> 75
A58: RICON S 290/80 VS min | B58: =Zwischenrechnung!E24 -> 8 | C58: =Zwischenrechnung!F24 -> 10 | D58: =Zwischenrechnung!G24 -> 200 | E58: =VLOOKUP(D58,$P$57:$Q$59,2,FALSE) -> 180 | F58: =(IF(E58>100,$J$65,$J$66)*0.52*SQRT(C58)*E58^0.9*$B$41^0.8)/1000 -> 12.367116 | G58: =MIN($B$45*$E$53*$C58/1000,$B$45*$E58*$C58/1000*(SQRT(2+4*$B$43/($B$45*$C58*$E58^2))-1)+$F58/4,(2.3*SQRT($B$43*$B$45*$C58))/1000+(F58/4)) -> 6.5149543 | H58: =B58^0.9*G58 -> 42.334298 | I58: = n0,9 x FV,J,RK | O58: 10 | P58: 200 | Q58: 180 | R58: =P58-25 -> 175
A59: RICON S 290/80 VS st | B59: =Zwischenrechnung!E25 -> 25 | C59: =Zwischenrechnung!F25 -> 10 | D59: =Zwischenrechnung!G25 -> 100 | E59: =VLOOKUP(D59,$P$57:$Q$59,2,FALSE) -> 85 | F59: =(IF(E59>100,$J$65,$J$66)*0.52*SQRT(C59)*E59^0.9*$B$41^0.8)/1000 -> 3.1475324 | G59: =MIN($B$45*$E$53*$C59/1000,$B$45*$E59*$C59/1000*(SQRT(2+4*$B$43/($B$45*$C59*$E59^2))-1)+$F59/4,(2.3*SQRT($B$43*$B$45*$C59))/1000+(F59/4)) -> 3.5768001 | H59: =B59^0.9*G59 -> 64.809799 | I59: = n0,9 x FV,J,RK | O59: 10 | P59: 300 | Q59: 280 | R59: =P59-25 -> 275
B60: nges | C60: nef = nges0,9 | D60: n | E60: % Anteile | F60: nef aufgeteilt | G60: d | H60: L(J) | I60: lef,J | J60: Fax,J,RK | K60: Fv,J,Rk | L60: S Fv,J,Rk | M60: Fv,J,Rk,ges
A61: RICON S 390x80 VS+ZP | B61: =D61+D62 -> 28 | C61: =B61^0.9 -> 20.065142 | D61: =Zwischenrechnung!$E$26-3 -> 25 | E61: =D61/B61 -> 0.89285714 | F61: =C61*E61 -> 17.915305 | G61: =Zwischenrechnung!$F$26 -> 10 | H61: =Zwischenrechnung!$G$26 -> 200 | I61: =VLOOKUP(H61,$P$57:$Q$59,2,FALSE) -> 180 | J61: =(IF(I61>=100,$J$65,$J$66)*0.52*SQRT(G61)*I61^0.9*$B$41^0.8)/1000 -> 12.367116 | K61: =MIN($B$45*$E$53*$G61/1000,$B$45*$I61*$G61/1000*(SQRT(2+4*$B$43/($B$45*$G61*$I61^2))-1)+$J61/4,(2.3*SQRT($B$43*$B$45*$G61))/1000+(J61/4)) -> 6.5149543 | L61: =F61*K61 -> 116.71739 | M61: =L61+L62 -> 130.55708
D62: =Zwischenrechnung!$E$26-D61 -> 3 | E62: =D62/B61 -> 0.10714286 | F62: =C61*E62 -> 2.1498366 | G62: =Zwischenrechnung!$F$26 -> 10 | H62: =Zwischenrechnung!$G$26 -> 200 | I62: =VLOOKUP(H62,$P$57:$R$59,3,FALSE) -> 175 | J62: =(IF(I62>=100,$J$65,$J$66)*0.52*SQRT(G62)*I62^0.9*$B$41^0.8)/1000 -> 12.057504 | K62: =MIN($B$45*$E$53*$G62/1000,$B$45*$I62*$G62/1000*(SQRT(2+4*$B$43/($B$45*$G62*$I62^2))-1)+$J62/4,(2.3*SQRT($B$43*$B$45*$G62))/1000+(J62/4)) -> 6.4375514 | L62: =F62*K62 -> 13.839684
A63: RICON S 390x80 VS+ZP max | B63: =D63+D64 -> 28 | C63: =B63^0.9 -> 20.065142 | D63: =Zwischenrechnung!$E$27-3 -> 25 | E63: =D63/B63 -> 0.89285714 | F63: =C63*E63 -> 17.915305 | G63: =Zwischenrechnung!$F$27 -> 10 | H63: =Zwischenrechnung!$G$27 -> 200 | I63: =VLOOKUP(H63,$P$57:$Q$59,2,FALSE) -> 180 | J63: =(IF(I63>=100,$J$65,$J$66)*0.52*SQRT(G63)*I63^0.9*$B$41^0.8)/1000 -> 12.367116 | K63: =MIN($B$45*$E$53*$G63/1000,$B$45*$I63*$G63/1000*(SQRT(2+4*$B$43/($B$45*$G63*$I63^2))-1)+$J63/4,(2.3*SQRT($B$43*$B$45*$G63))/1000+(J63/4)) -> 6.5149543 | L63: =F63*K63 -> 116.71739 | M63: =L63+L64 -> 130.55708
D64: =Zwischenrechnung!$E$27-D63 -> 3 | E64: =D64/B63 -> 0.10714286 | F64: =C63*E64 -> 2.1498366 | G64: =Zwischenrechnung!$F$27 -> 10 | H64: =Zwischenrechnung!$G$27 -> 200 | I64: =VLOOKUP(H64,$P$57:$R$59,3,FALSE) -> 175 | J64: =(IF(I64>=100,$J$65,$J$66)*0.52*SQRT(G64)*I64^0.9*$B$41^0.8)/1000 -> 12.057504 | K64: =MIN($B$45*$E$53*$G64/1000,$B$45*$I64*$G64/1000*(SQRT(2+4*$B$43/($B$45*$G64*$I64^2))-1)+$J64/4,(2.3*SQRT($B$43*$B$45*$G64))/1000+(J64/4)) -> 6.4375514 | L64: =F64*K64 -> 13.839684
I65: kax= | J65: =K21 -> 0.6 | K65: screws length ≥ 100mm
I66: kax= | J66: =K22 -> 0.3 | K66: screws length < 100mm
A68: Knapp Connector | B68: S Fv,J,Rk | C68: F2,KCC,RK | N68: Knapp Connector | O68: F2,J,Rd [kN] Joist connection
B69: [kN] | C69: [kN] | O69: 0.6 | P69: 0.7 | Q69: 0.8 | R69: 0.9 | S69: 1
A70: RICON S 140/60 VS min | B70: =H52 -> 26.907286 | C70: 59 | N70: RICON S 140/60 VS min | O70: =MIN($C70/1,O$69*$B70/$O$80) -> 12.418748 | P70: =MIN($C70/1,P$69*$B70/$O$80) -> 14.488539 | Q70: =MIN($C70/1,Q$69*$B70/$O$80) -> 16.55833 | R70: =MIN($C70/1,R$69*$B70/$O$80) -> 18.628121 | S70: =MIN($C70/1,S$69*$B70/$O$80) -> 20.697913
A71: RICON S 140/60 VS st | B71: =H53 -> 37.092121 | C71: 60 | N71: RICON S 140/60 VS st | O71: =MIN($C71/1,O$69*$B71/$O$80) -> 17.11944 | P71: =MIN($C71/1,P$69*$B71/$O$80) -> 19.97268 | Q71: =MIN($C71/1,Q$69*$B71/$O$80) -> 22.825921 | R71: =MIN($C71/1,R$69*$B71/$O$80) -> 25.679161 | S71: =MIN($C71/1,S$69*$B71/$O$80) -> 28.532401
A72: RICON S 200/60 VS min | B72: =H54 -> 30.343289 | C72: 59 | N72: RICON S 200/60 VS min | O72: =MIN($C72/1,O$69*$B72/$O$80) -> 14.004595 | P72: =MIN($C72/1,P$69*$B72/$O$80) -> 16.338694 | Q72: =MIN($C72/1,Q$69*$B72/$O$80) -> 18.672793 | R72: =MIN($C72/1,R$69*$B72/$O$80) -> 21.006892 | S72: =MIN($C72/1,S$69*$B72/$O$80) -> 23.340992
A73: RICON S 200/60 VS st | B73: =H55 -> 56.62258 | C73: 60 | N73: RICON S 200/60 VS st | O73: =MIN($C73/1,O$69*$B73/$O$80) -> 26.133498 | P73: =MIN($C73/1,P$69*$B73/$O$80) -> 30.489081 | Q73: =MIN($C73/1,Q$69*$B73/$O$80) -> 34.844664 | R73: =MIN($C73/1,R$69*$B73/$O$80) -> 39.200247 | S73: =MIN($C73/1,S$69*$B73/$O$80) -> 43.55583
A74: RICON S 200/80 VS min | B74: =H56 -> 42.334298 | C74: 98 | N74: RICON S 200/80 VS min | O74: =MIN($C74/1,O$69*$B74/$O$80) -> 19.538907 | P74: =MIN($C74/1,P$69*$B74/$O$80) -> 22.795391 | Q74: =MIN($C74/1,Q$69*$B74/$O$80) -> 26.051876 | R74: =MIN($C74/1,R$69*$B74/$O$80) -> 29.30836 | S74: =MIN($C74/1,S$69*$B74/$O$80) -> 32.564845
A75: RICON S 200/80 VS st | B75: =H57 -> 97.305836 | C75: 99 | N75: RICON S 200/80 VS st | O75: =MIN($C75/1,O$69*$B75/$O$80) -> 44.910386 | P75: =MIN($C75/1,P$69*$B75/$O$80) -> 52.39545 | Q75: =MIN($C75/1,Q$69*$B75/$O$80) -> 59.880515 | R75: =MIN($C75/1,R$69*$B75/$O$80) -> 67.365579 | S75: =MIN($C75/1,S$69*$B75/$O$80) -> 74.850643
A76: RICON S 290/80 VS min | B76: =H58 -> 42.334298 | C76: 98 | N76: RICON S 290/80 VS min | O76: =MIN($C76/1,O$69*$B76/$O$80) -> 19.538907 | P76: =MIN($C76/1,P$69*$B76/$O$80) -> 22.795391 | Q76: =MIN($C76/1,Q$69*$B76/$O$80) -> 26.051876 | R76: =MIN($C76/1,R$69*$B76/$O$80) -> 29.30836 | S76: =MIN($C76/1,S$69*$B76/$O$80) -> 32.564845
A77: RICON S 290/80 VS st | B77: =H59 -> 64.809799 | C77: 99 | N77: RICON S 290/80 VS st | O77: =MIN($C77/1,O$69*$B77/$O$80) -> 29.912215 | P77: =MIN($C77/1,P$69*$B77/$O$80) -> 34.897584 | Q77: =MIN($C77/1,Q$69*$B77/$O$80) -> 39.882953 | R77: =MIN($C77/1,R$69*$B77/$O$80) -> 44.868322 | S77: =MIN($C77/1,S$69*$B77/$O$80) -> 49.853691
A78: RICON S 390x80 VS+ZP | B78: =M61 -> 130.55708 | C78: 180 | N78: RICON S 390x80 VS+ZP | O78: =MIN($C78/1,O$69*$B78/$O$80) -> 60.257113 | P78: =MIN($C78/1,P$69*$B78/$O$80) -> 70.299965 | Q78: =MIN($C78/1,Q$69*$B78/$O$80) -> 80.342817 | R78: =MIN($C78/1,R$69*$B78/$O$80) -> 90.385669 | S78: =MIN($C78/1,S$69*$B78/$O$80) -> 100.42852
A79: RICON S 390x80 VS+ZP max | B79: =M63+B80 -> 170.55708 | C79: 180 | N79: RICON S 390x80 VS+ZP max | O79: =MIN($C79/1,O$69*$B79/$O$80) -> 78.718651 | P79: =MIN($C79/1,P$69*$B79/$O$80) -> 91.838426 | Q79: =MIN($C79/1,Q$69*$B79/$O$80) -> 104.9582 | R79: =MIN($C79/1,R$69*$B79/$O$80) -> 118.07798 | S79: =MIN($C79/1,S$69*$B79/$O$80) -> 131.19775
A80: F2,IS,Rk = | B80: =F92 -> 40 | N80: Partial factor for material properties gM = | O80: =Bemessung!G24 -> 1.3
C81: Nebenträger Standardschraube | F81: Nebenträger vorh. Schrauben
A82: Zuglast der | B82: =Zwischenrechnung!E28 -> 2 | C82: 450 | D82: Scr. im NT | E82: =Zwischenrechnung!E28 -> 2 | F82: =Zwischenrechnung!G28 -> 450 | G82: Scr. im NT
B83: n= | C83: 2 | D83: Schrauben | E83: n= | F83: =E82 -> 2 | G83: Schrauben
B84: nef = | C84: =C83*40/C91 -> 1.1227106 | D84: Schrauben | E84: nef = | F84: =C84 -> 1.1227106 | G84: Schrauben
B85: d = | C85: 10 | D85: mm | E85: d = | F85: 10 | G85: mm
B86: L = | C86: =C82 -> 450 | D86: mm | E86: L = | F86: =F82 -> 450 | G86: mm
B87: lef = | C87: =C86-31 -> 419 | D87: mm | E87: lef = | F87: =F86-31 -> 419 | G87: mm | H87: Lef =L - 31
B88: a = | C88: 30 | D88: ° | E88: a = | F88: 30 | G88: °
B89: kax = | C89: 1 | E89: kax = | F89: 1
B90: Fax,Rk = | C90: =(C89*0.52*SQRT(C85)*C87^0.9*B41^0.8)/1000 -> 44.092482 | D90: kN | E90: Fax,Rk = | F90: =(F89*0.52*SQRT(F85)*F87^0.9*B41^0.8)/1000 -> 44.092482 | G90: kN | H90: Fax,Rk = 0,52 x (d)^0,5 x Lef^0,9 x rk^0,8
B91: Fv,Rk = | C91: =C90*COS(RADIANS(C88))*C83^0.9 -> 71.256121 | D91: kN | E91: Fv,Rk = | F91: =F90*COS(RADIANS(F88))*F83^0.9 -> 71.256121 | G91: kN | H91: Fv,RK = 2^0,9 x Fax,Rk x cos ( a )
B92: F2,IS,Rk = | C92: =C91*C84/C83 -> 40 | D92: kN | E92: F2,IS,Rk = | F92: =F91/C91*C92 -> 40 | G92: kN
A95: Knapp Connector | B95: n | C95: nef,H | D95: a1,screw | E95: d | F95: L | G95: lef | H95: Fax,H,RK | I95: Fv,H,Rk | J95: S Fv,H,Rk
B96: [pcs] | C96: [pcs] | D96: [mm] | E96: [mm] | F96: [mm] | G96: [mm] | H96: [kN] | I96: [kN] | J96: [kN]
A97: RICON S 140/60 VS min | B97: 6 | C97: =$B97*(D97/(13*$E97))^0.25 -> 5.2291455 | D97: 60 | E97: =Zwischenrechnung!I18 -> 8 | F97: =Zwischenrechnung!J18 -> 80 | G97: =VLOOKUP(F97,$P$99:$Q$100,2,FALSE) -> 70 | H97: =($K$110*0.52*SQRT(E97)*G97^0.9*$B$42^0.8)/1000 -> 7.8796179 | I97: =MIN(($C$46*G97*E97)/1000,($C$46*G97*E97)/1000*(SQRT(2+(4*$C$43)/($C$46*E97*G97^2))-1)+H97/4,(2.3*SQRT($C$43*$C$46*E97))/1000+H97/4) -> 5.7539959 | J97: =C97*I97 -> 30.088482 | O97: RICON S60 Screws in header
A98: RICON S 140/60 VS st | B98: =Zwischenrechnung!$H$19 -> 8 | C98: =$B98*(D98/(13*$E98))^0.25 -> 5.862893 | D98: 30 | E98: =Zwischenrechnung!I19 -> 8 | F98: =Zwischenrechnung!J19 -> 80 | G98: =VLOOKUP(F98,$P$99:$Q$100,2,FALSE) -> 70 | H98: =($K$110*0.52*SQRT(E98)*G98^0.9*$B$42^0.8)/1000 -> 7.8796179 | I98: =MIN(($C$46*G98*E98)/1000,($C$46*G98*E98)/1000*(SQRT(2+(4*$C$43)/($C$46*E98*G98^2))-1)+H98/4,(2.3*SQRT($C$43*$C$46*E98))/1000+H98/4) -> 5.7539959 | J98: =C98*I98 -> 33.735062 | O98: d [mm] | P98: L [mm] | Q98: lef [mm]
A99: RICON S 200/60 VS min | B99: 9 | C99: =$B99*(D99/(13*$E99))^0.25 -> 7.8437183 | D99: 60 | E99: =Zwischenrechnung!I20 -> 8 | F99: =Zwischenrechnung!J20 -> 80 | G99: =VLOOKUP(F99,$P$99:$Q$100,2,FALSE) -> 70 | H99: =($K$110*0.52*SQRT(E99)*G99^0.9*$B$42^0.8)/1000 -> 7.8796179 | I99: =MIN(($C$46*G99*E99)/1000,($C$46*G99*E99)/1000*(SQRT(2+(4*$C$43)/($C$46*E99*G99^2))-1)+H99/4,(2.3*SQRT($C$43*$C$46*E99))/1000+H99/4) -> 5.7539959 | J99: =C99*I99 -> 45.132723 | O99: 8 | P99: 80 | Q99: 70
A100: RICON S 200/60 VS st | B100: =Zwischenrechnung!H21 -> 13 | C100: =$B100*(D100/(13*$E100))^0.25 -> 9.5272011 | D100: 30 | E100: =Zwischenrechnung!I21 -> 8 | F100: =Zwischenrechnung!J21 -> 80 | G100: =VLOOKUP(F100,$P$99:$Q$100,2,FALSE) -> 70 | H100: =($K$110*0.52*SQRT(E100)*G100^0.9*$B$42^0.8)/1000 -> 7.8796179 | I100: =MIN(($C$46*G100*E100)/1000,($C$46*G100*E100)/1000*(SQRT(2+(4*$C$43)/($C$46*E100*G100^2))-1)+H100/4,(2.3*SQRT($C$43*$C$46*E100))/1000+H100/4) -> 5.7539959 | J100: =C100*I100 -> 54.819476 | O100: 8 | P100: 120 | Q100: 100 | R100: RI-S 390x80 ZP
A101: RICON S 200/80 VS min | B101: 9 | C101: =$B101*(D101/(13*$E101))^0.25 -> 7.4181308 | D101: 60 | E101: =Zwischenrechnung!I22 -> 10 | F101: =Zwischenrechnung!J22 -> 100 | G101: =VLOOKUP(F101,$P$102:$Q$104,2,FALSE) -> 85 | H101: =($K$110*0.52*SQRT(E101)*G101^0.9*$B$42^0.8)/1000 -> 10.491775 | I101: =MIN($B$46*$G101*$E101/1000,(2.3*SQRT($B$43*$B$46*$E101))/1000+($H101/4),$B$46*$G101*$E101/1000*(SQRT(2+4*$B$43/($B$46*$E101*$G101^2))-1)+$H101/4) -> 8.0354592 | J101: =C101*I101 -> 59.608087 | O101: d [mm] | P101: L [mm] | Q101: lef [mm] | R101: lef [mm]
A102: RICON S 200/80 VS st | B102: =Zwischenrechnung!H23 -> 13 | C102: =$B102*(D102/(13*$E102))^0.25 -> 9.0102705 | D102: 30 | E102: =Zwischenrechnung!I23 -> 10 | F102: =Zwischenrechnung!J23 -> 100 | G102: =VLOOKUP(F102,$P$102:$Q$104,2,FALSE) -> 85 | H102: =($K$110*0.52*SQRT(E102)*G102^0.9*$B$42^0.8)/1000 -> 10.491775 | I102: =MIN($B$46*$G102*$E102/1000,(2.3*SQRT($B$43*$B$46*$E102))/1000+($H102/4),$B$46*$G102*$E102/1000*(SQRT(2+4*$B$43/($B$46*$E102*$G102^2))-1)+$H102/4) -> 8.0354592 | J102: =C102*I102 -> 72.40166 | O102: 10 | P102: 80 | Q102: 54 | R102: =Q102 -> 54
A103: RICON S 290/80 VS min | B103: =Zwischenrechnung!H23 -> 13 | C103: =$B103*(D103/(13*$E103))^0.25 -> 10.715078 | D103: 60 | E103: =Zwischenrechnung!I24 -> 10 | F103: =Zwischenrechnung!J24 -> 100 | G103: =VLOOKUP(F103,$P$102:$Q$104,2,FALSE) -> 85 | H103: =($K$110*0.52*SQRT(E103)*G103^0.9*$B$42^0.8)/1000 -> 10.491775 | I103: =MIN($B$46*$G103*$E103/1000,(2.3*SQRT($B$43*$B$46*$E103))/1000+($H103/4),$B$46*$G103*$E103/1000*(SQRT(2+4*$B$43/($B$46*$E103*$G103^2))-1)+$H103/4) -> 8.0354592 | J103: =C103*I103 -> 86.10057 | O103: 10 | P103: 100 | Q103: 85 | R103: =P103-25 -> 75
A104: RICON S 290/80 VS st | B104: =Zwischenrechnung!H25 -> 20 | C104: =$B104*(D104/(13*$E104))^0.25 -> 13.861955 | D104: 30 | E104: =Zwischenrechnung!I25 -> 10 | F104: =Zwischenrechnung!J25 -> 100 | G104: =VLOOKUP(F104,$P$102:$Q$104,2,FALSE) -> 85 | H104: =($K$110*0.52*SQRT(E104)*G104^0.9*$B$42^0.8)/1000 -> 10.491775 | I104: =MIN($B$46*$G104*$E104/1000,(2.3*SQRT($B$43*$B$46*$E104))/1000+($H104/4),$B$46*$G104*$E104/1000*(SQRT(2+4*$B$43/($B$46*$E104*$G104^2))-1)+$H104/4) -> 8.0354592 | J104: =C104*I104 -> 111.38717 | O104: 10 | P104: 120 | Q104: 84 | R104: =Q104 -> 84
B105: nges | C105: nef,H | D105: n | E105: % Anteile | F105: nef aufgeteilt | G105: a1,screw | H105: d | I105: L | J105: lef | K105: Fax,H,RK | L105: Fv,H,Rk | M105: S Fv,H,Rk | N105: Fv,H,Rk,ges
A106: RICON S 390x80 VS+ZP | B106: =Zwischenrechnung!H26 -> 23 | C106: =$B106*(G106/(13*$H106))^0.25 -> 15.941248 | D106: =Zwischenrechnung!$H$26-3 -> 20 | E106: =D106/B106 -> 0.86956522 | F106: =$C$106*E106 -> 13.861955 | G106: 30 | H106: =Zwischenrechnung!I26 -> 10 | I106: =Zwischenrechnung!$J$26 -> 100 | J106: =VLOOKUP(I106,$P$102:$Q$104,2,FALSE) -> 85 | K106: =($K$110*0.52*SQRT(H106)*J106^0.9*$B$42^0.8)/1000 -> 10.491775 | L106: =MIN($B$46*$J106*$H106/1000,(2.3*SQRT($B$43*$B$46*$H106))/1000+($K106/4),$B$46*$J106*$H106/1000*(SQRT(2+4*$B$43/($B$46*$H106*$J106^2))-1)+$K106/4) -> 8.0354592 | M106: =F106*L106 -> 111.38717 | N106: =M106+M107 -> 127.51422
D107: =B106-D106 -> 3 | E107: =D107/B106 -> 0.13043478 | F107: =$C$106*E107 -> 2.0792932 | G107: 30 | H107: =H106 -> 10 | I107: =Zwischenrechnung!$J$26 -> 100 | J107: =VLOOKUP(I107,$P$102:$R$104,3,FALSE) -> 75 | K107: =($K$110*0.52*SQRT(H107)*J107^0.9*$B$42^0.8)/1000 -> 9.3740457 | L107: =MIN($B$46*$J107*$H107/1000,(2.3*SQRT($B$43*$B$46*$H107))/1000+($K107/4),$B$46*$J107*$H107/1000*(SQRT(2+4*$B$43/($B$46*$H107*$J107^2))-1)+$K107/4) -> 7.7560269 | M107: =F107*L107 -> 16.127054
A108: RICON S 390x80 VS+ZP max | B108: =Zwischenrechnung!H27 -> 23 | C108: =$B108*(G108/(13*$H108))^0.25 -> 15.941248 | D108: =B108-3 -> 20 | E108: =D108/B108 -> 0.86956522 | F108: =$C$108*E108 -> 13.861955 | G108: 30 | H108: =Zwischenrechnung!F27 -> 10 | I108: =Zwischenrechnung!$J$27 -> 100 | J108: =VLOOKUP(I108,$P$102:$Q$104,2,FALSE) -> 85 | K108: =($K$110*0.52*SQRT(H108)*J108^0.9*$B$42^0.8)/1000 -> 10.491775 | L108: =MIN($B$46*$J108*$H108/1000,(2.3*SQRT($B$43*$B$46*$H108))/1000+($K108/4),$B$46*$J108*$H108/1000*(SQRT(2+4*$B$43/($B$46*$H108*$J108^2))-1)+$K108/4) -> 8.0354592 | M108: =F108*L108 -> 111.38717 | N108: =M108+M109 -> 127.51422
D109: =B108-D108 -> 3 | E109: =D109/B108 -> 0.13043478 | F109: =$C$108*E109 -> 2.0792932 | G109: 30 | H109: =H108 -> 10 | I109: =Zwischenrechnung!$J$27 -> 100 | J109: =VLOOKUP(I109,$P$102:$R$104,3,FALSE) -> 75 | K109: =($K$110*0.52*SQRT(H109)*J109^0.9*$B$42^0.8)/1000 -> 9.3740457 | L109: =MIN($B$46*$J109*$H109/1000,(2.3*SQRT($B$43*$B$46*$H109))/1000+($K109/4),$B$46*$J109*$H109/1000*(SQRT(2+4*$B$43/($B$46*$H109*$J109^2))-1)+$K109/4) -> 7.7560269 | M109: =F109*L109 -> 16.127054
J110: kax = | K110: 1 | L110: 90 | M110: °
J111: kax = | K111: =0.3+(0.7*L111)/45 -> 0.76666667 | L111: 30 | M111: °
A113: Knapp Connector | B113: F2,KCC,RK | C113: kH,2 | D113: F2,H,Rk | N113: Knapp Connector | O113: F2,H,Rd [kN] Column connection
...

Sheet Ausklinkungsbemessung
A1: Ausklinkungsberechnung nach EN 1995-1-1 Kap. 6.5.2:
A3: Holzart | B3: Schub fv,k | C3: Faktor kcr | D3: Faktor kn
B4: [N/mm²] | C4: [ - ] | D4: [ - ]
A5: C24 | B5: 2.3 | C5: 1 | D5: 5
A6: C30 | B6: 2.3 | C6: 1 | D6: 5
A7: GL24c | B7: 3.5 | C7: 0.714 | D7: 6.5
A8: GL24h | B8: 3.5 | C8: 0.714 | D8: 6.5
A9: GL28c | B9: 3.5 | C9: 0.714 | D9: 6.5
A10: GL28h | B10: 3.5 | C10: 0.714 | D10: 6.5
A11: GL30c | B11: 3.5 | C11: 0.714 | D11: 6.5
A12: GL30h | B12: 3.5 | C12: 0.714 | D12: 6.5
A13: GL32c | B13: 3.5 | C13: 0.714 | D13: 6.5
A14: GL32h | B14: 3.5 | C14: 0.714 | D14: 6.5
A15: CLT | B15: 3.5 | C15: 0.714 | D15: 6.5
A17: Höhe hef ermitteln:
D18: Schraubenlänge + Vertiefung L + t = | E18: =Bemessung!G126+Bemessung!C129 -> 0
A19: Verbinder | B19: RICON S Länge | C19: Abzug | D19: red. Länge | E19: hef
A20: RICON S 140/60 VS min | B20: 140 | C20: 40 | D20: =B20-C20 -> 100 | E20: =Bemessung!$D$79+Ausklinkungsbemessung!D20 -> 100
A21: RICON S 140/60 VS st | B21: 140 | C21: 40 | D21: =B21-C21 -> 100 | E21: =Bemessung!$D$79+Ausklinkungsbemessung!D21 -> 100
A22: RICON S 200/60 VS min | B22: 200 | C22: 40 | D22: =B22-C22 -> 160 | E22: =Bemessung!$D$79+Ausklinkungsbemessung!D22 -> 160
A23: RICON S 200/60 VS st | B23: 200 | C23: 40 | D23: =B23-C23 -> 160 | E23: =Bemessung!$D$79+Ausklinkungsbemessung!D23 -> 160
A24: RICON S 200/80 VS min | B24: 200 | C24: 40 | D24: =B24-C24 -> 160 | E24: =Bemessung!$D$79+Ausklinkungsbemessung!D24 -> 160
A25: RICON S 200/80 VS st | B25: 200 | C25: 40 | D25: =B25-C25 -> 160 | E25: =Bemessung!$D$79+Ausklinkungsbemessung!D25 -> 160
A26: RICON S 290/80 VS min | B26: 290 | C26: 40 | D26: =B26-C26 -> 250 | E26: =Bemessung!$D$79+Ausklinkungsbemessung!D26 -> 250
A27: RICON S 290/80 VS st | B27: 290 | C27: 40 | D27: =B27-C27 -> 250 | E27: =Bemessung!$D$79+Ausklinkungsbemessung!D27 -> 250
A28: RICON S 390x80 VS+ZP | B28: 390 | C28: 90 | D28: =B28-C28 -> 300 | E28: =Bemessung!$D$79+Ausklinkungsbemessung!D28 -> 300
A29: RICON S 390x80 VS+ZP max | B29: 390 | C29: -14 | D29: =B29-C29 -> 404 | E29: =Bemessung!$D$79+Ausklinkungsbemessung!D29 -> 404
A31: a = hef/HN = | B31: =B38/B37 -> #DIV/0! | C31: =IF(B31<0.6,"<0,6",IF(B31=0.6,"=0,6",">0,6")) -> #DIV/0! | D31: =IF(B31>0.6,"Das Ausklinkungsverhältnis ist eingehalten!","Das Ausklinkungsverhältnis ist nicht eingehalten. Bitte Verbinder weiter nach unten versetzen!") -> #DIV/0!
A32: Holzart: | B32: =VLOOKUP(Bemessung!$B$35,Ausklinkungsbemessung!$A$5:$D$15,1,FALSE) -> GL24h
A33: fv,k = | B33: =VLOOKUP(Bemessung!$B$35,Ausklinkungsbemessung!$A$5:$D$15,2,FALSE) -> 3.5 | C33: N/mm²
A34: kcr = | B34: =VLOOKUP(Bemessung!$B$35,Ausklinkungsbemessung!$A$5:$D$15,3,FALSE) -> 0.714
A35: kn = | B35: =VLOOKUP(Bemessung!$B$35,Ausklinkungsbemessung!$A$5:$D$15,4,FALSE) -> 6.5
A36: b = | B36: =Bemessung!C91 -> 0 | C36: mm
A37: HN = | B37: =Bemessung!E83 -> 0 | C37: mm
A38: hef = | B38: =IF(E18>Bemessung!B82,E18,Bemessung!B82) -> 160 | C38: mm | E38: hef | F38: hef,Scr | G38: hblfl
A39: hbefl = | B39: =IF(B38=E39,E39,IF(B38<=G39,F39,G39)) -> 160 | C39: mm | D39: hbefl | E39: =Bemessung!B82 -> 160 | F39: =E18 -> 0 | G39: =Bemessung!E83-Bemessung!C166 -> 0
A40: Faktor kv = | B40: =MIN(1,B35/(SQRT(B37)*(SQRT(B31*(1-B31))+0.8*(B41/B37)*SQRT((1/B31)-B31^2)))) -> #DIV/0!
A41: Abstand x = | B41: 50 | C41: mm
A43: Charakteristische Tragfähigkeit der Ausklinkung:
A44: FRk = | B44: =B36*B34*B38*B40*B33/(1.5*1000) -> #DIV/0! | C44: kN
A46: Lastfall kombination | B46: F2,d [kN] | C46: kmod | D46: FRd [kN] | E46: Nachweise
A47: LFK1: g | B47: =Bemessung!C19 -> 0 | C47: =Bemessung!G19 -> 0.6 | D47: =C47*$B$44/$C$52 -> #DIV/0! | E47: =B47/D47 -> #DIV/0!
A48: LFK2: g+s | B48: =Bemessung!C20 -> 0 | C48: =Bemessung!G20 -> 0.9 | D48: =C48*$B$44/$C$52 -> #DIV/0! | E48: =B48/D48 -> #DIV/0!
A49: LFK3: g+n | B49: =Bemessung!C21 -> 0 | C49: =Bemessung!G21 -> 0.8 | D49: =C49*$B$44/$C$52 -> #DIV/0! | E49: =B49/D49 -> #DIV/0!
A50: LFK4: g+s+wd | B50: =Bemessung!C22 -> 0 | C50: =Bemessung!G22 -> 0.9 | D50: =C50*$B$44/$C$52 -> #DIV/0! | E50: =B50/D50 -> #DIV/0!
A51: LFK5: g+ws | B51: =Bemessung!C23 -> 0 | C51: =Bemessung!G23 -> 0.9 | D51: =C51*$B$44/$C$52 -> #DIV/0! | E51: =B51/D51 -> #DIV/0!
B52: Sicherheitsbeiwert gM = | C52: =VLOOKUP(Bemessung!B35,Zwischenrechnung!J2:M12,4,FALSE) -> 1.25
A56: Das Ausklinkungsverhältnis a = hef / HN > 0,60 sein.
B57: =IF(Bemessung!G126>Bemessung!B82,"hef,Scr =","hef =") -> hef = | C57: =Bemessung!B113 -> 160
A58: a = hef/HN = | B58: =Ausklinkungsbemessung!B31 -> #DIV/0! | C58: =IF(B58<0.6,"<0,6",IF(B58=0.6,"=0,6",">0,6")) -> #DIV/0! | D58: =IF(B58>0.6,"Das Ausklinkungsverhältnis ist eingehalten!","Das Ausklinkungsverhältnis ist nicht eingehalten. Bitte Verbinder weiter nach unten versetzen!") -> #DIV/0!
A60: Nach EN 1995-1-2 Abschnitt 4.3.1 (2): Eine Schubbeanspruchung darf in rechteckigen und runden Querschnitten vernachlässigt werden. Für ausgeklinkte Träger sollte nachgewiesen werden, dass als Restquerschnitt im Bereich der Ausklinkung mindestens 60% des bei Bemessung unter Normaltemperatur erforderlichen Querschnitt verbleiben.
B63: Breite BN = | C63: =Bemessung!C91 -> 0 | D63: mm
B64: ef. Höhe hef = | C64: =Bemessung!B113 -> 160 | D64: mm
A65: Resthöhe nach Beflammung: hbefl = | C65: =Ausklinkungsbemessung!B39 -> 160 | D65: mm
B66: Ausklinkungsfläche Aef = | C66: =C63*C64/100 -> 0 | D66: cm² | E66: Aef = BN x hef
B67: max. Schub Auslastung h = | C67: =MAX(Bemessung!E117:E120) -> #DIV/0! | E67: (siehe Tabelle: Ausklinkungs-Tragfähigkeit)
B68: Fläche Astat = | C68: =C67*C66 -> #DIV/0! | D68: cm² | E68: Astat = Aef x h
B69: Fläche Astat,erf,60% = | C69: =0.6*C68 -> #DIV/0! | D69: cm² | E69: Astat,erf,60% = Astat x 0,60
A70: Restbreite nach Beflammung: Bbefl = | C70: =Bemessung!C91-2*Bemessung!C166 -> 0 | D70: mm | E70: Bbefl = BN - 2 x def
B71: Restfläche nach Beflammung: Fläche Abefl = | C71: =C70*C65/100 -> 0 | D71: cm² | E71: Aef = Bbefl x hbefl
A73: Verhältnis: | B73: Astat,erf,60% / Abefl ≤ 1,0 | C73: =ROUND(C69/C71,2) -> #DIV/0! | D73: =IF(C73<1,"<1,0",IF(C73=1,"=1,0",">1,0")) -> #DIV/0! | E73: =IF(C73<=1,"Der beflammte Restquerschnitt A_befl ist eingehalten!","Der beflammte Restquerschnitt A_befl ist nicht eingehalten und muss vergrößert werden!") -> #DIV/0!
A75: Nach EN 1995-1-2 Abschnitt 4.3.1 (2) verbleiben vom ausgeklinkten statischen Restquerschnitt noch | F75: =C71/C68*100 -> #DIV/0!

Sheet Schraubenlängen
A1: Schraubenlängen für Querzugverstärkung der Nebenträger mit
A2: 8 | B2: Schrauben | F2: =Bemessung!F126 -> 0
A3: Typ1 | B3: Typ 2 | C3: Typ 3 | D3: Auswahl | F3: Endauswahl: | G3: =Bemessung!C127 -> Typ 1 | H3: =Bemessung!D127 -> ASSY [ ETA-11/0190]
A4: Längen L [mm] | B4: Längen L [mm] | C4: Längen L [mm] | D4: Längen L [mm] | F4: Längen L [mm]
A5: 160 | B5: 120 | C5: 120 | D5: =IF(AND(Bemessung!$C$127="Typ 1",Bemessung!$F$126=8),Schraubenlängen!A5,IF(AND(Bemessung!$C$127="Typ 2",Bemessung!$F$126=8),Schraubenlängen!B5,IF(AND(Bemessung!$C$127="Typ 3",Bemessung!$F$126=8),Schraubenlängen!C5,""))) | F5: =IF($F$2=8,D5,D32)
A6: 180 | B6: 140 | C6: 140 | D6: =IF(AND(Bemessung!$C$127="Typ 1",Bemessung!$F$126=8),Schraubenlängen!A6,IF(AND(Bemessung!$C$127="Typ 2",Bemessung!$F$126=8),Schraubenlängen!B6,IF(AND(Bemessung!$C$127="Typ 3",Bemessung!$F$126=8),Schraubenlängen!C6,""))) | F6: =IF($F$2=8,D6,D33)
A7: 200 | B7: 160 | C7: 160 | D7: =IF(AND(Bemessung!$C$127="Typ 1",Bemessung!$F$126=8),Schraubenlängen!A7,IF(AND(Bemessung!$C$127="Typ 2",Bemessung!$F$126=8),Schraubenlängen!B7,IF(AND(Bemessung!$C$127="Typ 3",Bemessung!$F$126=8),Schraubenlängen!C7,""))) | F7: =IF($F$2=8,D7,D34)
A8: 220 | B8: 180 | C8: 180 | D8: =IF(AND(Bemessung!$C$127="Typ 1",Bemessung!$F$126=8),Schraubenlängen!A8,IF(AND(Bemessung!$C$127="Typ 2",Bemessung!$F$126=8),Schraubenlängen!B8,IF(AND(Bemessung!$C$127="Typ 3",Bemessung!$F$126=8),Schraubenlängen!C8,""))) | F8: =IF($F$2=8,D8,D35)
A9: 240 | B9: 200 | C9: 200 | D9: =IF(AND(Bemessung!$C$127="Typ 1",Bemessung!$F$126=8),Schraubenlängen!A9,IF(AND(Bemessung!$C$127="Typ 2",Bemessung!$F$126=8),Schraubenlängen!B9,IF(AND(Bemessung!$C$127="Typ 3",Bemessung!$F$126=8),Schraubenlängen!C9,""))) | F9: =IF($F$2=8,D9,D36)
A10: 260 | B10: 220 | C10: 220 | D10: =IF(AND(Bemessung!$C$127="Typ 1",Bemessung!$F$126=8),Schraubenlängen!A10,IF(AND(Bemessung!$C$127="Typ 2",Bemessung!$F$126=8),Schraubenlängen!B10,IF(AND(Bemessung!$C$127="Typ 3",Bemessung!$F$126=8),Schraubenlängen!C10,""))) | F10: =IF($F$2=8,D10,D37)
A11: 280 | B11: 240 | C11: 240 | D11: =IF(AND(Bemessung!$C$127="Typ 1",Bemessung!$F$126=8),Schraubenlängen!A11,IF(AND(Bemessung!$C$127="Typ 2",Bemessung!$F$126=8),Schraubenlängen!B11,IF(AND(Bemessung!$C$127="Typ 3",Bemessung!$F$126=8),Schraubenlängen!C11,""))) | F11: =IF($F$2=8,D11,D38)
A12: 300 | B12: 260 | C12: 260 | D12: =IF(AND(Bemessung!$C$127="Typ 1",Bemessung!$F$126=8),Schraubenlängen!A12,IF(AND(Bemessung!$C$127="Typ 2",Bemessung!$F$126=8),Schraubenlängen!B12,IF(AND(Bemessung!$C$127="Typ 3",Bemessung!$F$126=8),Schraubenlängen!C12,""))) | F12: =IF($F$2=8,D12,D39)
A13: 330 | B13: 280 | C13: 280 | D13: =IF(AND(Bemessung!$C$127="Typ 1",Bemessung!$F$126=8),Schraubenlängen!A13,IF(AND(Bemessung!$C$127="Typ 2",Bemessung!$F$126=8),Schraubenlängen!B13,IF(AND(Bemessung!$C$127="Typ 3",Bemessung!$F$126=8),Schraubenlängen!C13,""))) | F13: =IF($F$2=8,D13,D40)
A14: 360 | B14: 300 | C14: 300 | D14: =IF(AND(Bemessung!$C$127="Typ 1",Bemessung!$F$126=8),Schraubenlängen!A14,IF(AND(Bemessung!$C$127="Typ 2",Bemessung!$F$126=8),Schraubenlängen!B14,IF(AND(Bemessung!$C$127="Typ 3",Bemessung!$F$126=8),Schraubenlängen!C14,""))) | F14: =IF($F$2=8,D14,D41)
A15: 380 | B15: 325 | C15: 350 | D15: =IF(AND(Bemessung!$C$127="Typ 1",Bemessung!$F$126=8),Schraubenlängen!A15,IF(AND(Bemessung!$C$127="Typ 2",Bemessung!$F$126=8),Schraubenlängen!B15,IF(AND(Bemessung!$C$127="Typ 3",Bemessung!$F$126=8),Schraubenlängen!C15,""))) | F15: =IF($F$2=8,D15,D42)
A16: 430 | B16: 350 | C16: 400 | D16: =IF(AND(Bemessung!$C$127="Typ 1",Bemessung!$F$126=8),Schraubenlängen!A16,IF(AND(Bemessung!$C$127="Typ 2",Bemessung!$F$126=8),Schraubenlängen!B16,IF(AND(Bemessung!$C$127="Typ 3",Bemessung!$F$126=8),Schraubenlängen!C16,""))) | F16: =IF($F$2=8,D16,D43)
... A20: 530 | B20: 500 | C20: 600 | D20: =IF(AND(Bemessung!$C$127="Typ 1",Bemessung!$F$126=8),Schraubenlängen!A20,IF(AND(Bemessung!$C$127="Typ 2",Bemessung!$F$126=8),Schraubenlängen!B20,IF(AND(Bemessung!$C$127="Typ 3",Bemessung!$F$126=8),Schraubenlängen!C20,""))) | F20: =IF($F$2=8,D20,D47)
A21: 580 | B21: 600 | D21: =IF(AND(Bemessung!$C$127="Typ 1",Bemessung!$F$126=8),Schraubenlängen!A21,IF(AND(Bemessung!$C$127="Typ 2",Bemessung!$F$126=8),Schraubenlängen!B21,IF(AND(Bemessung!$C$127="Typ 3",Bemessung!$F$126=8),Schraubenlängen!C21,""))) | F21: =IF($F$2=8,D21,D48)
F22: =IF($F$2=8,D22,D49)
F23: =IF($F$2=8,D23,D50)
F24: =IF($F$2=8,D28,D51)
F25: =IF($F$2=8,D29,D52)
A28: Schraubenlängen für Querzugverstärkung der Nebenträger mit
A29: 10 | B29: Schrauben
A30: Typ1 | B30: Typ 2 | C30: Typ 3 | D30: Auswahl
A31: Längen L [mm] | B31: Längen L [mm] | C31: Längen L [mm] | D31: Längen L [mm]
A32: 160 | B32: 120 | C32: 120 | D32: =IF(AND(Bemessung!$C$127="Typ 1",Bemessung!$F$126=10),Schraubenlängen!A32,IF(AND(Bemessung!$C$127="Typ 2",Bemessung!$F$126=10),Schraubenlängen!B32,IF(AND(Bemessung!$C$127="Typ 3",Bemessung!$F$126=10),Schraubenlängen!C32,"")))
A33: 180 | B33: 160 | C33: 160 | D33: =IF(AND(Bemessung!$C$127="Typ 1",Bemessung!$F$126=10),Schraubenlängen!A33,IF(AND(Bemessung!$C$127="Typ 2",Bemessung!$F$126=10),Schraubenlängen!B33,IF(AND(Bemessung!$C$127="Typ 3",Bemessung!$F$126=10),Schraubenlängen!C33,"")))
A34: 200 | B34: 180 | C34: 200 | D34: =IF(AND(Bemessung!$C$127="Typ 1",Bemessung!$F$126=10),Schraubenlängen!A34,IF(AND(Bemessung!$C$127="Typ 2",Bemessung!$F$126=10),Schraubenlängen!B34,IF(AND(Bemessung!$C$127="Typ 3",Bemessung!$F$126=10),Schraubenlängen!C34,"")))
A35: 220 | B35: 200 | C35: 220 | D35: =IF(AND(Bemessung!$C$127="Typ 1",Bemessung!$F$126=10),Schraubenlängen!A35,IF(AND(Bemessung!$C$127="Typ 2",Bemessung!$F$126=10),Schraubenlängen!B35,IF(AND(Bemessung!$C$127="Typ 3",Bemessung!$F$126=10),Schraubenlängen!C35,"")))
A36: 240 | B36: 220 | C36: 240 | D36: =IF(AND(Bemessung!$C$127="Typ 1",Bemessung!$F$126=10),Schraubenlängen!A36,IF(AND(Bemessung!$C$127="Typ 2",Bemessung!$F$126=10),Schraubenlängen!B36,IF(AND(Bemessung!$C$127="Typ 3",Bemessung!$F$126=10),Schraubenlängen!C36,"")))
A37: 260 | B37: 240 | C37: 260 | D37: =IF(AND(Bemessung!$C$127="Typ 1",Bemessung!$F$126=10),Schraubenlängen!A37,IF(AND(Bemessung!$C$127="Typ 2",Bemessung!$F$126=10),Schraubenlängen!B37,IF(AND(Bemessung!$C$127="Typ 3",Bemessung!$F$126=10),Schraubenlängen!C37,"")))
A38: 280 | B38: 260 | C38: 280 | D38: =IF(AND(Bemessung!$C$127="Typ 1",Bemessung!$F$126=10),Schraubenlängen!A38,IF(AND(Bemessung!$C$127="Typ 2",Bemessung!$F$126=10),Schraubenlängen!B38,IF(AND(Bemessung!$C$127="Typ 3",Bemessung!$F$126=10),Schraubenlängen!C38,"")))
A39: 300 | B39: 280 | C39: 300 | D39: =IF(AND(Bemessung!$C$127="Typ 1",Bemessung!$F$126=10),Schraubenlängen!A39,IF(AND(Bemessung!$C$127="Typ 2",Bemessung!$F$126=10),Schraubenlängen!B39,IF(AND(Bemessung!$C$127="Typ 3",Bemessung!$F$126=10),Schraubenlängen!C39,"")))
A40: 320 | B40: 300 | C40: 350 | D40: =IF(AND(Bemessung!$C$127="Typ 1",Bemessung!$F$126=10),Schraubenlängen!A40,IF(AND(Bemessung!$C$127="Typ 2",Bemessung!$F$126=10),Schraubenlängen!B40,IF(AND(Bemessung!$C$127="Typ 3",Bemessung!$F$126=10),Schraubenlängen!C40,"")))
A41: 340 | B41: 325 | C41: 400 | D41: =IF(AND(Bemessung!$C$127="Typ 1",Bemessung!$F$126=10),Schraubenlängen!A41,IF(AND(Bemessung!$C$127="Typ 2",Bemessung!$F$126=10),Schraubenlängen!B41,IF(AND(Bemessung!$C$127="Typ 3",Bemessung!$F$126=10),Schraubenlängen!C41,"")))
A42: 360 | B42: 350 | C42: 450 | D42: =IF(AND(Bemessung!$C$127="Typ 1",Bemessung!$F$126=10),Schraubenlängen!A42,IF(AND(Bemessung!$C$127="Typ 2",Bemessung!$F$126=10),Schraubenlängen!B42,IF(AND(Bemessung!$C$127="Typ 3",Bemessung!$F$126=10),Schraubenlängen!C42,"")))
A43: 380 | B43: 375 | C43: 500 | D43: =IF(AND(Bemessung!$C$127="Typ 1",Bemessung!$F$126=10),Schraubenlängen!A43,IF(AND(Bemessung!$C$127="Typ 2",Bemessung!$F$126=10),Schraubenlängen!B43,IF(AND(Bemessung!$C$127="Typ 3",Bemessung!$F$126=10),Schraubenlängen!C43,"")))
... A47: 530 | B47: 600 | C47: 800 | D47: =IF(AND(Bemessung!$C$127="Typ 1",Bemessung!$F$126=10),Schraubenlängen!A47,IF(AND(Bemessung!$C$127="Typ 2",Bemessung!$F$126=10),Schraubenlängen!B47,IF(AND(Bemessung!$C$127="Typ 3",Bemessung!$F$126=10),Schraubenlängen!C47,"")))
A48: 580 | B48: 700 | D48: =IF(AND(Bemessung!$C$127="Typ 1",Bemessung!$F$126=10),Schraubenlängen!A48,IF(AND(Bemessung!$C$127="Typ 2",Bemessung!$F$126=10),Schraubenlängen!B48,IF(AND(Bemessung!$C$127="Typ 3",Bemessung!$F$126=10),Schraubenlängen!C48,"")))
A49: 650 | B49: 800 | D49: =IF(AND(Bemessung!$C$127="Typ 1",Bemessung!$F$126=10),Schraubenlängen!A49,IF(AND(Bemessung!$C$127="Typ 2",Bemessung!$F$126=10),Schraubenlängen!B49,IF(AND(Bemessung!$C$127="Typ 3",Bemessung!$F$126=10),Schraubenlängen!C49,"")))
A50: 700 | B50: 1000 | D50: =IF(AND(Bemessung!$C$127="Typ 1",Bemessung!$F$126=10),Schraubenlängen!A50,IF(AND(Bemessung!$C$127="Typ 2",Bemessung!$F$126=10),Schraubenlängen!B50,IF(AND(Bemessung!$C$127="Typ 3",Bemessung!$F$126=10),Schraubenlängen!C50,"")))
A51: 750 | D51: =IF(AND(Bemessung!$C$127="Typ 1",Bemessung!$F$126=10),Schraubenlängen!A51,IF(AND(Bemessung!$C$127="Typ 2",Bemessung!$F$126=10),Schraubenlängen!B51,IF(AND(Bemessung!$C$127="Typ 3",Bemessung!$F$126=10),Schraubenlängen!C51,"")))
A52: 800 | D52: =IF(AND(Bemessung!$C$127="Typ 1",Bemessung!$F$126=10),Schraubenlängen!A52,IF(AND(Bemessung!$C$127="Typ 2",Bemessung!$F$126=10),Schraubenlängen!B52,IF(AND(Bemessung!$C$127="Typ 3",Bemessung!$F$126=10),Schraubenlängen!C52,"")))
