Workbook

Sheet Bemessung
A1: RICON®S Bemessungstool für Haupt-Nebenträger/ Nebenträger-Stützen-Anschlüsse | I1: KNAPP®
A2: (Unverbindliche Musterbemessung) | I2: Version 5.0 | K2: Eingabefelder
I3: 45062 | K3: Ergebnisse OK
A4: Firma: | K4: Ergebnisse nicht OK
A5: Bauvorhaben:
A6: Datum:
A7: Bearbeiter:
A8: Verkäufer:
A10: Anschlussdimensionierung RICON® S nach ETA 10-0189 (Ausgabe 25.08.2022)
A12: mit | B12: KNAPP®-Schrauben nach ETA-10/0189 | E12: VS verschweißter Kragenbolzen | G12: VS + ZP verschweißter Kragenbolzen + Zusatzplatte
A14: Belastung:
A16: Eingabe der Anschlusskräfte als Bemessungswerte (Design-Werte) Fd:
A18: Lastfall kombination | B18: Mittige/Ausmittige Zugkraft F1,d | C18: In Einschub- richtung F2,d | D18: Entgegen Einschubricht. F3,d | E18: Rechtwinklig zur Einschubrichtung F45,d | F18: KLED | G18: kmod
A19: LFK1: g | F19: ständig | G19: =Zwischenrechnung!H4 -> 0.6
A20: LFK2: g+s | F20: =VLOOKUP(G20,Zwischenrechnung!H6:I7,2) -> kurz | G20: 0.9
A21: LFK3: g+n | F21: =VLOOKUP(G21,Zwischenrechnung!H5:I7,2) -> mittel | G21: 0.8
A22: LFK4: g+s+wd | F22: =VLOOKUP(G22,Zwischenrechnung!H6:I8,2) -> kurz | G22: 0.9
A23: LFK5: g+ws | F23: =VLOOKUP(G23,Zwischenrechnung!H7:I8,2) -> kurz | G23: 0.9
A24: Lastfall Beschreibung: | B24: g : Eigengewicht Konstruktion s: Schnee n: Nutzlast (Verkehrslast in Gebäuden) wd: Winddruck ws: Windsog (Abhebende Dachlasten) | F24: Faktor gM = | G24: 1.3 | H24: für Verbindungen
E25: =IF(AND(B29=Zwischenrechnung!L37,OR(Bemessung!E19>0,Bemessung!E20>0,Bemessung!E21>0,Bemessung!E22>0,Bemessung!E23>0)),"Für den Stützen-Nebenträger-Anschluss sind nach ETA 10-0,189 keine Belastungswerte angegeben! Bitte überall 0 eingeben, damit der Nachweis ohne F45,d gerechnet werden kann!","")
A26: Ausgewählter KNAPP® RICON® S Anschluss:
A28: Verbinderauswahl: | B28: RICON S 200/80 VS st | C28: Verschweißter Kragenbolzen | E28: =IF(D23<0,"mit 1 Sperrklappe","") | J28: Knapp Verbinder | K28: n (NT) | L28: Schrauben NT | M28: n (HT) | N28: Schrauben HT | O28: n (Stütze) | P28: Schrauben Stütze
A29: Anschlussart: | B29: Haupt- Nebenträger-Anschluss: | J29: RICON S 140/60 VS min | K29: 7 | L29: 160 | M29: 7 | N29: 80 | O29: 6 | P29: 80
A30: =IF(Bemessung!B29=Zwischenrechnung!L36,VLOOKUP(B28,Zwischenrechnung!A18:B27,2,FALSE),VLOOKUP(Bemessung!B28,Zwischenrechnung!A18:H27,8,FALSE)) -> 16 | B30: =VLOOKUP(B29,Zwischenrechnung!L36:N37,3,FALSE) -> Vollgewindeschrauben Hauptträger | D30: =IF(B29=Zwischenrechnung!L36,VLOOKUP(B28,Zwischenrechnung!A18:D27,3,FALSE),VLOOKUP(Bemessung!B28,Zwischenrechnung!A18:I27,9,FALSE)) -> 10 | E30: =IF(B29=Zwischenrechnung!L36,VLOOKUP(B28,Zwischenrechnung!A18:D27,4,FALSE),VLOOKUP(B28,Zwischenrechnung!A18:J27,10,FALSE)) -> 100 | J30: RICON S 140/60 VS st | K30: 10 | L30: 160 | M30: 10 | N30: 80 | O30: 8 | P30: 80
A31: =IF($B$28=$J$38,2,"") | B31: =IF(Bemessung!B29=Zwischenrechnung!L36,IF($B$28=Zwischenrechnung!A27,"Schrägschrauben Hauptträger",""),IF($B$28=Zwischenrechnung!A27,"Schrägschrauben Stütze","")) | D31: =IF($B$28=Zwischenrechnung!A27,10,"") | E31: =IF($B$28=Zwischenrechnung!A27,IF(B29=Zwischenrechnung!L36,Zwischenrechnung!D28,Zwischenrechnung!J28),"") | J31: RICON S 200/60 VS min | K31: 8 | L31: 160 | M31: 8 | N31: 80 | O31: 9 | P31: 80
A32: =VLOOKUP(B28,Zwischenrechnung!A18:E27,5,FALSE) -> 16 | B32: Vollgewindeschrauben Nebenträger | D32: =VLOOKUP(B28,Zwischenrechnung!A18:G27,6,FALSE) -> 10 | E32: =VLOOKUP(B28,Zwischenrechnung!A18:G27,7,FALSE) -> 300 | J32: RICON S 200/60 VS st | K32: 16 | L32: 160 | M32: 16 | N32: 80 | O32: 13 | P32: 80
A33: =IF($B$28=$J$38,2,"") | B33: =IF($B$28=Zwischenrechnung!A27,"Schrägschrauben Nebenträger","") | D33: =IF($B$28=Zwischenrechnung!A27,Zwischenrechnung!F28,"") | E33: =IF($B$28=Zwischenrechnung!A27,Zwischenrechnung!G28,"") | J33: RICON S 200/80 VS min | K33: 8 | L33: 200 | M33: 8 | N33: 100 | O33: 9 | P33: 100
A34: Grundwinkel a = | B34: 90 | C34: =IF(B34<80,"Bitte bei Schräganschlüsse auf die Schraubenlänge im NT achten!","") | J34: RICON S 200/80 VS st | K34: 16 | L34: 300 | M34: 16 | N34: 100 | O34: 13 | P34: 100
A35: Holzqualität NT: | B35: GL24h | C35: =VLOOKUP(B35,Zwischenrechnung!J2:N14,5,FALSE) -> Brettschichtholz homogen | J35: RICON S 290/80 VS min | K35: 8 | L35: 200 | M35: 8 | N35: 100 | O35: 13 | P35: 100
A36: Rohdichte NT rk = | B36: =VLOOKUP(B35,Zwischenrechnung!J2:K12,2,FALSE) -> 385 | C36: =IF(B36=590,"Rohdichte wird mit 590 kg/m³ wg. der Schrauben gerechnet !","") | J36: RICON S 290/80 VS st | K36: 25 | L36: 100 | M36: 25 | N36: 100 | O36: 20 | P36: 100
A37: =IF(B29=Zwischenrechnung!L36,"Holzqualität HT:","Holzqualität Stütze:") -> Holzqualität HT: | B37: GL24h | C37: =VLOOKUP(B37,Zwischenrechnung!J2:N12,5,FALSE) -> Brettschichtholz homogen | J37: RICON S 390x80 VS+ZP | K37: 28 | L37: 200 | M37: 28 | N37: 100 | O37: 23 | P37: 100
A38: Rohdichte HT rk = | B38: =VLOOKUP(B37,Zwischenrechnung!J2:N12,2,FALSE) -> 385 | J38: RICON S 390x80 VS+ZP max | K38: 28 | L38: 200 | M38: 28 | N38: 100 | O38: 23 | P38: 100
A39: KNAPP® Schrauben: | B39: =Zwischenrechnung!L15 -> ETA-10/0189 | K39: 2 | L39: 450 | M39: 2 | N39: 400 | O39: 2 | P39: 400
A40: Zugfestigkeit ftens,k = | B40: =VLOOKUP(B28,Zwischenrechnung!A18:K27,8,FALSE) -> 13 | F40: Draufsicht: | G40: Grundwinkeldarstellung:
A41: Fließmoment My,k= | B41: =VLOOKUP(B28,Zwischenrechnung!A18:L27,9,FALSE) -> 10 | H41: Nebenträger
F42: Hauptträger
A43: Bemessungswerte der Tragfähigkeit vom ausgewählten RICON®S Verbinder
A44: kmod | B44: F1,Rd | C44: F2,Rd | D44: F3,Rd | E44: F45,Rd
A45: 0.6 | B45: =Zwischenrechnung!B102 -> 7.2635364 | C45: =Zwischenrechnung!C102 -> 42.653339 | E45: =Zwischenrechnung!E102 -> 14.70872
A46: 0.7 | B46: =Zwischenrechnung!B103 -> 8.4741258 | C46: =Zwischenrechnung!C103 -> 49.762228 | E46: =Zwischenrechnung!E103 -> 17.160173
...

Sheet Zwischenrechnung
A1: Eingabe | B1: Verknüpfte Eingabe | J1: Holzart | K1: rk [kg/m³] | L1: βn [mm/min] | M1: gM [-] | N1: Holzart
J2: C24 | K2: 350 | L2: 0.8 | M2: 1.3 | N2: Nadelvollholz/KVH | P2: (Fichte, Lärche, Tanne)
A3: Teilsicherheitsbeiwerte | H3: kmod | I3: KLED | J3: C30 | K3: 380 | L3: 0.8 | M3: 1.3 | N3: Nadelvollholz/KVH | P3: (Fichte, Lärche, Tanne, Douglasie)
A4: gg = | B4: 1.3 | C4: (ständige Lasten: Eigengewicht) | H4: 0.6 | I4: ständig | J4: GL24c | K4: 365 | L4: 0.7 | M4: 1.25 | N4: Brettschichtholz kombiniert
A5: gQ = | B5: 1.5 | C5: (veränderliche Lasten: Schnee, Wind, Nutzlast) | H5: 0.7 | I5: lang | J5: GL24h | K5: 385 | L5: 0.7 | M5: 1.25 | N5: Brettschichtholz homogen
A6: Kombinationsbeiwerte | H6: 0.8 | I6: mittel | J6: GL28c | K6: 390 | L6: 0.7 | M6: 1.25 | N6: Brettschichtholz kombiniert
A7: y0 = | B7: 0.6 | C7: (Windlasten) | H7: 0.9 | I7: kurz | J7: GL28h | K7: 425 | L7: 0.7 | M7: 1.25 | N7: Brettschichtholz homogen
A8: y0 = | B8: 0.5 | C8: (Schneelasten Orte bis zu NN +1000) | H8: 1 | I8: k./s.kurz | J8: GL30c | K8: 390 | L8: 0.7 | M8: 1.25 | N8: Brettschichtholz kombiniert
A9: y0 = | B9: 0.7 | C9: (Schneelasten Orte über NN +1000) | J9: GL30h | K9: 430 | L9: 0.7 | M9: 1.25 | N9: Brettschichtholz homogen
A10: y0 = | B10: 0.7 | C10: (Verkehrslasten / Nutzlasten) | J10: GL32c | K10: 400 | L10: 0.7 | M10: 1.25 | N10: Brettschichtholz kombiniert
J11: GL32h | K11: 440 | L11: 0.7 | M11: 1.25 | N11: Brettschichtholz homogen
J12: CLT | K12: 350 | L12: 0.7 | M12: 1.3 | N12: Brettsperrholz
K15: KNAPP® | L15: ETA-10/0189
A16: Knapp Verbinder | B16: Schrauben im Hauptträger | E16: Schrauben im Nebenträger | H16: Schrauben in Stütze | K16: Zugfestigkeit | L16: Fließmoment | M16: Verbinder-höhe [mm] | N16: Verbinder-breite [mm] | O16: Abstand
B17: Anzahl n(H) | C17: d(H) [mm] | D17: L(H) [mm] | E17: Anzahl n(H) | F17: d(H) [mm] | G17: L(H) [mm] | H17: Anzahl n(H) | I17: d(H) [mm] | J17: L(H) [mm] | K17: ftens,k [kN] | L17: My,k [Nm] | O17: t [mm]
A18: RICON S 140/60 VS min | B18: =Bemessung!M29 -> 7 | C18: 8 | D18: =Bemessung!N29 -> 80 | E18: =Bemessung!K29 -> 7 | F18: 8 | G18: =Bemessung!L29 -> 160 | H18: =Bemessung!O29 -> 6 | I18: 8 | J18: =Bemessung!P29 -> 80 | K18: 23 | L18: 20 | M18: 140 | N18: 60 | O18: 40
A19: RICON S 140/60 VS st | B19: =Bemessung!M30 -> 10 | C19: 8 | D19: =Bemessung!N30 -> 80 | E19: =Bemessung!K30 -> 10 | F19: 8 | G19: =Bemessung!L30 -> 160 | H19: =Bemessung!O30 -> 8 | I19: 8 | J19: =Bemessung!P30 -> 80 | K19: 23 | L19: 20 | M19: 140 | N19: 60 | O19: 40
A20: RICON S 200/60 VS min | B20: =Bemessung!M31 -> 8 | C20: 8 | D20: =Bemessung!N31 -> 80 | E20: =Bemessung!K31 -> 8 | F20: 8 | G20: =Bemessung!L31 -> 160 | H20: =Bemessung!O31 -> 9 | I20: 8 | J20: =Bemessung!P31 -> 80 | K20: 23 | L20: 20 | M20: 200 | N20: 60 | O20: 40
A21: RICON S 200/60 VS st | B21: =Bemessung!M32 -> 16 | C21: 8 | D21: =Bemessung!N32 -> 80 | E21: =Bemessung!K32 -> 16 | F21: 8 | G21: =Bemessung!L32 -> 160 | H21: =Bemessung!O32 -> 13 | I21: 8 | J21: =Bemessung!P32 -> 80 | K21: 23 | L21: 20 | M21: 200 | N21: 60 | O21: 40
A22: RICON S 200/80 VS min | B22: =Bemessung!M33 -> 8 | C22: 10 | D22: =Bemessung!N33 -> 100 | E22: =Bemessung!K33 -> 8 | F22: 10 | G22: =Bemessung!L33 -> 200 | H22: =Bemessung!O33 -> 9 | I22: 10 | J22: =Bemessung!P33 -> 100 | K22: 32 | L22: 35 | M22: 200 | N22: 80 | O22: 40
A23: RICON S 200/80 VS st | B23: =Bemessung!M34 -> 16 | C23: 10 | D23: =Bemessung!N34 -> 100 | E23: =Bemessung!K34 -> 16 | F23: 10 | G23: =Bemessung!L34 -> 300 | H23: =Bemessung!O34 -> 13 | I23: 10 | J23: =Bemessung!P34 -> 100 | K23: 32 | L23: 35 | M23: 200 | N23: 80 | O23: 40
A24: RICON S 290/80 VS min | B24: =Bemessung!M35 -> 8 | C24: 10 | D24: =Bemessung!N35 -> 100 | E24: =Bemessung!K35 -> 8 | F24: 10 | G24: =Bemessung!L35 -> 200 | H24: =Bemessung!O35 -> 13 | I24: 10 | J24: =Bemessung!P35 -> 100 | K24: 32 | L24: 35 | M24: 290 | N24: 80 | O24: 40
A25: RICON S 290/80 VS st | B25: =Bemessung!M36 -> 25 | C25: 10 | D25: =Bemessung!N36 -> 100 | E25: =Bemessung!K36 -> 25 | F25: 10 | G25: =Bemessung!L36 -> 100 | H25: =Bemessung!O36 -> 20 | I25: 10 | J25: =Bemessung!P36 -> 100 | K25: 32 | L25: 35 | M25: 290 | N25: 80 | O25: 40
A26: RICON S 390x80 VS+ZP | B26: =Bemessung!M37 -> 28 | C26: 10 | D26: =Bemessung!N37 -> 100 | E26: =Bemessung!K37 -> 28 | F26: 10 | G26: =Bemessung!L37 -> 200 | H26: =Bemessung!O37 -> 23 | I26: 10 | J26: =Bemessung!P37 -> 100 | K26: 32 | L26: 35 | M26: 390 | N26: 80 | O26: 60
A27: RICON S 390x80 VS+ZP max | B27: =Bemessung!M38 -> 28 | C27: 10 | D27: =Bemessung!N38 -> 100 | E27: =Bemessung!K38 -> 28 | F27: 10 | G27: =Bemessung!L38 -> 200 | H27: =Bemessung!O38 -> 23 | I27: 10 | J27: =Bemessung!P38 -> 100 | K27: 32 | L27: 35 | M27: 390 | N27: 80 | O27: 60
B28: =Bemessung!M39 -> 2 | C28: 10 | D28: =Bemessung!N39 -> 400 | E28: =Bemessung!K39 -> 2 | F28: 10 | G28: =Bemessung!L39 -> 450 | H28: =Bemessung!O39 -> 2 | I28: 10 | J28: =Bemessung!P39 -> 400
A30: Knapp Verbinder | B30: Mittiger / Ausmittiger Zugkraft F1,Rd [kN] | G30: eff. Scr-Stk.
B31: 0.6 | C31: 0.7 | D31: 0.8 | E31: 0.9 | F31: 1 | G31: nef [Stk.]
A32: RICON S 140/60 VS min | B32: =IF(Bemessung!$B$29=Zwischenrechnung!$L$36,'Herleitung_HT-NT-Anschlüsse'!O10,'Herleitung_Stützen-Anschlüsse'!O10) -> 0 | C32: =IF(Bemessung!$B$29=Zwischenrechnung!$L$36,'Herleitung_HT-NT-Anschlüsse'!P10,'Herleitung_Stützen-Anschlüsse'!P10) -> 0 | D32: =IF(Bemessung!$B$29=Zwischenrechnung!$L$36,'Herleitung_HT-NT-Anschlüsse'!Q10,'Herleitung_Stützen-Anschlüsse'!Q10) -> 0 | E32: =IF(Bemessung!$B$29=Zwischenrechnung!$L$36,'Herleitung_HT-NT-Anschlüsse'!R10,'Herleitung_Stützen-Anschlüsse'!R10) -> 0 | F32: =IF(Bemessung!$B$29=Zwischenrechnung!$L$36,'Herleitung_HT-NT-Anschlüsse'!S10,'Herleitung_Stützen-Anschlüsse'!S10) -> 0 | G32: =IF(Bemessung!$B$29=Zwischenrechnung!$L$36,'Herleitung_HT-NT-Anschlüsse'!Q26,'Herleitung_Stützen-Anschlüsse'!Q26) -> 0
A33: RICON S 140/60 VS st | B33: =IF(Bemessung!$B$29=Zwischenrechnung!$L$36,'Herleitung_HT-NT-Anschlüsse'!O11,'Herleitung_Stützen-Anschlüsse'!O11) -> 0 | C33: =IF(Bemessung!$B$29=Zwischenrechnung!$L$36,'Herleitung_HT-NT-Anschlüsse'!P11,'Herleitung_Stützen-Anschlüsse'!P11) -> 0 | D33: =IF(Bemessung!$B$29=Zwischenrechnung!$L$36,'Herleitung_HT-NT-Anschlüsse'!Q11,'Herleitung_Stützen-Anschlüsse'!Q11) -> 0 | E33: =IF(Bemessung!$B$29=Zwischenrechnung!$L$36,'Herleitung_HT-NT-Anschlüsse'!R11,'Herleitung_Stützen-Anschlüsse'!R11) -> 0 | F33: =IF(Bemessung!$B$29=Zwischenrechnung!$L$36,'Herleitung_HT-NT-Anschlüsse'!S11,'Herleitung_Stützen-Anschlüsse'!S11) -> 0 | G33: =IF(Bemessung!$B$29=Zwischenrechnung!$L$36,'Herleitung_HT-NT-Anschlüsse'!Q27,'Herleitung_Stützen-Anschlüsse'!Q27) -> 0 | J33: VS… verschweißter Kragenbolzen
A34: RICON S 200/60 VS min | B34: =IF(Bemessung!$B$29=Zwischenrechnung!$L$36,'Herleitung_HT-NT-Anschlüsse'!O12,'Herleitung_Stützen-Anschlüsse'!O12) -> 0 | C34: =IF(Bemessung!$B$29=Zwischenrechnung!$L$36,'Herleitung_HT-NT-Anschlüsse'!P12,'Herleitung_Stützen-Anschlüsse'!P12) -> 0 | D34: =IF(Bemessung!$B$29=Zwischenrechnung!$L$36,'Herleitung_HT-NT-Anschlüsse'!Q12,'Herleitung_Stützen-Anschlüsse'!Q12) -> 0 | E34: =IF(Bemessung!$B$29=Zwischenrechnung!$L$36,'Herleitung_HT-NT-Anschlüsse'!R12,'Herleitung_Stützen-Anschlüsse'!R12) -> 0 | F34: =IF(Bemessung!$B$29=Zwischenrechnung!$L$36,'Herleitung_HT-NT-Anschlüsse'!S12,'Herleitung_Stützen-Anschlüsse'!S12) -> 0 | G34: =IF(Bemessung!$B$29=Zwischenrechnung!$L$36,'Herleitung_HT-NT-Anschlüsse'!Q28,'Herleitung_Stützen-Anschlüsse'!Q28) -> 0
A35: RICON S 200/60 VS st | B35: =IF(Bemessung!$B$29=Zwischenrechnung!$L$36,'Herleitung_HT-NT-Anschlüsse'!O13,'Herleitung_Stützen-Anschlüsse'!O13) -> 0 | C35: =IF(Bemessung!$B$29=Zwischenrechnung!$L$36,'Herleitung_HT-NT-Anschlüsse'!P13,'Herleitung_Stützen-Anschlüsse'!P13) -> 0 | D35: =IF(Bemessung!$B$29=Zwischenrechnung!$L$36,'Herleitung_HT-NT-Anschlüsse'!Q13,'Herleitung_Stützen-Anschlüsse'!Q13) -> 0 | E35: =IF(Bemessung!$B$29=Zwischenrechnung!$L$36,'Herleitung_HT-NT-Anschlüsse'!R13,'Herleitung_Stützen-Anschlüsse'!R13) -> 0 | F35: =IF(Bemessung!$B$29=Zwischenrechnung!$L$36,'Herleitung_HT-NT-Anschlüsse'!S13,'Herleitung_Stützen-Anschlüsse'!S13) -> 0 | G35: =IF(Bemessung!$B$29=Zwischenrechnung!$L$36,'Herleitung_HT-NT-Anschlüsse'!Q29,'Herleitung_Stützen-Anschlüsse'!Q29) -> 0
A36: RICON S 200/80 VS min | B36: =IF(Bemessung!$B$29=Zwischenrechnung!$L$36,'Herleitung_HT-NT-Anschlüsse'!O14,'Herleitung_Stützen-Anschlüsse'!O14) -> 0 | C36: =IF(Bemessung!$B$29=Zwischenrechnung!$L$36,'Herleitung_HT-NT-Anschlüsse'!P14,'Herleitung_Stützen-Anschlüsse'!P14) -> 0 | D36: =IF(Bemessung!$B$29=Zwischenrechnung!$L$36,'Herleitung_HT-NT-Anschlüsse'!Q14,'Herleitung_Stützen-Anschlüsse'!Q14) -> 0 | E36: =IF(Bemessung!$B$29=Zwischenrechnung!$L$36,'Herleitung_HT-NT-Anschlüsse'!R14,'Herleitung_Stützen-Anschlüsse'!R14) -> 0 | F36: =IF(Bemessung!$B$29=Zwischenrechnung!$L$36,'Herleitung_HT-NT-Anschlüsse'!S14,'Herleitung_Stützen-Anschlüsse'!S14) -> 0 | G36: =IF(Bemessung!$B$29=Zwischenrechnung!$L$36,'Herleitung_HT-NT-Anschlüsse'!Q30,'Herleitung_Stützen-Anschlüsse'!Q30) -> 0 | L36: Haupt- Nebenträger-Anschluss: | N36: Vollgewindeschrauben Hauptträger
A37: RICON S 200/80 VS st | B37: =IF(Bemessung!$B$29=Zwischenrechnung!$L$36,'Herleitung_HT-NT-Anschlüsse'!O15,'Herleitung_Stützen-Anschlüsse'!O15) -> 7.2635364 | C37: =IF(Bemessung!$B$29=Zwischenrechnung!$L$36,'Herleitung_HT-NT-Anschlüsse'!P15,'Herleitung_Stützen-Anschlüsse'!P15) -> 8.4741258 | D37: =IF(Bemessung!$B$29=Zwischenrechnung!$L$36,'Herleitung_HT-NT-Anschlüsse'!Q15,'Herleitung_Stützen-Anschlüsse'!Q15) -> 9.6847152 | E37: =IF(Bemessung!$B$29=Zwischenrechnung!$L$36,'Herleitung_HT-NT-Anschlüsse'!R15,'Herleitung_Stützen-Anschlüsse'!R15) -> 10.895305 | F37: =IF(Bemessung!$B$29=Zwischenrechnung!$L$36,'Herleitung_HT-NT-Anschlüsse'!S15,'Herleitung_Stützen-Anschlüsse'!S15) -> 12.105894 | G37: =IF(Bemessung!$B$29=Zwischenrechnung!$L$36,'Herleitung_HT-NT-Anschlüsse'!Q31,'Herleitung_Stützen-Anschlüsse'!Q31) -> 1.5 | L37: Stützen-Nebenträger-Anschluss: | N37: Vollgewindeschrauben Stütze
A38: RICON S 290/80 VS min | B38: =IF(Bemessung!$B$29=Zwischenrechnung!$L$36,'Herleitung_HT-NT-Anschlüsse'!O16,'Herleitung_Stützen-Anschlüsse'!O16) -> 0 | C38: =IF(Bemessung!$B$29=Zwischenrechnung!$L$36,'Herleitung_HT-NT-Anschlüsse'!P16,'Herleitung_Stützen-Anschlüsse'!P16) -> 0 | D38: =IF(Bemessung!$B$29=Zwischenrechnung!$L$36,'Herleitung_HT-NT-Anschlüsse'!Q16,'Herleitung_Stützen-Anschlüsse'!Q16) -> 0 | E38: =IF(Bemessung!$B$29=Zwischenrechnung!$L$36,'Herleitung_HT-NT-Anschlüsse'!R16,'Herleitung_Stützen-Anschlüsse'!R16) -> 0 | F38: =IF(Bemessung!$B$29=Zwischenrechnung!$L$36,'Herleitung_HT-NT-Anschlüsse'!S16,'Herleitung_Stützen-Anschlüsse'!S16) -> 0 | G38: =IF(Bemessung!$B$29=Zwischenrechnung!$L$36,'Herleitung_HT-NT-Anschlüsse'!Q32,'Herleitung_Stützen-Anschlüsse'!Q32) -> 0
A39: RICON S 290/80 VS st | B39: =IF(Bemessung!$B$29=Zwischenrechnung!$L$36,'Herleitung_HT-NT-Anschlüsse'!O17,'Herleitung_Stützen-Anschlüsse'!O17) -> 0 | C39: =IF(Bemessung!$B$29=Zwischenrechnung!$L$36,'Herleitung_HT-NT-Anschlüsse'!P17,'Herleitung_Stützen-Anschlüsse'!P17) -> 0 | D39: =IF(Bemessung!$B$29=Zwischenrechnung!$L$36,'Herleitung_HT-NT-Anschlüsse'!Q17,'Herleitung_Stützen-Anschlüsse'!Q17) -> 0 | E39: =IF(Bemessung!$B$29=Zwischenrechnung!$L$36,'Herleitung_HT-NT-Anschlüsse'!R17,'Herleitung_Stützen-Anschlüsse'!R17) -> 0 | F39: =IF(Bemessung!$B$29=Zwischenrechnung!$L$36,'Herleitung_HT-NT-Anschlüsse'!S17,'Herleitung_Stützen-Anschlüsse'!S17) -> 0 | G39: =IF(Bemessung!$B$29=Zwischenrechnung!$L$36,'Herleitung_HT-NT-Anschlüsse'!Q33,'Herleitung_Stützen-Anschlüsse'!Q33) -> 0
A40: RICON S 390x80 VS+ZP | B40: =IF(Bemessung!$B$29=Zwischenrechnung!$L$36,'Herleitung_HT-NT-Anschlüsse'!O18,'Herleitung_Stützen-Anschlüsse'!O18) -> 0 | C40: =IF(Bemessung!$B$29=Zwischenrechnung!$L$36,'Herleitung_HT-NT-Anschlüsse'!P18,'Herleitung_Stützen-Anschlüsse'!P18) -> 0 | D40: =IF(Bemessung!$B$29=Zwischenrechnung!$L$36,'Herleitung_HT-NT-Anschlüsse'!Q18,'Herleitung_Stützen-Anschlüsse'!Q18) -> 0 | E40: =IF(Bemessung!$B$29=Zwischenrechnung!$L$36,'Herleitung_HT-NT-Anschlüsse'!R18,'Herleitung_Stützen-Anschlüsse'!R18) -> 0 | F40: =IF(Bemessung!$B$29=Zwischenrechnung!$L$36,'Herleitung_HT-NT-Anschlüsse'!S18,'Herleitung_Stützen-Anschlüsse'!S18) -> 0 | G40: =IF(Bemessung!$B$29=Zwischenrechnung!$L$36,'Herleitung_HT-NT-Anschlüsse'!Q34,'Herleitung_Stützen-Anschlüsse'!Q34) -> 0
A41: RICON S 390x80 VS+ZP max | B41: =IF(Bemessung!$B$29=Zwischenrechnung!$L$36,'Herleitung_HT-NT-Anschlüsse'!O19,'Herleitung_Stützen-Anschlüsse'!O19) -> 0 | C41: =IF(Bemessung!$B$29=Zwischenrechnung!$L$36,'Herleitung_HT-NT-Anschlüsse'!P19,'Herleitung_Stützen-Anschlüsse'!P19) -> 0 | D41: =IF(Bemessung!$B$29=Zwischenrechnung!$L$36,'Herleitung_HT-NT-Anschlüsse'!Q19,'Herleitung_Stützen-Anschlüsse'!Q19) -> 0 | E41: =IF(Bemessung!$B$29=Zwischenrechnung!$L$36,'Herleitung_HT-NT-Anschlüsse'!R19,'Herleitung_Stützen-Anschlüsse'!R19) -> 0 | F41: =IF(Bemessung!$B$29=Zwischenrechnung!$L$36,'Herleitung_HT-NT-Anschlüsse'!S19,'Herleitung_Stützen-Anschlüsse'!S19) -> 0 | G41: =IF(Bemessung!$B$29=Zwischenrechnung!$L$36,'Herleitung_HT-NT-Anschlüsse'!Q35,'Herleitung_Stützen-Anschlüsse'!Q35) -> 0
A43: Haupt- Nebenträger-Anschluss | I43: Stützen-Nebenträger-Anschluss:
A44: Knapp Verbinder | B44: In Einschubrichtung F2,Rd [kN] HT - NT Anschluss | I44: Knapp Verbinder | J44: In Einschubrichtung F2,Rd [kN] Stützen - NT Anschluss
...

Sheet Herleitung_HT-NT-Anschlüsse
A1: Eingabe
A2: Verknüpfte Eingabe
A4: Load direction F1 perpendicular to the connector plate
A6: RICON S VS Connector
K7: =Bemessung!C39 -> 0
A8: Knapp Connector | B8: F1,KCC,RK | C8: ac | D8: e1 | E8: nef | F8: L(H) | G8: lef (H) | H8: lef (J) | I8: d | J8: Fax,Rk (H) | K8: Fax,Rk (J) | L8: ftens,k | M8: F1,Rk | N8: Knapp Connector | O8: Tensile Force F1,Rd [kN]
B9: [kN] | C9: [mm] | D9: [mm] | E9: [pcs] | F9: [mm] | G9: [mm] | H9: [mm] | I9: [mm] | J9: [kN] | K9: [kN] | L9: [kN] | M9: [kN] | O9: 0.6 | P9: 0.7 | Q9: 0.8 | R9: 0.9 | S9: 1
A10: RICON S 140/60 VS min | B10: 9 | C10: 60 | D10: =C10/2 -> 30 | E10: =Q26 -> 0 | F10: =Zwischenrechnung!D18 -> 80 | G10: =VLOOKUP(F10,$P$57:$Q$58,2,FALSE) -> 70 | H10: =VLOOKUP(D40,$P$39:$Q$41,2,FALSE) -> 145 | I10: =Zwischenrechnung!F18 -> 8 | J10: =(0.52*SQRT(I10)*(G10)^0.9*$B$22^0.8)/1000 -> 7.8796179 | K10: =(IF(H10>=100,$K$21,$K$22)*0.52*SQRT(I10)*H10^0.9*$B$21^0.8)/1000 -> 9.1054072 | L10: 22 | M10: =E10*MIN(B10,J10,K10,L10) -> 0 | N10: RICON S 140/60 VS min | O10: =$E10*MIN($B10/1,$J10*O$9/$O$20,$K10*O$9/$O$20,$L10/1.25) -> 0 | P10: =$E10*MIN($B10/1,$J10*P$9/$O$20,$K10*P$9/$O$20,$L10/1.25) -> 0 | Q10: =$E10*MIN($B10/1,$J10*Q$9/$O$20,$K10*Q$9/$O$20,$L10/1.25) -> 0 | R10: =$E10*MIN($B10/1,$J10*R$9/$O$20,$K10*R$9/$O$20,$L10/1.25) -> 0 | S10: =$E10*MIN($B10/1,$J10*S$9/$O$20,$K10*S$9/$O$20,$L10/1.25) -> 0
A11: RICON S 140/60 VS st | B11: 9 | C11: 60 | D11: =C11/2 -> 30 | E11: =Q27 -> 0 | F11: =Zwischenrechnung!D19 -> 80 | G11: =VLOOKUP(F11,$P$57:$Q$58,2,FALSE) -> 70 | H11: =VLOOKUP(D41,$P$39:$Q$41,2,FALSE) -> 145 | I11: =Zwischenrechnung!F19 -> 8 | J11: =(0.52*SQRT(I11)*(G11)^0.9*$B$22^0.8)/1000 -> 7.8796179 | K11: =(IF(H11>=100,$K$21,$K$22)*0.52*SQRT(I11)*H11^0.9*$B$21^0.8)/1000 -> 9.1054072 | L11: 23 | M11: =E11*MIN(B11,J11,K11,L11) -> 0 | N11: RICON S 140/60 VS st | O11: =$E11*MIN($B11/1,$J11*O$9/$O$20,$K11*O$9/$O$20,$L11/1.25) -> 0 | P11: =$E11*MIN($B11/1,$J11*P$9/$O$20,$K11*P$9/$O$20,$L11/1.25) -> 0 | Q11: =$E11*MIN($B11/1,$J11*Q$9/$O$20,$K11*Q$9/$O$20,$L11/1.25) -> 0 | R11: =$E11*MIN($B11/1,$J11*R$9/$O$20,$K11*R$9/$O$20,$L11/1.25) -> 0 | S11: =$E11*MIN($B11/1,$J11*S$9/$O$20,$K11*S$9/$O$20,$L11/1.25) -> 0
A12: RICON S 200/60 VS min | B12: 9 | C12: 120 | D12: =C12/2 -> 60 | E12: =Q28 -> 0 | F12: =Zwischenrechnung!D20 -> 80 | G12: =VLOOKUP(F12,$P$57:$Q$58,2,FALSE) -> 70 | H12: =VLOOKUP(D42,$P$39:$Q$41,2,FALSE) -> 145 | I12: =Zwischenrechnung!F20 -> 8 | J12: =(0.52*SQRT(I12)*(G12)^0.9*$B$22^0.8)/1000 -> 7.8796179 | K12: =(IF(H12>=100,$K$21,$K$22)*0.52*SQRT(I12)*H12^0.9*$B$21^0.8)/1000 -> 9.1054072 | L12: 22 | M12: =E12*MIN(B12,J12,K12,L12) -> 0 | N12: RICON S 200/60 VS min | O12: =$E12*MIN($B12/1,$J12*O$9/$O$20,$K12*O$9/$O$20,$L12/1.25) -> 0 | P12: =$E12*MIN($B12/1,$J12*P$9/$O$20,$K12*P$9/$O$20,$L12/1.25) -> 0 | Q12: =$E12*MIN($B12/1,$J12*Q$9/$O$20,$K12*Q$9/$O$20,$L12/1.25) -> 0 | R12: =$E12*MIN($B12/1,$J12*R$9/$O$20,$K12*R$9/$O$20,$L12/1.25) -> 0 | S12: =$E12*MIN($B12/1,$J12*S$9/$O$20,$K12*S$9/$O$20,$L12/1.25) -> 0
A13: RICON S 200/60 VS st | B13: 9 | C13: 120 | D13: =C13/2 -> 60 | E13: =Q29 -> 0 | F13: =Zwischenrechnung!D21 -> 80 | G13: =VLOOKUP(F13,$P$57:$Q$58,2,FALSE) -> 70 | H13: =VLOOKUP(D43,$P$39:$Q$41,2,FALSE) -> 145 | I13: =Zwischenrechnung!F21 -> 8 | J13: =(0.52*SQRT(I13)*(G13)^0.9*$B$22^0.8)/1000 -> 7.8796179 | K13: =(IF(H13>=100,$K$21,$K$22)*0.52*SQRT(I13)*H13^0.9*$B$21^0.8)/1000 -> 9.1054072 | L13: 23 | M13: =E13*MIN(B13,J13,K13,L13) -> 0 | N13: RICON S 200/60 VS st | O13: =$E13*MIN($B13/1,$J13*O$9/$O$20,$K13*O$9/$O$20,$L13/1.25) -> 0 | P13: =$E13*MIN($B13/1,$J13*P$9/$O$20,$K13*P$9/$O$20,$L13/1.25) -> 0 | Q13: =$E13*MIN($B13/1,$J13*Q$9/$O$20,$K13*Q$9/$O$20,$L13/1.25) -> 0 | R13: =$E13*MIN($B13/1,$J13*R$9/$O$20,$K13*R$9/$O$20,$L13/1.25) -> 0 | S13: =$E13*MIN($B13/1,$J13*S$9/$O$20,$K13*S$9/$O$20,$L13/1.25) -> 0
A14: RICON S 200/80 VS min | B14: 9 | C14: 120 | D14: =C14/2 -> 60 | E14: =Q30 -> 0 | F14: =Zwischenrechnung!D22 -> 100 | G14: =VLOOKUP(F14,$P$61:$Q$63,2,FALSE) -> 85 | H14: =VLOOKUP(D44,$P$44:$Q$46,2,FALSE) -> 180 | I14: =Zwischenrechnung!F22 -> 10 | J14: =(0.52*SQRT(I14)*(G14)^0.9*$B$22^0.8)/1000 -> 10.491775 | K14: =(IF(H14>=100,$K$21,$K$22)*0.52*SQRT(I14)*H14^0.9*$B$21^0.8)/1000 -> 12.367116 | L14: 31 | M14: =E14*MIN(B14,J14,K14,L14) -> 0 | N14: RICON S 200/80 VS min | O14: =$E14*MIN($B14/1,$J14*O$9/$O$20,$K14*O$9/$O$20,$L14/1.25) -> 0 | P14: =$E14*MIN($B14/1,$J14*P$9/$O$20,$K14*P$9/$O$20,$L14/1.25) -> 0 | Q14: =$E14*MIN($B14/1,$J14*Q$9/$O$20,$K14*Q$9/$O$20,$L14/1.25) -> 0 | R14: =$E14*MIN($B14/1,$J14*R$9/$O$20,$K14*R$9/$O$20,$L14/1.25) -> 0 | S14: =$E14*MIN($B14/1,$J14*S$9/$O$20,$K14*S$9/$O$20,$L14/1.25) -> 0
A15: RICON S 200/80 VS st | B15: 9 | C15: 120 | D15: =C15/2 -> 60 | E15: =Q31 -> 1.5 | F15: =Zwischenrechnung!D23 -> 100 | G15: =VLOOKUP(F15,$P$61:$Q$63,2,FALSE) -> 85 | H15: =VLOOKUP(D45,$P$44:$Q$46,2,FALSE) -> 280 | I15: =Zwischenrechnung!F23 -> 10 | J15: =(0.52*SQRT(I15)*(G15)^0.9*$B$22^0.8)/1000 -> 10.491775 | K15: =(IF(H15>=100,$K$21,$K$22)*0.52*SQRT(I15)*H15^0.9*$B$21^0.8)/1000 -> 18.406254 | L15: 32 | M15: =E15*MIN(B15,J15,K15,L15) -> 13.5 | N15: RICON S 200/80 VS st | O15: =$E15*MIN($B15/1,$J15*O$9/$O$20,$K15*O$9/$O$20,$L15/1.25) -> 7.2635364 | P15: =$E15*MIN($B15/1,$J15*P$9/$O$20,$K15*P$9/$O$20,$L15/1.25) -> 8.4741258 | Q15: =$E15*MIN($B15/1,$J15*Q$9/$O$20,$K15*Q$9/$O$20,$L15/1.25) -> 9.6847152 | R15: =$E15*MIN($B15/1,$J15*R$9/$O$20,$K15*R$9/$O$20,$L15/1.25) -> 10.895305 | S15: =$E15*MIN($B15/1,$J15*S$9/$O$20,$K15*S$9/$O$20,$L15/1.25) -> 12.105894
A16: RICON S 290/80 VS min | B16: 9 | C16: 210 | D16: =C16/2 -> 105 | E16: =Q32 -> 0 | F16: =Zwischenrechnung!D24 -> 100 | G16: =VLOOKUP(F16,$P$61:$Q$63,2,FALSE) -> 85 | H16: =VLOOKUP(D46,$P$44:$Q$46,2,FALSE) -> 180 | I16: =Zwischenrechnung!F24 -> 10 | J16: =(0.52*SQRT(I16)*(G16)^0.9*$B$22^0.8)/1000 -> 10.491775 | K16: =(IF(H16>=100,$K$21,$K$22)*0.52*SQRT(I16)*H16^0.9*$B$21^0.8)/1000 -> 12.367116 | L16: 31 | M16: =E16*MIN(B16,J16,K16,L16) -> 0 | N16: RICON S 290/80 VS min | O16: =$E16*MIN($B16/1,$J16*O$9/$O$20,$K16*O$9/$O$20,$L16/1.25) -> 0 | P16: =$E16*MIN($B16/1,$J16*P$9/$O$20,$K16*P$9/$O$20,$L16/1.25) -> 0 | Q16: =$E16*MIN($B16/1,$J16*Q$9/$O$20,$K16*Q$9/$O$20,$L16/1.25) -> 0 | R16: =$E16*MIN($B16/1,$J16*R$9/$O$20,$K16*R$9/$O$20,$L16/1.25) -> 0 | S16: =$E16*MIN($B16/1,$J16*S$9/$O$20,$K16*S$9/$O$20,$L16/1.25) -> 0
A17: RICON S 290/80 VS st | B17: 9 | C17: 210 | D17: =C17/2 -> 105 | E17: =Q33 -> 0 | F17: =Zwischenrechnung!D25 -> 100 | G17: =VLOOKUP(F17,$P$61:$Q$63,2,FALSE) -> 85 | H17: =VLOOKUP(D47,$P$44:$Q$46,2,FALSE) -> 85 | I17: =Zwischenrechnung!F25 -> 10 | J17: =(0.52*SQRT(I17)*(G17)^0.9*$B$22^0.8)/1000 -> 10.491775 | K17: =(IF(H17>=100,$K$21,$K$22)*0.52*SQRT(I17)*H17^0.9*$B$21^0.8)/1000 -> 3.1475324 | L17: 32 | M17: =E17*MIN(B17,J17,K17,L17) -> 0 | N17: RICON S 290/80 VS st | O17: =$E17*MIN($B17/1,$J17*O$9/$O$20,$K17*O$9/$O$20,$L17/1.25) -> 0 | P17: =$E17*MIN($B17/1,$J17*P$9/$O$20,$K17*P$9/$O$20,$L17/1.25) -> 0 | Q17: =$E17*MIN($B17/1,$J17*Q$9/$O$20,$K17*Q$9/$O$20,$L17/1.25) -> 0 | R17: =$E17*MIN($B17/1,$J17*R$9/$O$20,$K17*R$9/$O$20,$L17/1.25) -> 0 | S17: =$E17*MIN($B17/1,$J17*S$9/$O$20,$K17*S$9/$O$20,$L17/1.25) -> 0
A18: RICON S 390x80 VS+ZP | B18: 9 | C18: 210 | D18: =C18/2 -> 105 | E18: =Q34 -> 0 | F18: =Zwischenrechnung!D26 -> 100 | G18: =VLOOKUP(F18,$P$61:$Q$63,2,FALSE) -> 85 | H18: =VLOOKUP(H49,$P$44:$Q$46,2,FALSE) -> 180 | I18: =Zwischenrechnung!F26 -> 10 | J18: =(0.52*SQRT(I18)*(G18)^0.9*$B$22^0.8)/1000 -> 10.491775 | K18: =(IF(H18>=100,$K$21,$K$22)*0.52*SQRT(I18)*H18^0.9*$B$21^0.8)/1000 -> 12.367116 | L18: 32 | M18: =E18*MIN(B18,J18,K18,L18) -> 0 | N18: RICON S 390x80 VS+ZP | O18: =$E18*MIN($B18/1,$J18*O$9/$O$20,$K18*O$9/$O$20,$L18/1.25) -> 0 | P18: =$E18*MIN($B18/1,$J18*P$9/$O$20,$K18*P$9/$O$20,$L18/1.25) -> 0 | Q18: =$E18*MIN($B18/1,$J18*Q$9/$O$20,$K18*Q$9/$O$20,$L18/1.25) -> 0 | R18: =$E18*MIN($B18/1,$J18*R$9/$O$20,$K18*R$9/$O$20,$L18/1.25) -> 0 | S18: =$E18*MIN($B18/1,$J18*S$9/$O$20,$K18*S$9/$O$20,$L18/1.25) -> 0
A19: RICON S 390x80 VS+ZP max | B19: 9 | C19: 210 | D19: =C19/2 -> 105 | E19: =Q35 -> 0 | F19: =Zwischenrechnung!D27 -> 100 | G19: =VLOOKUP(F19,$P$61:$Q$63,2,FALSE) -> 85 | H19: =VLOOKUP(H51,$P$44:$Q$46,2,FALSE) -> 180 | I19: =Zwischenrechnung!F27 -> 10 | J19: =(0.52*SQRT(I19)*(G19)^0.9*$B$22^0.8)/1000 -> 10.491775 | K19: =(IF(H19>=100,$K$21,$K$22)*0.52*SQRT(I19)*H19^0.9*$B$21^0.8)/1000 -> 12.367116 | L19: 32 | M19: =E19*MIN(B19,J19,K19,L19) -> 0 | N19: RICON S 390x80 VS+ZP max | O19: =$E19*MIN($B19/1,$J19*O$9/$O$20,$K19*O$9/$O$20,$L19/1.25) -> 0 | P19: =$E19*MIN($B19/1,$J19*P$9/$O$20,$K19*P$9/$O$20,$L19/1.25) -> 0 | Q19: =$E19*MIN($B19/1,$J19*Q$9/$O$20,$K19*Q$9/$O$20,$L19/1.25) -> 0 | R19: =$E19*MIN($B19/1,$J19*R$9/$O$20,$K19*R$9/$O$20,$L19/1.25) -> 0 | S19: =$E19*MIN($B19/1,$J19*S$9/$O$20,$K19*S$9/$O$20,$L19/1.25) -> 0
I20: Winkel a = | J20: 90 | K20: =90-Bemessung!B34 -> 0 | N20: Partial factor for material properties gM = | O20: =Bemessung!G24 -> 1.3
A21: characteristic density rk = | B21: =MIN(Bemessung!B36,590) -> 385 | C21: kg/m³ | D21: =Bemessung!B35 -> GL24h | E21: Joist | I21: kax = | J21: 1 | K21: =IF(K20>45,1,0.6+0.4*K20/45) -> 0.6 | L21: screws length ≥ 100mm
A22: characteristic density rk = | B22: =Bemessung!B38 -> 385 | C22: kg/m³ | D22: =Bemessung!B37 -> GL24h | E22: Header | I22: kax = | J22: 1 | K22: =IF(K20>45,1,0.3+0.7*K20/45) -> 0.3 | L22: screws length < 100mm | N22: Height joist HN = | O22: =Bemessung!E83 -> 0
N23: Distance t1 = | O23: =Bemessung!B80 -> 40 | P23: Distance t2 = | Q23: =Bemessung!B80 -> 40
A25: Load direction F2 in the direction of insertion | N25: Knapp Connector | O25: Abstand ac | P25: Abstand e1 | Q25: nef
N26: RICON S 140/60 VS min | O26: 59 | P26: =MIN($O$22/2-$Q$23,$O$22/2-$O$23,O26-$O$22/2+$Q$23,O26-$O$22/2+$O$23) -> -40 | Q26: =IF(Bemessung!$B$28="RICON S 140/60 VS min",O26/(O26-P26),0)*2 -> 0
A27: RICON S VS Connector | N27: RICON S 140/60 VS st | O27: 60 | P27: =MIN($O$22/2-$Q$23,$O$22/2-$O$23,O27-$O$22/2+$Q$23,O27-$O$22/2+$O$23) -> -40 | Q27: =IF(Bemessung!$B$28="RICON S 140/60 VS st",O27/(O27-P27),0)*2 -> 0
N28: RICON S 200/60 VS min | O28: 119 | P28: =MIN($O$22/2-$Q$23,$O$22/2-$O$23,O28-$O$22/2+$Q$23,O28-$O$22/2+$O$23) -> -40 | Q28: =IF(Bemessung!$B$28="RICON S 200/60 VS min",O28/(O28-P28),0)*2 -> 0
A29: characteristic density rk = | B29: =B21 -> 385 | C29: kg/m³ | D29: =Bemessung!B35 -> GL24h | E29: Joist | N29: RICON S 200/60 VS st | O29: 120 | P29: =MIN($O$22/2-$Q$23,$O$22/2-$O$23,O29-$O$22/2+$Q$23,O29-$O$22/2+$O$23) -> -40 | Q29: =IF(Bemessung!$B$28="RICON S 200/60 VS st",O29/(O29-P29),0)*2 -> 0
A30: characteristic density rk = | B30: =Bemessung!$B$38 -> 385 | C30: kg/m³ | D30: =Bemessung!$B$37 -> GL24h | E30: Header | N30: RICON S 200/80 VS min | O30: 119 | P30: =MIN($O$22/2-$Q$23,$O$22/2-$O$23,O30-$O$22/2+$Q$23,O30-$O$22/2+$O$23) -> -40 | Q30: =IF(Bemessung!$B$28="RICON S 200/80 VS min",O30/(O30-P30),0)*2 -> 0
A31: char. yield moment My,Rk = | B31: =Zwischenrechnung!L23*1000 -> 35000 | C31: =Zwischenrechnung!L19*1000 -> 20000 | D31: Nmm | E31: =Bemessung!B39 -> ETA-10/0189 | N31: RICON S 200/80 VS st | O31: 120 | P31: =MIN($O$22/2-$Q$23,$O$22/2-$O$23,O31-$O$22/2+$Q$23,O31-$O$22/2+$O$23) -> -40 | Q31: =IF(Bemessung!$B$28="RICON S 200/80 VS st",O31/(O31-P31),0)*2 -> 1.5
A32: outer thread diameter d = | B32: 10 | C32: 8 | D32: mm | N32: RICON S 290/80 VS min | O32: 209 | P32: =MIN($O$22/2-$Q$23,$O$22/2-$O$23,O32-$O$22/2+$Q$23,O32-$O$22/2+$O$23) -> -40 | Q32: =IF(Bemessung!$B$28="RICON S 290/80 VS min",O32/(O32-P32),0)*2 -> 0
A33: Embedding strength fh,J,k = | B33: =0.082*$B$32^-0.3*$B$29/(2.5*COS(RADIANS($K$20))^2+SIN(RADIANS($K$20))^2) -> 6.3289924 | C33: =0.082*$C$32^-0.3*$B$29/(2.5*COS(RADIANS($K$20))^2+SIN(RADIANS($K$20))^2) -> 6.7671776 | D33: N/mm² | N33: RICON S 290/80 VS st | O33: 210 | P33: =MIN($O$22/2-$Q$23,$O$22/2-$O$23,O33-$O$22/2+$Q$23,O33-$O$22/2+$O$23) -> -40 | Q33: =IF(Bemessung!$B$28="RICON S 290/80 VS st",O33/(O33-P33),0)*2 -> 0
A34: Embedding strength fh,H,k = | B34: =0.082*$B$32^-0.3*$B$30 -> 15.822481 | C34: =0.082*$C$32^-0.3*$B$30 -> 16.917944 | D34: N/mm² | N34: RICON S 390x80 VS+ZP | O34: 270 | P34: =MIN($O$22/2-$Q$23,$O$22/2-$O$23,O34-$O$22/2+$Q$23,O34-$O$22/2+$O$23) -> -40 | Q34: =IF(Bemessung!$B$28="RICON S 390x80 VS+ZP",O34/(O34-P34),0)*2 -> 0
N35: RICON S 390x80 VS+ZP max | O35: 270 | P35: =MIN($O$22/2-$Q$23,$O$22/2-$O$23,O35-$O$22/2+$Q$23,O35-$O$22/2+$O$23) -> -40 | Q35: =IF(Bemessung!$B$28="RICON S 390x80 VS+ZP max",O35/(O35-P35),0)*2 -> 0
O37: RICON S60 Screws in joist
A38: Knapp Connector | B38: n | C38: d | D38: L(J) | E38: lef | F38: Fax,J,RK | G38: Fv,J,Rk | H38: S Fv,J,Rk | O38: d [mm] | P38: L [mm] | Q38: lef [mm]
B39: [pcs] | C39: [mm] | D39: [mm] | E39: [mm] | F39: [kN] | G39: [kN] | H39: [kN] | O39: 8 | P39: 80 | Q39: 70
A40: RICON S 140/60 VS min | B40: =Zwischenrechnung!E18 -> 7 | C40: =Zwischenrechnung!F18 -> 8 | D40: =Zwischenrechnung!G18 -> 160 | E40: =VLOOKUP(D40,$P$39:$Q$41,2,FALSE) -> 145 | F40: =(IF(E40>=100,$J$53,$J$54)*0.52*SQRT(C40)*E40^0.9*$B$29^0.8)/1000 -> 9.1054072 | G40: =MIN($C$32*$C$33*E40/1000,(2.3*SQRT($C$31*$C$32*$C$33))/1000+(F40/4),$C$32*$C$33*E40/1000*(SQRT(2+4*$C$31/($C$32*$C$33*E40^2))-1)+F40/4) -> 4.6696214 | H40: =B40^0.9*G40 -> 26.907286 | I40: = n0,9 x FV,J,RK | O40: 8 | P40: 160 | Q40: 145
A41: RICON S 140/60 VS st | B41: =Zwischenrechnung!E19 -> 10 | C41: =Zwischenrechnung!F19 -> 8 | D41: =Zwischenrechnung!G19 -> 160 | E41: =VLOOKUP(D41,$P$39:$Q$41,2,FALSE) -> 145 | F41: =(IF(E41>=100,$J$53,$J$54)*0.52*SQRT(C41)*E41^0.9*$B$29^0.8)/1000 -> 9.1054072 | G41: =MIN($C$32*$C$33*E41/1000,(2.3*SQRT($C$31*$C$32*$C$33))/1000+(F41/4),$C$32*$C$33*E41/1000*(SQRT(2+4*$C$31/($C$32*$C$33*E41^2))-1)+F41/4) -> 4.6696214 | H41: =B41^0.9*G41 -> 37.092121 | I41: = n0,9 x FV,J,RK | O41: 8 | P41: 240 | Q41: 225
A42: RICON S 200/60 VS min | B42: =Zwischenrechnung!E20 -> 8 | C42: =Zwischenrechnung!F20 -> 8 | D42: =Zwischenrechnung!G20 -> 160 | E42: =VLOOKUP(D42,$P$39:$Q$41,2,FALSE) -> 145 | F42: =(IF(E42>=100,$J$53,$J$54)*0.52*SQRT(C42)*E42^0.9*$B$29^0.8)/1000 -> 9.1054072 | G42: =MIN($C$32*$C$33*E42/1000,(2.3*SQRT($C$31*$C$32*$C$33))/1000+(F42/4),$C$32*$C$33*E42/1000*(SQRT(2+4*$C$31/($C$32*$C$33*E42^2))-1)+F42/4) -> 4.6696214 | H42: =B42^0.9*G42 -> 30.343289 | I42: = n0,9 x FV,J,RK | O42: RICON S80 Screws in joist | R42: RI-S 390x80 ZP
A43: RICON S 200/60 VS st | B43: =Zwischenrechnung!E21 -> 16 | C43: =Zwischenrechnung!F21 -> 8 | D43: =Zwischenrechnung!G21 -> 160 | E43: =VLOOKUP(D43,$P$39:$Q$41,2,FALSE) -> 145 | F43: =(IF(E43>=100,$J$53,$J$54)*0.52*SQRT(C43)*E43^0.9*$B$29^0.8)/1000 -> 9.1054072 | G43: =MIN($C$32*$C$33*E43/1000,(2.3*SQRT($C$31*$C$32*$C$33))/1000+(F43/4),$C$32*$C$33*E43/1000*(SQRT(2+4*$C$31/($C$32*$C$33*E43^2))-1)+F43/4) -> 4.6696214 | H43: =B43^0.9*G43 -> 56.62258 | I43: = n0,9 x FV,J,RK | O43: d [mm] | P43: L [mm] | Q43: lef [mm] | R43: lef [mm]
A44: RICON S 200/80 VS min | B44: =Zwischenrechnung!E22 -> 8 | C44: =Zwischenrechnung!F22 -> 10 | D44: =Zwischenrechnung!G22 -> 200 | E44: =VLOOKUP(D44,$P$44:$Q$46,2,FALSE) -> 180 | F44: =(IF(E44>=100,$J$53,$J$54)*0.52*SQRT(C44)*E44^0.9*$B$29^0.8)/1000 -> 12.367116 | G44: =MIN($B$32*$B$33*E44/1000,(2.3*SQRT($B$31*$B$32*$B$33))/1000+(F44/4),$B$32*$B$33*E44/1000*(SQRT(2+4*$B$31/($B$32*$B$33*E44^2))-1)+F44/4) -> 6.5149543 | H44: =B44^0.9*G44 -> 42.334298 | I44: = n0,9 x FV,J,RK | O44: 10 | P44: 100 | Q44: 85 | R44: =P44-25 -> 75
...

Sheet Herleitung_Stützen-Anschlüsse
A1: Eingabe
A2: Verknüpfte Eingabe
A4: Load direction F1 perpendicular to the connector plate
A6: RICON S VS Connector
L7: =Bemessung!C39 -> 0
A8: Knapp Connector | B8: F1,KCC,RK | C8: ac | D8: e1 | E8: nef | F8: l (H) | G8: lef (H) | H8: lef (J) | I8: d | J8: Fax,Rk (H) | K8: Fax,Rk (J) | L8: ftens,k | M8: F1,Rk | N8: Knapp Connector | O8: Tensile Force F1,Rd [kN]
B9: [kN] | C9: [mm] | D9: [mm] | E9: [pcs] | F9: [mm] | G9: [mm] | H9: [mm] | I9: [mm] | J9: [kN] | K9: [kN] | L9: [kN] | M9: [kN] | O9: 0.6 | P9: 0.7 | Q9: 0.8 | R9: 0.9 | S9: 1
A10: RICON S 140/60 VS min | B10: 9 | C10: 60 | D10: =C10/2 -> 30 | E10: =Q26 -> 0 | F10: =Zwischenrechnung!J18 -> 80 | G10: =Zwischenrechnung!D18-10 -> 70 | H10: =IF(Zwischenrechnung!G18=80,Zwischenrechnung!G18-10,Zwischenrechnung!G18-15) -> 145 | I10: =Zwischenrechnung!F18 -> 8 | J10: =(0.52*SQRT(I10)*(G10)^0.9*$B$22^0.8)/1000 -> 7.8796179 | K10: =(IF(H10>=100,$K$21,$K$22)*0.52*SQRT(I10)*H10^0.9*$B$21^0.8)/1000 -> 9.1054072 | L10: 22 | M10: =E10*MIN(B10,J10,K10,L10) -> 0 | N10: RICON S 140/60 VS min | O10: =$E10*MIN($B10/1,$J10*O$9/$O$20,$K10*O$9/$O$20,$L10/1.25) -> 0 | P10: =$E10*MIN($B10/1,$J10*P$9/$O$20,$K10*P$9/$O$20,$L10/1.25) -> 0 | Q10: =$E10*MIN($B10/1,$J10*Q$9/$O$20,$K10*Q$9/$O$20,$L10/1.25) -> 0 | R10: =$E10*MIN($B10/1,$J10*R$9/$O$20,$K10*R$9/$O$20,$L10/1.25) -> 0 | S10: =$E10*MIN($B10/1,$J10*S$9/$O$20,$K10*S$9/$O$20,$L10/1.25) -> 0
A11: RICON S 140/60 VS st | B11: 9 | C11: 60 | D11: =C11/2 -> 30 | E11: =Q27 -> 0 | F11: =Zwischenrechnung!J19 -> 80 | G11: =Zwischenrechnung!D19-10 -> 70 | H11: =IF(Zwischenrechnung!G19=80,Zwischenrechnung!G19-10,Zwischenrechnung!G19-15) -> 145 | I11: =Zwischenrechnung!F19 -> 8 | J11: =(0.52*SQRT(I11)*(G11)^0.9*$B$22^0.8)/1000 -> 7.8796179 | K11: =(IF(H11>=100,$K$21,$K$22)*0.52*SQRT(I11)*H11^0.9*$B$21^0.8)/1000 -> 9.1054072 | L11: 23 | M11: =E11*MIN(B11,J11,K11,L11) -> 0 | N11: RICON S 140/60 VS st | O11: =$E11*MIN($B11/1,$J11*O$9/$O$20,$K11*O$9/$O$20,$L11/1.25) -> 0 | P11: =$E11*MIN($B11/1,$J11*P$9/$O$20,$K11*P$9/$O$20,$L11/1.25) -> 0 | Q11: =$E11*MIN($B11/1,$J11*Q$9/$O$20,$K11*Q$9/$O$20,$L11/1.25) -> 0 | R11: =$E11*MIN($B11/1,$J11*R$9/$O$20,$K11*R$9/$O$20,$L11/1.25) -> 0 | S11: =$E11*MIN($B11/1,$J11*S$9/$O$20,$K11*S$9/$O$20,$L11/1.25) -> 0
A12: RICON S 200/60 VS min | B12: 9 | C12: 120 | D12: =C12/2 -> 60 | E12: =Q28 -> 0 | F12: =Zwischenrechnung!J20 -> 80 | G12: =Zwischenrechnung!D20-10 -> 70 | H12: =IF(Zwischenrechnung!G20=80,Zwischenrechnung!G20-10,Zwischenrechnung!G20-15) -> 145 | I12: =Zwischenrechnung!F20 -> 8 | J12: =(0.52*SQRT(I12)*(G12)^0.9*$B$22^0.8)/1000 -> 7.8796179 | K12: =(IF(H12>=100,$K$21,$K$22)*0.52*SQRT(I12)*H12^0.9*$B$21^0.8)/1000 -> 9.1054072 | L12: 22 | M12: =E12*MIN(B12,J12,K12,L12) -> 0 | N12: RICON S 200/60 VS min | O12: =$E12*MIN($B12/1,$J12*O$9/$O$20,$K12*O$9/$O$20,$L12/1.25) -> 0 | P12: =$E12*MIN($B12/1,$J12*P$9/$O$20,$K12*P$9/$O$20,$L12/1.25) -> 0 | Q12: =$E12*MIN($B12/1,$J12*Q$9/$O$20,$K12*Q$9/$O$20,$L12/1.25) -> 0 | R12: =$E12*MIN($B12/1,$J12*R$9/$O$20,$K12*R$9/$O$20,$L12/1.25) -> 0 | S12: =$E12*MIN($B12/1,$J12*S$9/$O$20,$K12*S$9/$O$20,$L12/1.25) -> 0
A13: RICON S 200/60 VS st | B13: 9 | C13: 120 | D13: =C13/2 -> 60 | E13: =Q29 -> 0 | F13: =Zwischenrechnung!J21 -> 80 | G13: =Zwischenrechnung!D21-10 -> 70 | H13: =IF(Zwischenrechnung!G21=80,Zwischenrechnung!G21-10,Zwischenrechnung!G21-15) -> 145 | I13: =Zwischenrechnung!F21 -> 8 | J13: =(0.52*SQRT(I13)*(G13)^0.9*$B$22^0.8)/1000 -> 7.8796179 | K13: =(IF(H13>=100,$K$21,$K$22)*0.52*SQRT(I13)*H13^0.9*$B$21^0.8)/1000 -> 9.1054072 | L13: 23 | M13: =E13*MIN(B13,J13,K13,L13) -> 0 | N13: RICON S 200/60 VS st | O13: =$E13*MIN($B13/1,$J13*O$9/$O$20,$K13*O$9/$O$20,$L13/1.25) -> 0 | P13: =$E13*MIN($B13/1,$J13*P$9/$O$20,$K13*P$9/$O$20,$L13/1.25) -> 0 | Q13: =$E13*MIN($B13/1,$J13*Q$9/$O$20,$K13*Q$9/$O$20,$L13/1.25) -> 0 | R13: =$E13*MIN($B13/1,$J13*R$9/$O$20,$K13*R$9/$O$20,$L13/1.25) -> 0 | S13: =$E13*MIN($B13/1,$J13*S$9/$O$20,$K13*S$9/$O$20,$L13/1.25) -> 0
A14: RICON S 200/80 VS min | B14: 9 | C14: 120 | D14: =C14/2 -> 60 | E14: =Q30 -> 0 | F14: =Zwischenrechnung!J22 -> 100 | G14: =VLOOKUP(F14,$P$102:$Q$104,2,FALSE) -> 85 | H14: =IF(Zwischenrechnung!G22=100,Zwischenrechnung!G22-15,Zwischenrechnung!G22-20) -> 180 | I14: =Zwischenrechnung!F22 -> 10 | J14: =(0.52*SQRT(I14)*(G14)^0.9*$B$22^0.8)/1000 -> 10.491775 | K14: =(IF(H14>=100,$K$21,$K$22)*0.52*SQRT(I14)*H14^0.9*$B$21^0.8)/1000 -> 12.367116 | L14: 31 | M14: =E14*MIN(B14,J14,K14,L14) -> 0 | N14: RICON S 200/80 VS min | O14: =$E14*MIN($B14/1,$J14*O$9/$O$20,$K14*O$9/$O$20,$L14/1.25) -> 0 | P14: =$E14*MIN($B14/1,$J14*P$9/$O$20,$K14*P$9/$O$20,$L14/1.25) -> 0 | Q14: =$E14*MIN($B14/1,$J14*Q$9/$O$20,$K14*Q$9/$O$20,$L14/1.25) -> 0 | R14: =$E14*MIN($B14/1,$J14*R$9/$O$20,$K14*R$9/$O$20,$L14/1.25) -> 0 | S14: =$E14*MIN($B14/1,$J14*S$9/$O$20,$K14*S$9/$O$20,$L14/1.25) -> 0
A15: RICON S 200/80 VS st | B15: 9 | C15: 120 | D15: =C15/2 -> 60 | E15: =Q31 -> 1.5 | F15: =Zwischenrechnung!J23 -> 100 | G15: =VLOOKUP(F15,$P$102:$Q$104,2,FALSE) -> 85 | H15: =IF(Zwischenrechnung!G23=100,Zwischenrechnung!G23-15,Zwischenrechnung!G23-20) -> 280 | I15: =Zwischenrechnung!F23 -> 10 | J15: =(0.52*SQRT(I15)*(G15)^0.9*$B$22^0.8)/1000 -> 10.491775 | K15: =(IF(H15>=100,$K$21,$K$22)*0.52*SQRT(I15)*H15^0.9*$B$21^0.8)/1000 -> 18.406254 | L15: 32 | M15: =E15*MIN(B15,J15,K15,L15) -> 13.5 | N15: RICON S 200/80 VS st | O15: =$E15*MIN($B15/1,$J15*O$9/$O$20,$K15*O$9/$O$20,$L15/1.25) -> 7.2635364 | P15: =$E15*MIN($B15/1,$J15*P$9/$O$20,$K15*P$9/$O$20,$L15/1.25) -> 8.4741258 | Q15: =$E15*MIN($B15/1,$J15*Q$9/$O$20,$K15*Q$9/$O$20,$L15/1.25) -> 9.6847152 | R15: =$E15*MIN($B15/1,$J15*R$9/$O$20,$K15*R$9/$O$20,$L15/1.25) -> 10.895305 | S15: =$E15*MIN($B15/1,$J15*S$9/$O$20,$K15*S$9/$O$20,$L15/1.25) -> 12.105894
A16: RICON S 290/80 VS min | B16: 9 | C16: 210 | D16: =C16/2 -> 105 | E16: =Q32 -> 0 | F16: =Zwischenrechnung!J24 -> 100 | G16: =VLOOKUP(F16,$P$102:$Q$104,2,FALSE) -> 85 | H16: =IF(Zwischenrechnung!G24=100,Zwischenrechnung!G24-15,Zwischenrechnung!G24-20) -> 180 | I16: =Zwischenrechnung!F24 -> 10 | J16: =(0.52*SQRT(I16)*(G16)^0.9*$B$22^0.8)/1000 -> 10.491775 | K16: =(IF(H16>=100,$K$21,$K$22)*0.52*SQRT(I16)*H16^0.9*$B$21^0.8)/1000 -> 12.367116 | L16: 31 | M16: =E16*MIN(B16,J16,K16,L16) -> 0 | N16: RICON S 290/80 VS min | O16: =$E16*MIN($B16/1,$J16*O$9/$O$20,$K16*O$9/$O$20,$L16/1.25) -> 0 | P16: =$E16*MIN($B16/1,$J16*P$9/$O$20,$K16*P$9/$O$20,$L16/1.25) -> 0 | Q16: =$E16*MIN($B16/1,$J16*Q$9/$O$20,$K16*Q$9/$O$20,$L16/1.25) -> 0 | R16: =$E16*MIN($B16/1,$J16*R$9/$O$20,$K16*R$9/$O$20,$L16/1.25) -> 0 | S16: =$E16*MIN($B16/1,$J16*S$9/$O$20,$K16*S$9/$O$20,$L16/1.25) -> 0
A17: RICON S 290/80 VS st | B17: 9 | C17: 210 | D17: =C17/2 -> 105 | E17: =Q33 -> 0 | F17: =Zwischenrechnung!J25 -> 100 | G17: =VLOOKUP(F17,$P$102:$Q$104,2,FALSE) -> 85 | H17: =IF(Zwischenrechnung!G25=100,Zwischenrechnung!G25-15,Zwischenrechnung!G25-20) -> 85 | I17: =Zwischenrechnung!F25 -> 10 | J17: =(0.52*SQRT(I17)*(G17)^0.9*$B$22^0.8)/1000 -> 10.491775 | K17: =(IF(H17>=100,$K$21,$K$22)*0.52*SQRT(I17)*H17^0.9*$B$21^0.8)/1000 -> 3.1475324 | L17: 32 | M17: =E17*MIN(B17,J17,K17,L17) -> 0 | N17: RICON S 290/80 VS st | O17: =$E17*MIN($B17/1,$J17*O$9/$O$20,$K17*O$9/$O$20,$L17/1.25) -> 0 | P17: =$E17*MIN($B17/1,$J17*P$9/$O$20,$K17*P$9/$O$20,$L17/1.25) -> 0 | Q17: =$E17*MIN($B17/1,$J17*Q$9/$O$20,$K17*Q$9/$O$20,$L17/1.25) -> 0 | R17: =$E17*MIN($B17/1,$J17*R$9/$O$20,$K17*R$9/$O$20,$L17/1.25) -> 0 | S17: =$E17*MIN($B17/1,$J17*S$9/$O$20,$K17*S$9/$O$20,$L17/1.25) -> 0
A18: RICON S 390x80 VS+ZP | B18: 9 | C18: 210 | D18: =C18/2 -> 105 | E18: =Q34 -> 0 | F18: =Zwischenrechnung!J26 -> 100 | G18: =VLOOKUP(F18,$P$102:$Q$104,2,FALSE) -> 85 | H18: =IF(Zwischenrechnung!G26=100,Zwischenrechnung!G26-15,Zwischenrechnung!G26-20) -> 180 | I18: =Zwischenrechnung!F26 -> 10 | J18: =(0.52*SQRT(I18)*(G18)^0.9*$B$22^0.8)/1000 -> 10.491775 | K18: =(IF(H18>=100,$K$21,$K$22)*0.52*SQRT(I18)*H18^0.9*$B$21^0.8)/1000 -> 12.367116 | L18: 32 | M18: =E18*MIN(B18,J18,K18,L18) -> 0 | N18: RICON S 390x80 VS+ZP | O18: =$E18*MIN($B18/1,$J18*O$9/$O$20,$K18*O$9/$O$20,$L18/1.25) -> 0 | P18: =$E18*MIN($B18/1,$J18*P$9/$O$20,$K18*P$9/$O$20,$L18/1.25) -> 0 | Q18: =$E18*MIN($B18/1,$J18*Q$9/$O$20,$K18*Q$9/$O$20,$L18/1.25) -> 0 | R18: =$E18*MIN($B18/1,$J18*R$9/$O$20,$K18*R$9/$O$20,$L18/1.25) -> 0 | S18: =$E18*MIN($B18/1,$J18*S$9/$O$20,$K18*S$9/$O$20,$L18/1.25) -> 0
A19: RICON S 390x80 VS+ZP max | B19: 9 | C19: 210 | D19: =C19/2 -> 105 | E19: =Q35 -> 0 | F19: =Zwischenrechnung!J27 -> 100 | G19: =VLOOKUP(F19,$P$102:$Q$104,2,FALSE) -> 85 | H19: =IF(Zwischenrechnung!G27=100,Zwischenrechnung!G27-15,Zwischenrechnung!G27-20) -> 180 | I19: =Zwischenrechnung!F27 -> 10 | J19: =(0.52*SQRT(I19)*(G19)^0.9*$B$22^0.8)/1000 -> 10.491775 | K19: =(IF(H19>=100,$K$21,$K$22)*0.52*SQRT(I19)*H19^0.9*$B$21^0.8)/1000 -> 12.367116 | L19: 32 | M19: =E19*MIN(B19,J19,K19,L19) -> 0 | N19: RICON S 390x80 VS+ZP max | O19: =$E19*MIN($B19/1,$J19*O$9/$O$20,$K19*O$9/$O$20,$L19/1.25) -> 0 | P19: =$E19*MIN($B19/1,$J19*P$9/$O$20,$K19*P$9/$O$20,$L19/1.25) -> 0 | Q19: =$E19*MIN($B19/1,$J19*Q$9/$O$20,$K19*Q$9/$O$20,$L19/1.25) -> 0 | R19: =$E19*MIN($B19/1,$J19*R$9/$O$20,$K19*R$9/$O$20,$L19/1.25) -> 0 | S19: =$E19*MIN($B19/1,$J19*S$9/$O$20,$K19*S$9/$O$20,$L19/1.25) -> 0
I20: Winkel a = | J20: 90 | K20: =90-Bemessung!B34 -> 0 | N20: Partial factor for material properties gM = | O20: =Bemessung!G24 -> 1.3
A21: characteristic density rk = | B21: =MIN(Bemessung!B36,590) -> 385 | C21: kg/m³ | D21: =Bemessung!B35 -> GL24h | E21: Joist | I21: kax = | J21: 1 | K21: =IF(K20>45,1,0.6+0.4*K20/45) -> 0.6 | L21: screws length ≥ 100mm
A22: characteristic density rk = | B22: =Bemessung!B38 -> 385 | C22: kg/m³ | D22: =Bemessung!B37 -> GL24h | E22: Column | I22: kax = | J22: 1 | K22: =IF(K20>45,1,0.3+0.7*K20/45) -> 0.3 | L22: screws length < 100mm | N22: Height joist HN = | O22: =Bemessung!E83 -> 0
N23: Distance t1 = | O23: =Bemessung!B80 -> 40 | P23: Distance t2 = | Q23: =Bemessung!B80 -> 40
N25: Knapp Connector | O25: Abstand ac | P25: Abstand e1 | Q25: nef
N26: RICON S 140/60 VS min | O26: 59 | P26: =MIN($O$22/2-$Q$23,$O$22/2-$O$23,O26-$O$22/2+$Q$23,O26-$O$22/2+$O$23) -> -40 | Q26: =IF(Bemessung!$B$28="RICON S 140/60 VS min",O26/(O26-P26),0)*2 -> 0
N27: RICON S 140/60 VS st | O27: 60 | P27: =MIN($O$22/2-$Q$23,$O$22/2-$O$23,O27-$O$22/2+$Q$23,O27-$O$22/2+$O$23) -> -40 | Q27: =IF(Bemessung!$B$28="RICON S 140/60 VS st",O27/(O27-P27),0)*2 -> 0
N28: RICON S 200/60 VS min | O28: 119 | P28: =MIN($O$22/2-$Q$23,$O$22/2-$O$23,O28-$O$22/2+$Q$23,O28-$O$22/2+$O$23) -> -40 | Q28: =IF(Bemessung!$B$28="RICON S 200/60 VS min",O28/(O28-P28),0)*2 -> 0
N29: RICON S 200/60 VS st | O29: 120 | P29: =MIN($O$22/2-$Q$23,$O$22/2-$O$23,O29-$O$22/2+$Q$23,O29-$O$22/2+$O$23) -> -40 | Q29: =IF(Bemessung!$B$28="RICON S 200/60 VS st",O29/(O29-P29),0)*2 -> 0
N30: RICON S 200/80 VS min | O30: 119 | P30: =MIN($O$22/2-$Q$23,$O$22/2-$O$23,O30-$O$22/2+$Q$23,O30-$O$22/2+$O$23) -> -40 | Q30: =IF(Bemessung!$B$28="RICON S 200/80 VS min",O30/(O30-P30),0)*2 -> 0
N31: RICON S 200/80 VS st | O31: 120 | P31: =MIN($O$22/2-$Q$23,$O$22/2-$O$23,O31-$O$22/2+$Q$23,O31-$O$22/2+$O$23) -> -40 | Q31: =IF(Bemessung!$B$28="RICON S 200/80 VS st",O31/(O31-P31),0)*2 -> 1.5
N32: RICON S 290/80 VS min | O32: 209 | P32: =MIN($O$22/2-$Q$23,$O$22/2-$O$23,O32-$O$22/2+$Q$23,O32-$O$22/2+$O$23) -> -40 | Q32: =IF(Bemessung!$B$28="RICON S 290/80 VS min",O32/(O32-P32),0)*2 -> 0
N33: RICON S 290/80 VS st | O33: 210 | P33: =MIN($O$22/2-$Q$23,$O$22/2-$O$23,O33-$O$22/2+$Q$23,O33-$O$22/2+$O$23) -> -40 | Q33: =IF(Bemessung!$B$28="RICON S 290/80 VS st",O33/(O33-P33),0)*2 -> 0
N34: RICON S 390x80 VS+ZP | O34: 270 | P34: =MIN($O$22/2-$Q$23,$O$22/2-$O$23,O34-$O$22/2+$Q$23,O34-$O$22/2+$O$23) -> -40 | Q34: =IF(Bemessung!$B$28="RICON S 390x80 VS+ZP",O34/(O34-P34),0)*2 -> 0
N35: RICON S 390x80 VS+ZP max | O35: 270 | P35: =MIN($O$22/2-$Q$23,$O$22/2-$O$23,O35-$O$22/2+$Q$23,O35-$O$22/2+$O$23) -> -40 | Q35: =IF(Bemessung!$B$28="RICON S 390x80 VS+ZP max",O35/(O35-P35),0)*2 -> 0
A37: Load direction F2 in the direction of insertion for column connection
A39: RICON S VS Connector
A41: characteristic density rk = | B41: =Bemessung!B36 -> 385 | C41: kg/m³ | D41: =Bemessung!B35 -> GL24h | E41: Joist | H41: Winkel a = | I41: =Bemessung!B34 -> 90 | J41: =90-I41 -> 0
A42: characteristic density rk = | B42: =Bemessung!B38 -> 385 | C42: kg/m³ | D42: =Bemessung!B37 -> GL24h | E42: Column
A43: char. yield moment My,Rk = | B43: ='Herleitung_HT-NT-Anschlüsse'!B31 -> 35000 | C43: ='Herleitung_HT-NT-Anschlüsse'!C31 -> 20000 | D43: Nmm
A44: outer thread diameter d = | B44: 10 | C44: 8 | D44: mm
A45: Embedding strength fh,J,k = | B45: =0.082*B44^-0.3*B41/(2.5*COS(RADIANS($J$41))^2+SIN(RADIANS($J$41))^2) -> 6.3289924 | C45: =0.082*C44^-0.3*B41/(2.5*COS(RADIANS($J$41))^2+SIN(RADIANS($J$41))^2) -> 6.7671776 | D45: N/mm²
A46: Embedding strength fh,H,k = | B46: =0.082*B44^-0.3*B42 -> 15.822481 | C46: =0.082*C44^-0.3*B42 -> 16.917944 | D46: N/mm²
...

Sheet Ausklinkungsbemessung
A1: Ausklinkungsberechnung nach EN 1995-1-1 Kap. 6.5.2:
A3: Holzart | B3: Schub fv,k | C3: Faktor kcr | D3: Faktor kn
B4: [N/mm²] | C4: [ - ] | D4: [ - ]
A5: C24 | B5: 2.3 | C5: 1 | D5: 5
A6: C30 | B6: 2.3 | C6: 1 | D6: 5
A7: GL24c | B7: 3.5 | C7: 0.714 | D7: 6.5
A8: GL24h | B8: 3.5 | C8: 0.714 | D8: 6.5
A9: GL28c | B9: 3.5 | C9: 0.714 | D9: 6.5
A10: GL28h | B10: 3.5 | C10: 0.714 | D10: 6.5
A11: GL30c | B11: 3.5 | C11: 0.714 | D11: 6.5
A12: GL30h | B12: 3.5 | C12: 0.714 | D12: 6.5
A13: GL32c | B13: 3.5 | C13: 0.714 | D13: 6.5
A14: GL32h | B14: 3.5 | C14: 0.714 | D14: 6.5
A15: CLT | B15: 3.5 | C15: 0.714 | D15: 6.5
A17: Höhe hef ermitteln:
D18: Schraubenlänge + Vertiefung L + t = | E18: =Bemessung!G126+Bemessung!C129 -> 0
A19: Verbinder | B19: RICON S Länge | C19: Abzug | D19: red. Länge | E19: hef
A20: RICON S 140/60 VS min | B20: 140 | C20: 40 | D20: =B20-C20 -> 100 | E20: =Bemessung!$D$79+Ausklinkungsbemessung!D20 -> 100
A21: RICON S 140/60 VS st | B21: 140 | C21: 40 | D21: =B21-C21 -> 100 | E21: =Bemessung!$D$79+Ausklinkungsbemessung!D21 -> 100
A22: RICON S 200/60 VS min | B22: 200 | C22: 40 | D22: =B22-C22 -> 160 | E22: =Bemessung!$D$79+Ausklinkungsbemessung!D22 -> 160
A23: RICON S 200/60 VS st | B23: 200 | C23: 40 | D23: =B23-C23 -> 160 | E23: =Bemessung!$D$79+Ausklinkungsbemessung!D23 -> 160
A24: RICON S 200/80 VS min | B24: 200 | C24: 40 | D24: =B24-C24 -> 160 | E24: =Bemessung!$D$79+Ausklinkungsbemessung!D24 -> 160
A25: RICON S 200/80 VS st | B25: 200 | C25: 40 | D25: =B25-C25 -> 160 | E25: =Bemessung!$D$79+Ausklinkungsbemessung!D25 -> 160
A26: RICON S 290/80 VS min | B26: 290 | C26: 40 | D26: =B26-C26 -> 250 | E26: =Bemessung!$D$79+Ausklinkungsbemessung!D26 -> 250
A27: RICON S 290/80 VS st | B27: 290 | C27: 40 | D27: =B27-C27 -> 250 | E27: =Bemessung!$D$79+Ausklinkungsbemessung!D27 -> 250
A28: RICON S 390x80 VS+ZP | B28: 390 | C28: 90 | D28: =B28-C28 -> 300 | E28: =Bemessung!$D$79+Ausklinkungsbemessung!D28 -> 300
A29: RICON S 390x80 VS+ZP max | B29: 390 | C29: -14 | D29: =B29-C29 -> 404 | E29: =Bemessung!$D$79+Ausklinkungsbemessung!D29 -> 404
A31: a = hef/HN = | B31: =B38/B37 -> #DIV/0! | C31: =IF(B31<0.6,"<0,6",IF(B31=0.6,"=0,6",">0,6")) -> #DIV/0! | D31: =IF(B31>0.6,"Das Ausklinkungsverhältnis ist eingehalten!","Das Ausklinkungsverhältnis ist nicht eingehalten. Bitte Verbinder weiter nach unten versetzen!") -> #DIV/0!
A32: Holzart: | B32: =VLOOKUP(Bemessung!$B$35,Ausklinkungsbemessung!$A$5:$D$15,1,FALSE) -> GL24h
A33: fv,k = | B33: =VLOOKUP(Bemessung!$B$35,Ausklinkungsbemessung!$A$5:$D$15,2,FALSE) -> 3.5 | C33: N/mm²
A34: kcr = | B34: =VLOOKUP(Bemessung!$B$35,Ausklinkungsbemessung!$A$5:$D$15,3,FALSE) -> 0.714
A35: kn = | B35: =VLOOKUP(Bemessung!$B$35,Ausklinkungsbemessung!$A$5:$D$15,4,FALSE) -> 6.5
A36: b = | B36: =Bemessung!C91 -> 0 | C36: mm
A37: HN = | B37: =Bemessung!E83 -> 0 | C37: mm
A38: hef = | B38: =IF(E18>Bemessung!B82,E18,Bemessung!B82) -> 160 | C38: mm | E38: hef | F38: hef,Scr | G38: hblfl
A39: hbefl = | B39: =IF(B38=E39,E39,IF(B38<=G39,F39,G39)) -> 160 | C39: mm | D39: hbefl | E39: =Bemessung!B82 -> 160 | F39: =E18 -> 0 | G39: =Bemessung!E83-Bemessung!C166 -> 0
A40: Faktor kv = | B40: =MIN(1,B35/(SQRT(B37)*(SQRT(B31*(1-B31))+0.8*(B41/B37)*SQRT((1/B31)-B31^2)))) -> #DIV/0!
A41: Abstand x = | B41: 50 | C41: mm
A43: Charakteristische Tragfähigkeit der Ausklinkung:
A44: FRk = | B44: =B36*B34*B38*B40*B33/(1.5*1000) -> #DIV/0! | C44: kN
...

Sheet Schraubenlängen
A1: Schraubenlängen für Querzugverstärkung der Nebenträger mit
A2: 8 | B2: Schrauben | F2: =Bemessung!F126 -> 0
A3: Typ1 | B3: Typ 2 | C3: Typ 3 | D3: Auswahl | F3: Endauswahl: | G3: =Bemessung!C127 -> Typ 1 | H3: =Bemessung!D127 -> ASSY [ ETA-11/0190]
A4: Längen L [mm] | B4: Längen L [mm] | C4: Längen L [mm] | D4: Längen L [mm] | F4: Längen L [mm]
A5: 160 | B5: 120 | C5: 120 | D5: =IF(AND(Bemessung!$C$127="Typ 1",Bemessung!$F$126=8),Schraubenlängen!A5,IF(AND(Bemessung!$C$127="Typ 2",Bemessung!$F$126=8),Schraubenlängen!B5,IF(AND(Bemessung!$C$127="Typ 3",Bemessung!$F$126=8),Schraubenlängen!C5,""))) | F5: =IF($F$2=8,D5,D32)
A6: 180 | B6: 140 | C6: 140 | D6: =IF(AND(Bemessung!$C$127="Typ 1",Bemessung!$F$126=8),Schraubenlängen!A6,IF(AND(Bemessung!$C$127="Typ 2",Bemessung!$F$126=8),Schraubenlängen!B6,IF(AND(Bemessung!$C$127="Typ 3",Bemessung!$F$126=8),Schraubenlängen!C6,""))) | F6: =IF($F$2=8,D6,D33)
A7: 200 | B7: 160 | C7: 160 | D7: =IF(AND(Bemessung!$C$127="Typ 1",Bemessung!$F$126=8),Schraubenlängen!A7,IF(AND(Bemessung!$C$127="Typ 2",Bemessung!$F$126=8),Schraubenlängen!B7,IF(AND(Bemessung!$C$127="Typ 3",Bemessung!$F$126=8),Schraubenlängen!C7,""))) | F7: =IF($F$2=8,D7,D34)
A8: 220 | B8: 180 | C8: 180 | D8: =IF(AND(Bemessung!$C$127="Typ 1",Bemessung!$F$126=8),Schraubenlängen!A8,IF(AND(Bemessung!$C$127="Typ 2",Bemessung!$F$126=8),Schraubenlängen!B8,IF(AND(Bemessung!$C$127="Typ 3",Bemessung!$F$126=8),Schraubenlängen!C8,""))) | F8: =IF($F$2=8,D8,D35)
A9: 240 | B9: 200 | C9: 200 | D9: =IF(AND(Bemessung!$C$127="Typ 1",Bemessung!$F$126=8),Schraubenlängen!A9,IF(AND(Bemessung!$C$127="Typ 2",Bemessung!$F$126=8),Schraubenlängen!B9,IF(AND(Bemessung!$C$127="Typ 3",Bemessung!$F$126=8),Schraubenlängen!C9,""))) | F9: =IF($F$2=8,D9,D36)
A10: 260 | B10: 220 | C10: 220 | D10: =IF(AND(Bemessung!$C$127="Typ 1",Bemessung!$F$126=8),Schraubenlängen!A10,IF(AND(Bemessung!$C$127="Typ 2",Bemessung!$F$126=8),Schraubenlängen!B10,IF(AND(Bemessung!$C$127="Typ 3",Bemessung!$F$126=8),Schraubenlängen!C10,""))) | F10: =IF($F$2=8,D10,D37)
A11: 280 | B11: 240 | C11: 240 | D11: =IF(AND(Bemessung!$C$127="Typ 1",Bemessung!$F$126=8),Schraubenlängen!A11,IF(AND(Bemessung!$C$127="Typ 2",Bemessung!$F$126=8),Schraubenlängen!B11,IF(AND(Bemessung!$C$127="Typ 3",Bemessung!$F$126=8),Schraubenlängen!C11,""))) | F11: =IF($F$2=8,D11,D38)
A12: 300 | B12: 260 | C12: 260 | D12: =IF(AND(Bemessung!$C$127="Typ 1",Bemessung!$F$126=8),Schraubenlängen!A12,IF(AND(Bemessung!$C$127="Typ 2",Bemessung!$F$126=8),Schraubenlängen!B12,IF(AND(Bemessung!$C$127="Typ 3",Bemessung!$F$126=8),Schraubenlängen!C12,""))) | F12: =IF($F$2=8,D12,D39)
A13: 330 | B13: 280 | C13: 280 | D13: =IF(AND(Bemessung!$C$127="Typ 1",Bemessung!$F$126=8),Schraubenlängen!A13,IF(AND(Bemessung!$C$127="Typ 2",Bemessung!$F$126=8),Schraubenlängen!B13,IF(AND(Bemessung!$C$127="Typ 3",Bemessung!$F$126=8),Schraubenlängen!C13,""))) | F13: =IF($F$2=8,D13,D40)
A14: 360 | B14: 300 | C14: 300 | D14: =IF(AND(Bemessung!$C$127="Typ 1",Bemessung!$F$126=8),Schraubenlängen!A14,IF(AND(Bemessung!$C$127="Typ 2",Bemessung!$F$126=8),Schraubenlängen!B14,IF(AND(Bemessung!$C$127="Typ 3",Bemessung!$F$126=8),Schraubenlängen!C14,""))) | F14: =IF($F$2=8,D14,D41)
A15: 380 | B15: 325 | C15: 350 | D15: =IF(AND(Bemessung!$C$127="Typ 1",Bemessung!$F$126=8),Schraubenlängen!A15,IF(AND(Bemessung!$C$127="Typ 2",Bemessung!$F$126=8),Schraubenlängen!B15,IF(AND(Bemessung!$C$127="Typ 3",Bemessung!$F$126=8),Schraubenlängen!C15,""))) | F15: =IF($F$2=8,D15,D42)
A16: 430 | B16: 350 | C16: 400 | D16: =IF(AND(Bemessung!$C$127="Typ 1",Bemessung!$F$126=8),Schraubenlängen!A16,IF(AND(Bemessung!$C$127="Typ 2",Bemessung!$F$126=8),Schraubenlängen!B16,IF(AND(Bemessung!$C$127="Typ 3",Bemessung!$F$126=8),Schraubenlängen!C16,""))) | F16: =IF($F$2=8,D16,D43)
... A20: 530 | B20: 500 | C20: 600 | D20: =IF(AND(Bemessung!$C$127="Typ 1",Bemessung!$F$126=8),Schraubenlängen!A20,IF(AND(Bemessung!$C$127="Typ 2",Bemessung!$F$126=8),Schraubenlängen!B20,IF(AND(Bemessung!$C$127="Typ 3",Bemessung!$F$126=8),Schraubenlängen!C20,""))) | F20: =IF($F$2=8,D20,D47)
A21: 580 | B21: 600 | D21: =IF(AND(Bemessung!$C$127="Typ 1",Bemessung!$F$126=8),Schraubenlängen!A21,IF(AND(Bemessung!$C$127="Typ 2",Bemessung!$F$126=8),Schraubenlängen!B21,IF(AND(Bemessung!$C$127="Typ 3",Bemessung!$F$126=8),Schraubenlängen!C21,""))) | F21: =IF($F$2=8,D21,D48)
F22: =IF($F$2=8,D22,D49)
F23: =IF($F$2=8,D23,D50)
F24: =IF($F$2=8,D28,D51)
F25: =IF($F$2=8,D29,D52)
A28: Schraubenlängen für Querzugverstärkung der Nebenträger mit
A29: 10 | B29: Schrauben
A30: Typ1 | B30: Typ 2 | C30: Typ 3 | D30: Auswahl
A31: Längen L [mm] | B31: Längen L [mm] | C31: Längen L [mm] | D31: Längen L [mm]
A32: 160 | B32: 120 | C32: 120 | D32: =IF(AND(Bemessung!$C$127="Typ 1",Bemessung!$F$126=10),Schraubenlängen!A32,IF(AND(Bemessung!$C$127="Typ 2",Bemessung!$F$126=10),Schraubenlängen!B32,IF(AND(Bemessung!$C$127="Typ 3",Bemessung!$F$126=10),Schraubenlängen!C32,"")))
A33: 180 | B33: 160 | C33: 160 | D33: =IF(AND(Bemessung!$C$127="Typ 1",Bemessung!$F$126=10),Schraubenlängen!A33,IF(AND(Bemessung!$C$127="Typ 2",Bemessung!$F$126=10),Schraubenlängen!B33,IF(AND(Bemessung!$C$127="Typ 3",Bemessung!$F$126=10),Schraubenlängen!C33,"")))
A34: 200 | B34: 180 | C34: 200 | D34: =IF(AND(Bemessung!$C$127="Typ 1",Bemessung!$F$126=10),Schraubenlängen!A34,IF(AND(Bemessung!$C$127="Typ 2",Bemessung!$F$126=10),Schraubenlängen!B34,IF(AND(Bemessung!$C$127="Typ 3",Bemessung!$F$126=10),Schraubenlängen!C34,"")))
A35: 220 | B35: 200 | C35: 220 | D35: =IF(AND(Bemessung!$C$127="Typ 1",Bemessung!$F$126=10),Schraubenlängen!A35,IF(AND(Bemessung!$C$127="Typ 2",Bemessung!$F$126=10),Schraubenlängen!B35,IF(AND(Bemessung!$C$127="Typ 3",Bemessung!$F$126=10),Schraubenlängen!C35,"")))
A36: 240 | B36: 220 | C36: 240 | D36: =IF(AND(Bemessung!$C$127="Typ 1",Bemessung!$F$126=10),Schraubenlängen!A36,IF(AND(Bemessung!$C$127="Typ 2",Bemessung!$F$126=10),Schraubenlängen!B36,IF(AND(Bemessung!$C$127="Typ 3",Bemessung!$F$126=10),Schraubenlängen!C36,"")))
A37: 260 | B37: 240 | C37: 260 | D37: =IF(AND(Bemessung!$C$127="Typ 1",Bemessung!$F$126=10),Schraubenlängen!A37,IF(AND(Bemessung!$C$127="Typ 2",Bemessung!$F$126=10),Schraubenlängen!B37,IF(AND(Bemessung!$C$127="Typ 3",Bemessung!$F$126=10),Schraubenlängen!C37,"")))
A38: 280 | B38: 260 | C38: 280 | D38: =IF(AND(Bemessung!$C$127="Typ 1",Bemessung!$F$126=10),Schraubenlängen!A38,IF(AND(Bemessung!$C$127="Typ 2",Bemessung!$F$126=10),Schraubenlängen!B38,IF(AND(Bemessung!$C$127="Typ 3",Bemessung!$F$126=10),Schraubenlängen!C38,"")))
A39: 300 | B39: 280 | C39: 300 | D39: =IF(AND(Bemessung!$C$127="Typ 1",Bemessung!$F$126=10),Schraubenlängen!A39,IF(AND(Bemessung!$C$127="Typ 2",Bemessung!$F$126=10),Schraubenlängen!B39,IF(AND(Bemessung!$C$127="Typ 3",Bemessung!$F$126=10),Schraubenlängen!C39,"")))
A40: 320 | B40: 300 | C40: 350 | D40: =IF(AND(Bemessung!$C$127="Typ 1",Bemessung!$F$126=10),Schraubenlängen!A40,IF(AND(Bemessung!$C$127="Typ 2",Bemessung!$F$126=10),Schraubenlängen!B40,IF(AND(Bemessung!$C$127="Typ 3",Bemessung!$F$126=10),Schraubenlängen!C40,"")))
A41: 340 | B41: 325 | C41: 400 | D41: =IF(AND(Bemessung!$C$127="Typ 1",Bemessung!$F$126=10),Schraubenlängen!A41,IF(AND(Bemessung!$C$127="Typ 2",Bemessung!$F$126=10),Schraubenlängen!B41,IF(AND(Bemessung!$C$127="Typ 3",Bemessung!$F$126=10),Schraubenlängen!C41,"")))
A42: 360 | B42: 350 | C42: 450 | D42: =IF(AND(Bemessung!$C$127="Typ 1",Bemessung!$F$126=10),Schraubenlängen!A42,IF(AND(Bemessung!$C$127="Typ 2",Bemessung!$F$126=10),Schraubenlängen!B42,IF(AND(Bemessung!$C$127="Typ 3",Bemessung!$F$126=10),Schraubenlängen!C42,"")))
A43: 380 | B43: 375 | C43: 500 | D43: =IF(AND(Bemessung!$C$127="Typ 1",Bemessung!$F$126=10),Schraubenlängen!A43,IF(AND(Bemessung!$C$127="Typ 2",Bemessung!$F$126=10),Schraubenlängen!B43,IF(AND(Bemessung!$C$127="Typ 3",Bemessung!$F$126=10),Schraubenlängen!C43,"")))
... A47: 530 | B47: 600 | C47: 800 | D47: =IF(AND(Bemessung!$C$127="Typ 1",Bemessung!$F$126=10),Schraubenlängen!A47,IF(AND(Bemessung!$C$127="Typ 2",Bemessung!$F$126=10),Schraubenlängen!B47,IF(AND(Bemessung!$C$127="Typ 3",Bemessung!$F$126=10),Schraubenlängen!C47,"")))
A48: 580 | B48: 700 | D48: =IF(AND(Bemessung!$C$127="Typ 1",Bemessung!$F$126=10),Schraubenlängen!A48,IF(AND(Bemessung!$C$127="Typ 2",Bemessung!$F$126=10),Schraubenlängen!B48,IF(AND(Bemessung!$C$127="Typ 3",Bemessung!$F$126=10),Schraubenlängen!C48,"")))
...
